BEGIN:VCALENDAR
VERSION:2.0
PRODID:-//Karlskrona Lyckå Ridklubb - ECPv6.15.12.2//NONSGML v1.0//EN
CALSCALE:GREGORIAN
METHOD:PUBLISH
X-WR-CALNAME:Karlskrona Lyckå Ridklubb
X-ORIGINAL-URL:https://www.klrk.se
X-WR-CALDESC:Händelser för Karlskrona Lyckå Ridklubb
REFRESH-INTERVAL;VALUE=DURATION:PT1H
X-Robots-Tag:noindex
X-PUBLISHED-TTL:PT1H
BEGIN:VTIMEZONE
TZID:Europe/Stockholm
BEGIN:DAYLIGHT
TZOFFSETFROM:+0100
TZOFFSETTO:+0200
TZNAME:CEST
DTSTART:20240331T010000
END:DAYLIGHT
BEGIN:STANDARD
TZOFFSETFROM:+0200
TZOFFSETTO:+0100
TZNAME:CET
DTSTART:20241027T010000
END:STANDARD
BEGIN:DAYLIGHT
TZOFFSETFROM:+0100
TZOFFSETTO:+0200
TZNAME:CEST
DTSTART:20250330T010000
END:DAYLIGHT
BEGIN:STANDARD
TZOFFSETFROM:+0200
TZOFFSETTO:+0100
TZNAME:CET
DTSTART:20251026T010000
END:STANDARD
BEGIN:DAYLIGHT
TZOFFSETFROM:+0100
TZOFFSETTO:+0200
TZNAME:CEST
DTSTART:20260329T010000
END:DAYLIGHT
BEGIN:STANDARD
TZOFFSETFROM:+0200
TZOFFSETTO:+0100
TZNAME:CET
DTSTART:20261025T010000
END:STANDARD
END:VTIMEZONE
BEGIN:VEVENT
DTSTART;TZID=Europe/Stockholm:20250412T090000
DTEND;TZID=Europe/Stockholm:20250412T120000
DTSTAMP:20260421T235907
CREATED:20250114T123848Z
LAST-MODIFIED:20250407T124005Z
UID:5941-1744448400-1744459200@www.klrk.se
SUMMARY:Arbetsdag för alla medlemmar!
DESCRIPTION:Nu är det dags för vårterminens arbetsdag! Vi samlas vid stora stenen/återsamlingsplatsen klockan 09.00 och får instruktioner och tilldelas arbetsuppgifter av Håkan som arbetsleder och planerar vår arbetsdag! Vid 12.00 avslutar vi arbetet och serveras varm korv med dryck och kaffe i kafeterian.\nArbetsuppgifter att göra på arbetsdagen eller innan/efter beroende på när man har tid:\n* Målning av staketbrädor\n* Bygga bänkar vid lilla paddocken\n* Rensa ogräs i paddockarna\n* Rensa ridvägen vid hagarna\n* Rensa grenar och sly i hagarna bakom stora ridhuset vid elstängselt\n* Generell rensning av ogräs och sly runt om anläggningen.\n\nTitta gärna i förväg på arbetsuppgifterna och ta med den utrustning du har hemma för att utföra dem. En viss mängd redskap finns att tillgå på klubben men det är ett begränsat antal. Ta även arbetshandskar med dig då det är mycket rensning som kan bli svårt utan handskar. \n\nBåde barn och vuxna kan hjälpa till men barnen behöver ha någon vuxen med sig. Alla behövs och det  finns uppgifter som passar alla – gammal som ung.\n\nSom vi påmint om förut om inför våra arbetsdagar så har vår klubb satt som mål att vi medlemmar INTE ska behöva sälja kakor\, bingolotter\, chips och strumpor. Istället lägger vi ett par timmar var och utför det arbete vi annars skulle köpt arbetskraft för med pengarna vi samlat in. Låt oss fortsätta så! =)
URL:https://www.klrk.se/event/arbetsdag-for-alla-medlemmar-2/
LOCATION:Karlskrona Lyckå Ridklubb\, Afvelsgärdevägen 27\, Karlskrona\, Sweden
CATEGORIES:Gemenskap
ORGANIZER;CN="Karlskrona Lyck%C3%A5 Ridklubbs anl%C3%A4ggningsgrupp":MAILTO:styrelsen
END:VEVENT
END:VCALENDAR