BEGIN:VCALENDAR
VERSION:2.0
PRODID:-//Karlskrona Lyckå Ridklubb - ECPv6.15.12.2//NONSGML v1.0//EN
CALSCALE:GREGORIAN
METHOD:PUBLISH
X-ORIGINAL-URL:https://www.klrk.se
X-WR-CALDESC:Händelser för Karlskrona Lyckå Ridklubb
REFRESH-INTERVAL;VALUE=DURATION:PT1H
X-Robots-Tag:noindex
X-PUBLISHED-TTL:PT1H
BEGIN:VTIMEZONE
TZID:Europe/Stockholm
BEGIN:DAYLIGHT
TZOFFSETFROM:+0100
TZOFFSETTO:+0200
TZNAME:CEST
DTSTART:20240331T010000
END:DAYLIGHT
BEGIN:STANDARD
TZOFFSETFROM:+0200
TZOFFSETTO:+0100
TZNAME:CET
DTSTART:20241027T010000
END:STANDARD
BEGIN:DAYLIGHT
TZOFFSETFROM:+0100
TZOFFSETTO:+0200
TZNAME:CEST
DTSTART:20250330T010000
END:DAYLIGHT
BEGIN:STANDARD
TZOFFSETFROM:+0200
TZOFFSETTO:+0100
TZNAME:CET
DTSTART:20251026T010000
END:STANDARD
BEGIN:DAYLIGHT
TZOFFSETFROM:+0100
TZOFFSETTO:+0200
TZNAME:CEST
DTSTART:20260329T010000
END:DAYLIGHT
BEGIN:STANDARD
TZOFFSETFROM:+0200
TZOFFSETTO:+0100
TZNAME:CET
DTSTART:20261025T010000
END:STANDARD
END:VTIMEZONE
BEGIN:VEVENT
DTSTART;TZID=Europe/Stockholm:20250524T110000
DTEND;TZID=Europe/Stockholm:20250524T140000
DTSTAMP:20260421T195633
CREATED:20250407T123451Z
LAST-MODIFIED:20250523T223509Z
UID:6477-1748084400-1748095200@www.klrk.se
SUMMARY:INSTÄLLT! Vårdag med öppet hus 24 maj 11.00-14.00!
DESCRIPTION:Det har blivit tradition att klubben slår upp portarna och välkomnar medlemmar att ta med släkt och vänner på Vårdag med öppet hus! \nDagen bjuder: \n\nponnyridning\nloppis\ntipsrunda\nlyckohjul\nansiktsmålning\npysselstuga\nfikaförsäljning\nkäpphästhoppning\noch mycket mer!\n\nFri entré och öppet för alla – medlem eller ej!
URL:https://www.klrk.se/event/vardag-med-oppet-hus/
LOCATION:Karlskrona Lyckå Ridklubb\, Afvelsgärdevägen 27\, Karlskrona\, Sweden
CATEGORIES:Gemenskap
ORGANIZER;CN="Karlskrona Lyck%C3%A5 Ridklubbs Ungdomsstyrelse US":MAILTO:us@klrk.se
END:VEVENT
END:VCALENDAR