BEGIN:VCALENDAR
VERSION:2.0
PRODID:-//Karlskrona Lyckå Ridklubb - ECPv6.15.12.2//NONSGML v1.0//EN
CALSCALE:GREGORIAN
METHOD:PUBLISH
X-ORIGINAL-URL:https://www.klrk.se
X-WR-CALDESC:Händelser för Karlskrona Lyckå Ridklubb
REFRESH-INTERVAL;VALUE=DURATION:PT1H
X-Robots-Tag:noindex
X-PUBLISHED-TTL:PT1H
BEGIN:VTIMEZONE
TZID:Europe/Stockholm
BEGIN:DAYLIGHT
TZOFFSETFROM:+0100
TZOFFSETTO:+0200
TZNAME:CEST
DTSTART:20240331T010000
END:DAYLIGHT
BEGIN:STANDARD
TZOFFSETFROM:+0200
TZOFFSETTO:+0100
TZNAME:CET
DTSTART:20241027T010000
END:STANDARD
BEGIN:DAYLIGHT
TZOFFSETFROM:+0100
TZOFFSETTO:+0200
TZNAME:CEST
DTSTART:20250330T010000
END:DAYLIGHT
BEGIN:STANDARD
TZOFFSETFROM:+0200
TZOFFSETTO:+0100
TZNAME:CET
DTSTART:20251026T010000
END:STANDARD
BEGIN:DAYLIGHT
TZOFFSETFROM:+0100
TZOFFSETTO:+0200
TZNAME:CEST
DTSTART:20260329T010000
END:DAYLIGHT
BEGIN:STANDARD
TZOFFSETFROM:+0200
TZOFFSETTO:+0100
TZNAME:CET
DTSTART:20261025T010000
END:STANDARD
END:VTIMEZONE
BEGIN:VEVENT
DTSTART;TZID=Europe/Stockholm:20250701T100000
DTEND;TZID=Europe/Stockholm:20250701T113000
DTSTAMP:20260419T141905
CREATED:20250623T135452Z
LAST-MODIFIED:20250623T135452Z
UID:6968-1751364000-1751369400@www.klrk.se
SUMMARY:Hoppkurs-ridskolan
DESCRIPTION:Ridskolan har ridning för kursdeltagare på hoppkursen. Den hålls på stora utebanan men vid dåligt väder flyttas den in i stora ridhuset.
URL:https://www.klrk.se/event/hoppkurs-ridskolan-4/
LOCATION:Karlskrona Lyckå Ridklubbs stora utebana
CATEGORIES:Kurs
END:VEVENT
BEGIN:VEVENT
DTSTART;TZID=Europe/Stockholm:20250702T180000
DTEND;TZID=Europe/Stockholm:20250702T193000
DTSTAMP:20260419T141905
CREATED:20250623T140453Z
LAST-MODIFIED:20250623T140453Z
UID:6978-1751479200-1751484600@www.klrk.se
SUMMARY:Dressyr/kavaletti-kurs
DESCRIPTION:Ridskolan har ridning för kursdeltagarna i Stora ridhuset. Vid bra väder flyttas den ut till stora paddocken.
URL:https://www.klrk.se/event/dressyr-kavaletti-kurs/
LOCATION:Karlskrona Lyckå Ridklubbs stora ridhus\, Afvelsgärdevägen 27\, Karlskrona
CATEGORIES:Kurs
END:VEVENT
BEGIN:VEVENT
DTSTART;TZID=Europe/Stockholm:20250703T180000
DTEND;TZID=Europe/Stockholm:20250703T193000
DTSTAMP:20260419T141905
CREATED:20250623T140553Z
LAST-MODIFIED:20250623T140553Z
UID:6980-1751565600-1751571000@www.klrk.se
SUMMARY:Dressyr/kavalettikurs
DESCRIPTION:Ridskolan har ridning för kursdeltagarna i Stora ridhuset. Vid bra väder flyttas den ut till stora paddocken.
URL:https://www.klrk.se/event/dressyr-kavalettikurs/
LOCATION:Karlskrona Lyckå Ridklubbs stora ridhus\, Afvelsgärdevägen 27\, Karlskrona
CATEGORIES:Kurs
END:VEVENT
END:VCALENDAR