BEGIN:VCALENDAR
VERSION:2.0
PRODID:-//Karlskrona Lyckå Ridklubb - ECPv6.15.12.2//NONSGML v1.0//EN
CALSCALE:GREGORIAN
METHOD:PUBLISH
X-WR-CALNAME:Karlskrona Lyckå Ridklubb
X-ORIGINAL-URL:https://www.klrk.se
X-WR-CALDESC:Händelser för Karlskrona Lyckå Ridklubb
REFRESH-INTERVAL;VALUE=DURATION:PT1H
X-Robots-Tag:noindex
X-PUBLISHED-TTL:PT1H
BEGIN:VTIMEZONE
TZID:Europe/Stockholm
BEGIN:DAYLIGHT
TZOFFSETFROM:+0100
TZOFFSETTO:+0200
TZNAME:CEST
DTSTART:20240331T010000
END:DAYLIGHT
BEGIN:STANDARD
TZOFFSETFROM:+0200
TZOFFSETTO:+0100
TZNAME:CET
DTSTART:20241027T010000
END:STANDARD
BEGIN:DAYLIGHT
TZOFFSETFROM:+0100
TZOFFSETTO:+0200
TZNAME:CEST
DTSTART:20250330T010000
END:DAYLIGHT
BEGIN:STANDARD
TZOFFSETFROM:+0200
TZOFFSETTO:+0100
TZNAME:CET
DTSTART:20251026T010000
END:STANDARD
BEGIN:DAYLIGHT
TZOFFSETFROM:+0100
TZOFFSETTO:+0200
TZNAME:CEST
DTSTART:20260329T010000
END:DAYLIGHT
BEGIN:STANDARD
TZOFFSETFROM:+0200
TZOFFSETTO:+0100
TZNAME:CET
DTSTART:20261025T010000
END:STANDARD
END:VTIMEZONE
BEGIN:VEVENT
DTSTART;TZID=Europe/Stockholm:20250314T103000
DTEND;TZID=Europe/Stockholm:20250314T120000
DTSTAMP:20260422T051817
CREATED:20250220T140254Z
LAST-MODIFIED:20250220T140254Z
UID:6274-1741948200-1741953600@www.klrk.se
SUMMARY:Alette-träning
DESCRIPTION:Alette-träning i Stora ridhuset för privata ekipage.
URL:https://www.klrk.se/event/alette-traning-4/
LOCATION:Karlskrona Lyckå Ridklubbs stora ridhus\, Afvelsgärdevägen 27\, Karlskrona
CATEGORIES:Träning
END:VEVENT
BEGIN:VEVENT
DTSTART;TZID=Europe/Stockholm:20250315T123000
DTEND;TZID=Europe/Stockholm:20250315T210000
DTSTAMP:20260422T051817
CREATED:20250217T142739Z
LAST-MODIFIED:20250217T142739Z
UID:6255-1742041800-1742072400@www.klrk.se
SUMMARY:Nina-träning
DESCRIPTION:Dressyrträning för alla privata hästekipage. Se Facebook för vidare info och anmälan (KLRK Nina-träning).
URL:https://www.klrk.se/event/nina-traning-7/
CATEGORIES:Träning
END:VEVENT
END:VCALENDAR