BEGIN:VCALENDAR
VERSION:2.0
PRODID:-//Karlskrona Lyckå Ridklubb - ECPv6.15.12.2//NONSGML v1.0//EN
CALSCALE:GREGORIAN
METHOD:PUBLISH
X-WR-CALNAME:Karlskrona Lyckå Ridklubb
X-ORIGINAL-URL:https://www.klrk.se
X-WR-CALDESC:Händelser för Karlskrona Lyckå Ridklubb
REFRESH-INTERVAL;VALUE=DURATION:PT1H
X-Robots-Tag:noindex
X-PUBLISHED-TTL:PT1H
BEGIN:VTIMEZONE
TZID:Europe/Stockholm
BEGIN:DAYLIGHT
TZOFFSETFROM:+0100
TZOFFSETTO:+0200
TZNAME:CEST
DTSTART:20240331T010000
END:DAYLIGHT
BEGIN:STANDARD
TZOFFSETFROM:+0200
TZOFFSETTO:+0100
TZNAME:CET
DTSTART:20241027T010000
END:STANDARD
BEGIN:DAYLIGHT
TZOFFSETFROM:+0100
TZOFFSETTO:+0200
TZNAME:CEST
DTSTART:20250330T010000
END:DAYLIGHT
BEGIN:STANDARD
TZOFFSETFROM:+0200
TZOFFSETTO:+0100
TZNAME:CET
DTSTART:20251026T010000
END:STANDARD
BEGIN:DAYLIGHT
TZOFFSETFROM:+0100
TZOFFSETTO:+0200
TZNAME:CEST
DTSTART:20260329T010000
END:DAYLIGHT
BEGIN:STANDARD
TZOFFSETFROM:+0200
TZOFFSETTO:+0100
TZNAME:CET
DTSTART:20261025T010000
END:STANDARD
END:VTIMEZONE
BEGIN:VEVENT
DTSTART;TZID=Europe/Stockholm:20250405T123000
DTEND;TZID=Europe/Stockholm:20250405T210000
DTSTAMP:20260422T003825
CREATED:20250217T143002Z
LAST-MODIFIED:20250217T143002Z
UID:6257-1743856200-1743886800@www.klrk.se
SUMMARY:Nina-träning
DESCRIPTION:Dressyrträning för alla privata ekipage. Se Facebook för vidare info. (KLRK-Nina träning)
URL:https://www.klrk.se/event/nina-traning-12/
LOCATION:Karlskrona Lyckå Ridklubbs stora ridhus\, Afvelsgärdevägen 27\, Karlskrona
CATEGORIES:Träning
END:VEVENT
BEGIN:VEVENT
DTSTART;TZID=Europe/Stockholm:20250413T090000
DTEND;TZID=Europe/Stockholm:20250413T120000
DTSTAMP:20260422T003825
CREATED:20250404T110624Z
LAST-MODIFIED:20250407T124023Z
UID:6474-1744534800-1744545600@www.klrk.se
SUMMARY:Löshoppning
DESCRIPTION:För alla medlemmar med privathäst/ponny.
URL:https://www.klrk.se/event/loshoppning-5/
LOCATION:Karlskrona Lyckå ridklubbs lilla ridhus\, Afvelsgärdevägen 27\, Karlskrona
CATEGORIES:Träning
END:VEVENT
BEGIN:VEVENT
DTSTART;TZID=Europe/Stockholm:20250425T090000
DTEND;TZID=Europe/Stockholm:20250425T130000
DTSTAMP:20260422T003825
CREATED:20250404T105953Z
LAST-MODIFIED:20250404T105953Z
UID:6472-1745571600-1745586000@www.klrk.se
SUMMARY:Dressyrträning för Alette
DESCRIPTION:För privata ekipage och ridskolans personal.
URL:https://www.klrk.se/event/dressyrtraning-for-alette/
LOCATION:Karlskrona Lyckå Ridklubbs stora ridhus\, Afvelsgärdevägen 27\, Karlskrona
CATEGORIES:Träning
END:VEVENT
BEGIN:VEVENT
DTSTART;TZID=Europe/Stockholm:20250425T170000
DTEND;TZID=Europe/Stockholm:20250425T233000
DTSTAMP:20260422T003825
CREATED:20250409T142541Z
LAST-MODIFIED:20250409T142541Z
UID:6524-1745600400-1745623800@www.klrk.se
SUMMARY:Banbyggnad!
DESCRIPTION:Banbyggnation inför öppen bana. Alla är välkomna att hjälpa till. Banan är stängd efter att hindren är uppställda.
URL:https://www.klrk.se/event/banbyggnad-2/
LOCATION:Karlskrona Lyckå Ridklubbs stora utebana
CATEGORIES:Träning
ORGANIZER;CN="T%C3%A4vlings- och ryttarsektionen":MAILTO:tavlingar@klrk.se
END:VEVENT
BEGIN:VEVENT
DTSTART;TZID=Europe/Stockholm:20250426T070000
DTEND;TZID=Europe/Stockholm:20250427T170000
DTSTAMP:20260422T003825
CREATED:20250409T142233Z
LAST-MODIFIED:20250410T173845Z
UID:6522-1745650800-1745773200@www.klrk.se
SUMMARY:Öppen bana- Hoppning!
DESCRIPTION:Välkommen på Öppen bana! \nDen 26–27/4 hälsar vi alla ryttare\, stora som små\, varmt välkomna till vår fina utebana. Ett utmärkt tillfälle att komma iväg och hoppa bana av tävlingskaraktär över våra fina hinder. \nKostnad per ryttare är 150 kr för medlem och 200 kr för icke medlem\, då har du tillgång till banan i 30 min. Samma ryttare får rida olika hästar under sin bokade tid. Använder flera ekipage banan under samma tid betalar varje ryttare 150 kr alternativt 200 kr. \nAnmälning sker via bokningslänken nedan. Betalning görs via Swish till 1 230 450 569 senast den dag då du har din bokade tid\, märk betalningen med ”Öppen bana” + ”Ditt namn”. Skicka också en skärmdump på genomförd betalning till 0734-27 25 71. \nMöjlighet till framridning finns utomhus i den lilla paddocken. \nAll ridning sker på egen risk\, glöm inte att mocka efter er häst. Höjning och sänkning sköter man själv men lämna/återställ banan som den var. \nVid frågor kontakta Matilda Svensson 0734–27 25 71 eller Marie Sellberg 0708–93 47 63. \nHoppas du och din häst får en trevlig stund hos oss! \nHär hittar du bokningssidan: https://www.edibooking.com/karlskrona-lycka-ridklubb
URL:https://www.klrk.se/event/oppen-bana-hoppning-6/
LOCATION:Karlskrona Lyckå Ridklubbs stora utebana
CATEGORIES:Träning
ORGANIZER;CN="T%C3%A4vlings- och ryttarsektionen":MAILTO:tavlingar@klrk.se
END:VEVENT
BEGIN:VEVENT
DTSTART;TZID=Europe/Stockholm:20250427T080000
DTEND;TZID=Europe/Stockholm:20250427T130000
DTSTAMP:20260422T003825
CREATED:20250325T154249Z
LAST-MODIFIED:20250325T154249Z
UID:6377-1745740800-1745758800@www.klrk.se
SUMMARY:WE-träning
DESCRIPTION:Träning för privata ekipage i Working Equitation med Lisa Gustavsson. Anmälan via Facebook.
URL:https://www.klrk.se/event/we-traning-5/
LOCATION:Karlskrona Lyckå Ridklubbs stora ridhus\, Afvelsgärdevägen 27\, Karlskrona
CATEGORIES:Träning
END:VEVENT
END:VCALENDAR