BEGIN:VCALENDAR
VERSION:2.0
PRODID:-//Karlskrona Lyckå Ridklubb - ECPv6.15.12.2//NONSGML v1.0//EN
CALSCALE:GREGORIAN
METHOD:PUBLISH
X-ORIGINAL-URL:https://www.klrk.se
X-WR-CALDESC:Händelser för Karlskrona Lyckå Ridklubb
REFRESH-INTERVAL;VALUE=DURATION:PT1H
X-Robots-Tag:noindex
X-PUBLISHED-TTL:PT1H
BEGIN:VTIMEZONE
TZID:Europe/Stockholm
BEGIN:DAYLIGHT
TZOFFSETFROM:+0100
TZOFFSETTO:+0200
TZNAME:CEST
DTSTART:20240331T010000
END:DAYLIGHT
BEGIN:STANDARD
TZOFFSETFROM:+0200
TZOFFSETTO:+0100
TZNAME:CET
DTSTART:20241027T010000
END:STANDARD
BEGIN:DAYLIGHT
TZOFFSETFROM:+0100
TZOFFSETTO:+0200
TZNAME:CEST
DTSTART:20250330T010000
END:DAYLIGHT
BEGIN:STANDARD
TZOFFSETFROM:+0200
TZOFFSETTO:+0100
TZNAME:CET
DTSTART:20251026T010000
END:STANDARD
BEGIN:DAYLIGHT
TZOFFSETFROM:+0100
TZOFFSETTO:+0200
TZNAME:CEST
DTSTART:20260329T010000
END:DAYLIGHT
BEGIN:STANDARD
TZOFFSETFROM:+0200
TZOFFSETTO:+0100
TZNAME:CET
DTSTART:20261025T010000
END:STANDARD
END:VTIMEZONE
BEGIN:VEVENT
DTSTART;TZID=Europe/Stockholm:20250510T113000
DTEND;TZID=Europe/Stockholm:20250510T150000
DTSTAMP:20260421T205704
CREATED:20250217T143250Z
LAST-MODIFIED:20250506T111946Z
UID:6259-1746876600-1746889200@www.klrk.se
SUMMARY:Nina-träning
DESCRIPTION:Dressyrträning för alla privata ekipage. Se mer info på Facebook (KLRK-Nina träning)
URL:https://www.klrk.se/event/nina-traning-13/
LOCATION:Karlskrona Lyckå ridklubbs lilla ridhus\, Afvelsgärdevägen 27\, Karlskrona
CATEGORIES:Träning
END:VEVENT
BEGIN:VEVENT
DTSTART;TZID=Europe/Stockholm:20250510T143000
DTEND;TZID=Europe/Stockholm:20250510T200000
DTSTAMP:20260421T205704
CREATED:20250217T143448Z
LAST-MODIFIED:20250217T143448Z
UID:6261-1746887400-1746907200@www.klrk.se
SUMMARY:Nina-träning
DESCRIPTION:Dressyrträning för alla privata ekipage.
URL:https://www.klrk.se/event/nina-traning-14/
LOCATION:Karlskrona Lyckå Ridklubbs stora ridhus\, Afvelsgärdevägen 27\, Karlskrona
CATEGORIES:Träning
END:VEVENT
BEGIN:VEVENT
DTSTART;TZID=Europe/Stockholm:20250519T143000
DTEND;TZID=Europe/Stockholm:20250519T220000
DTSTAMP:20260421T205704
CREATED:20250507T183745Z
LAST-MODIFIED:20250507T183745Z
UID:6786-1747665000-1747692000@www.klrk.se
SUMMARY:Hoppträning-Niclas Haking
DESCRIPTION:Hoppträning för alla med egen häst eller ponny. För att anmäla håll utkik på webbplatsen och sociala medier.
URL:https://www.klrk.se/event/hopptraning-niclas-haking/
LOCATION:Karlskrona Lyckå Ridklubbs stora utebana
CATEGORIES:Träning
END:VEVENT
BEGIN:VEVENT
DTSTART;TZID=Europe/Stockholm:20250526T173000
DTEND;TZID=Europe/Stockholm:20250526T213000
DTSTAMP:20260421T205704
CREATED:20250525T084300Z
LAST-MODIFIED:20250525T084300Z
UID:6859-1748280600-1748295000@www.klrk.se
SUMMARY:Hoppträning för Camilla!
DESCRIPTION:Hoppträning för Camilla Sjöqvist för dig med egen häst/ponny. Anmälan sker via FB-gruppen: KLRK Hoppträning för Camilla Sjöqvist.
URL:https://www.klrk.se/event/hopptraning-for-camilla/
LOCATION:Karlskrona Lyckå Ridklubbs stora utebana
CATEGORIES:Träning
END:VEVENT
END:VCALENDAR