BEGIN:VCALENDAR
VERSION:2.0
PRODID:-//Karlskrona Lyckå Ridklubb - ECPv6.15.12.2//NONSGML v1.0//EN
CALSCALE:GREGORIAN
METHOD:PUBLISH
X-ORIGINAL-URL:https://www.klrk.se
X-WR-CALDESC:Händelser för Karlskrona Lyckå Ridklubb
REFRESH-INTERVAL;VALUE=DURATION:PT1H
X-Robots-Tag:noindex
X-PUBLISHED-TTL:PT1H
BEGIN:VTIMEZONE
TZID:Europe/Stockholm
BEGIN:DAYLIGHT
TZOFFSETFROM:+0100
TZOFFSETTO:+0200
TZNAME:CEST
DTSTART:20240331T010000
END:DAYLIGHT
BEGIN:STANDARD
TZOFFSETFROM:+0200
TZOFFSETTO:+0100
TZNAME:CET
DTSTART:20241027T010000
END:STANDARD
BEGIN:DAYLIGHT
TZOFFSETFROM:+0100
TZOFFSETTO:+0200
TZNAME:CEST
DTSTART:20250330T010000
END:DAYLIGHT
BEGIN:STANDARD
TZOFFSETFROM:+0200
TZOFFSETTO:+0100
TZNAME:CET
DTSTART:20251026T010000
END:STANDARD
BEGIN:DAYLIGHT
TZOFFSETFROM:+0100
TZOFFSETTO:+0200
TZNAME:CEST
DTSTART:20260329T010000
END:DAYLIGHT
BEGIN:STANDARD
TZOFFSETFROM:+0200
TZOFFSETTO:+0100
TZNAME:CET
DTSTART:20261025T010000
END:STANDARD
END:VTIMEZONE
BEGIN:VEVENT
DTSTART;TZID=Europe/Stockholm:20250714T143000
DTEND;TZID=Europe/Stockholm:20250714T220000
DTSTAMP:20260421T131914
CREATED:20250507T184654Z
LAST-MODIFIED:20250507T184654Z
UID:6792-1752503400-1752530400@www.klrk.se
SUMMARY:Hoppträning-Niclas Haking
DESCRIPTION:Hoppträning för dig med egen häst eller ponny. Håll utkik på våran webbplats och sociala medier för att anmäla.
URL:https://www.klrk.se/event/hopptraning-niclas-haking-4/
LOCATION:Karlskrona Lyckå Ridklubbs stora utebana
CATEGORIES:Träning
END:VEVENT
BEGIN:VEVENT
DTSTART;TZID=Europe/Stockholm:20250715T160000
DTEND;TZID=Europe/Stockholm:20250715T213000
DTSTAMP:20260421T131914
CREATED:20250714T065959Z
LAST-MODIFIED:20250714T065959Z
UID:7017-1752595200-1752615000@www.klrk.se
SUMMARY:Hoppträning Camilla Sjöqvist
DESCRIPTION:För alla med egen häst/ponny. Anmälan via Facebookgruppen ”KLRK hoppträning Camilla Sjökvist”.
URL:https://www.klrk.se/event/hopptraning-camilla-sjoqvist-2/
LOCATION:Karlskrona Lyckå Ridklubbs stora utebana
CATEGORIES:Träning
END:VEVENT
BEGIN:VEVENT
DTSTART;TZID=Europe/Stockholm:20250718T070000
DTEND;TZID=Europe/Stockholm:20250720T170000
DTSTAMP:20260421T131914
CREATED:20250622T201559Z
LAST-MODIFIED:20250622T201559Z
UID:6930-1752822000-1753030800@www.klrk.se
SUMMARY:Öppen bana – Dressyr
DESCRIPTION:
URL:https://www.klrk.se/event/oppen-bana-dressyr-5/
LOCATION:Karlskrona Lyckå Ridklubbs stora utebana
CATEGORIES:Tävling,Träning
ORGANIZER;CN="T%C3%A4vlings- och ryttarsektionen":MAILTO:tavlingar@klrk.se
END:VEVENT
BEGIN:VEVENT
DTSTART;TZID=Europe/Stockholm:20250725T070000
DTEND;TZID=Europe/Stockholm:20250727T170000
DTSTAMP:20260421T131914
CREATED:20250622T201707Z
LAST-MODIFIED:20250622T201707Z
UID:6932-1753426800-1753635600@www.klrk.se
SUMMARY:Öppen bana – WE
DESCRIPTION:
URL:https://www.klrk.se/event/oppen-bana-we/
LOCATION:Karlskrona Lyckå Ridklubbs stora utebana
CATEGORIES:Tävling,Träning
ORGANIZER;CN="T%C3%A4vlings- och ryttarsektionen":MAILTO:tavlingar@klrk.se
END:VEVENT
BEGIN:VEVENT
DTSTART;TZID=Europe/Stockholm:20250728T143000
DTEND;TZID=Europe/Stockholm:20250728T220000
DTSTAMP:20260421T131915
CREATED:20250507T184747Z
LAST-MODIFIED:20250507T184747Z
UID:6794-1753713000-1753740000@www.klrk.se
SUMMARY:Hoppträning-Niclas Haking
DESCRIPTION:Hoppträning för dig med egen häst eller ponny. Håll utkik på våran webbplats och sociala medier för att anmäla.
URL:https://www.klrk.se/event/hopptraning-niclas-haking-5/
LOCATION:Karlskrona Lyckå Ridklubbs stora utebana
CATEGORIES:Träning
END:VEVENT
BEGIN:VEVENT
DTSTART;TZID=Europe/Stockholm:20250730T070000
DTEND;TZID=Europe/Stockholm:20250803T170000
DTSTAMP:20260421T131915
CREATED:20250622T201808Z
LAST-MODIFIED:20250622T201808Z
UID:6934-1753858800-1754240400@www.klrk.se
SUMMARY:Öppen bana - Hoppning
DESCRIPTION:
URL:https://www.klrk.se/event/oppen-bana-hoppning-8/
LOCATION:Karlskrona Lyckå Ridklubbs stora utebana
CATEGORIES:Tävling,Träning
ORGANIZER;CN="T%C3%A4vlings- och ryttarsektionen":MAILTO:tavlingar@klrk.se
END:VEVENT
END:VCALENDAR