BEGIN:VCALENDAR
VERSION:2.0
PRODID:-//Karlskrona Lyckå Ridklubb - ECPv6.15.12.2//NONSGML v1.0//EN
CALSCALE:GREGORIAN
METHOD:PUBLISH
X-ORIGINAL-URL:https://www.klrk.se
X-WR-CALDESC:Händelser för Karlskrona Lyckå Ridklubb
REFRESH-INTERVAL;VALUE=DURATION:PT1H
X-Robots-Tag:noindex
X-PUBLISHED-TTL:PT1H
BEGIN:VTIMEZONE
TZID:Europe/Stockholm
BEGIN:DAYLIGHT
TZOFFSETFROM:+0100
TZOFFSETTO:+0200
TZNAME:CEST
DTSTART:20250330T010000
END:DAYLIGHT
BEGIN:STANDARD
TZOFFSETFROM:+0200
TZOFFSETTO:+0100
TZNAME:CET
DTSTART:20251026T010000
END:STANDARD
BEGIN:DAYLIGHT
TZOFFSETFROM:+0100
TZOFFSETTO:+0200
TZNAME:CEST
DTSTART:20260329T010000
END:DAYLIGHT
BEGIN:STANDARD
TZOFFSETFROM:+0200
TZOFFSETTO:+0100
TZNAME:CET
DTSTART:20261025T010000
END:STANDARD
BEGIN:DAYLIGHT
TZOFFSETFROM:+0100
TZOFFSETTO:+0200
TZNAME:CEST
DTSTART:20270328T010000
END:DAYLIGHT
BEGIN:STANDARD
TZOFFSETFROM:+0200
TZOFFSETTO:+0100
TZNAME:CET
DTSTART:20271031T010000
END:STANDARD
END:VTIMEZONE
BEGIN:VEVENT
DTSTART;TZID=Europe/Stockholm:20260109T083000
DTEND;TZID=Europe/Stockholm:20260109T123000
DTSTAMP:20260420T123742
CREATED:20260108T115712Z
LAST-MODIFIED:20260108T115712Z
UID:7698-1767947400-1767961800@www.klrk.se
SUMMARY:Alette-träning
DESCRIPTION:Anmälan via FB.
URL:https://www.klrk.se/event/alette-traning-3/
LOCATION:Karlskrona Lyckå Ridklubbs stora ridhus\, Afvelsgärdevägen 27\, Karlskrona
CATEGORIES:Träning
END:VEVENT
BEGIN:VEVENT
DTSTART;TZID=Europe/Stockholm:20260124T160000
DTEND;TZID=Europe/Stockholm:20260124T233000
DTSTAMP:20260420T123742
CREATED:20260123T091511Z
LAST-MODIFIED:20260123T091511Z
UID:7874-1769270400-1769297400@www.klrk.se
SUMMARY:Banbyggnad inför Pay & Jump
DESCRIPTION:Vi träffas i Stora ridhuset och bygger banan inför söndagens Pay & Jump. Alla är varmt välkomna att hjälpa till! \nNär banan är byggd är det inte tillåtet att rida eller longera i ridhuset\, vänligen respektera detta.
URL:https://www.klrk.se/event/banbyggnad-infor-pay-jump/
LOCATION:Karlskrona Lyckå Ridklubbs stora ridhus\, Afvelsgärdevägen 27\, Karlskrona
CATEGORIES:Tävling,Träning
ORGANIZER;CN="T%C3%A4vlings- och ryttarsektionen":MAILTO:tavlingar@klrk.se
END:VEVENT
END:VCALENDAR