BEGIN:VCALENDAR
VERSION:2.0
PRODID:-//Karlskrona Lyckå Ridklubb - ECPv6.15.12.2//NONSGML v1.0//EN
CALSCALE:GREGORIAN
METHOD:PUBLISH
X-WR-CALNAME:Karlskrona Lyckå Ridklubb
X-ORIGINAL-URL:https://www.klrk.se
X-WR-CALDESC:Händelser för Karlskrona Lyckå Ridklubb
REFRESH-INTERVAL;VALUE=DURATION:PT1H
X-Robots-Tag:noindex
X-PUBLISHED-TTL:PT1H
BEGIN:VTIMEZONE
TZID:Europe/Stockholm
BEGIN:DAYLIGHT
TZOFFSETFROM:+0100
TZOFFSETTO:+0200
TZNAME:CEST
DTSTART:20240331T010000
END:DAYLIGHT
BEGIN:STANDARD
TZOFFSETFROM:+0200
TZOFFSETTO:+0100
TZNAME:CET
DTSTART:20241027T010000
END:STANDARD
BEGIN:DAYLIGHT
TZOFFSETFROM:+0100
TZOFFSETTO:+0200
TZNAME:CEST
DTSTART:20250330T010000
END:DAYLIGHT
BEGIN:STANDARD
TZOFFSETFROM:+0200
TZOFFSETTO:+0100
TZNAME:CET
DTSTART:20251026T010000
END:STANDARD
BEGIN:DAYLIGHT
TZOFFSETFROM:+0100
TZOFFSETTO:+0200
TZNAME:CEST
DTSTART:20260329T010000
END:DAYLIGHT
BEGIN:STANDARD
TZOFFSETFROM:+0200
TZOFFSETTO:+0100
TZNAME:CET
DTSTART:20261025T010000
END:STANDARD
END:VTIMEZONE
BEGIN:VEVENT
DTSTART;TZID=Europe/Stockholm:20250501T070000
DTEND;TZID=Europe/Stockholm:20250501T170000
DTSTAMP:20260419T141740
CREATED:20250311T150149Z
LAST-MODIFIED:20250311T150149Z
UID:6328-1746082800-1746118800@www.klrk.se
SUMMARY:Hopptävling!
DESCRIPTION:Hopptävling på anläggningen. Hela anläggningen bokad!
URL:https://www.klrk.se/event/hopptavling-2/
LOCATION:Karlskrona Lyckå Ridklubb\, Afvelsgärdevägen 27\, Karlskrona\, Sweden
CATEGORIES:Tävling
END:VEVENT
BEGIN:VEVENT
DTSTART;VALUE=DATE:20250502
DTEND;VALUE=DATE:20250503
DTSTAMP:20260419T141740
CREATED:20250410T174034Z
LAST-MODIFIED:20250410T174034Z
UID:6531-1746144000-1746230399@www.klrk.se
SUMMARY:Öppen bana – Hoppning!
DESCRIPTION:Välkommen på Öppen bana! \nDen 2/5 hälsar vi alla ryttare\, stora som små\, varmt välkomna till vår fina utebana. Ett utmärkt tillfälle att komma iväg och hoppa bana av tävlingskaraktär över våra fina hinder. \nKostnad per ryttare är 150 kr för medlem och 200 kr för icke medlem\, då har du tillgång till banan i 30 min. Samma ryttare får rida olika hästar under sin bokade tid. Använder flera ekipage banan under samma tid betalar varje ryttare 150 kr alternativt 200 kr. \nAnmälning sker via bokningslänken nedan. Betalning görs via Swish till 1 230 450 569 senast den dag då du har din bokade tid\, märk betalningen med ”Öppen bana” + ”Ditt namn”. Skicka också en skärmdump på genomförd betalning till 0734-27 25 71. \nMöjlighet till framridning finns utomhus i den lilla paddocken. \nAll ridning sker på egen risk\, glöm inte att mocka efter er häst. Höjning och sänkning sköter man själv men lämna/återställ banan som den var. \nVid frågor kontakta Matilda Svensson 0734–27 25 71 eller Marie Sellberg 0708–93 47 63. \nHoppas du och din häst får en trevlig stund hos oss! \nHär hittar du bokningssidan: https://www.edibooking.com/karlskrona-lycka-ridklubb
URL:https://www.klrk.se/event/oppen-bana-hoppning-7/
LOCATION:Karlskrona Lyckå Ridklubbs stora utebana
ORGANIZER;CN="T%C3%A4vlings- och ryttarsektionen":MAILTO:tavlingar@klrk.se
END:VEVENT
BEGIN:VEVENT
DTSTART;TZID=Europe/Stockholm:20250503T070000
DTEND;TZID=Europe/Stockholm:20250504T170000
DTSTAMP:20260419T141740
CREATED:20250311T150414Z
LAST-MODIFIED:20250311T150414Z
UID:6330-1746255600-1746378000@www.klrk.se
SUMMARY:Hopptävling!
DESCRIPTION:Hopptävling på anläggningen\, hela anläggningen bokad.
URL:https://www.klrk.se/event/hopptavling-3/
LOCATION:Karlskrona Lyckå Ridklubb\, Afvelsgärdevägen 27\, Karlskrona\, Sweden
CATEGORIES:Tävling
END:VEVENT
BEGIN:VEVENT
DTSTART;TZID=Europe/Stockholm:20250510T113000
DTEND;TZID=Europe/Stockholm:20250510T150000
DTSTAMP:20260419T141740
CREATED:20250217T143250Z
LAST-MODIFIED:20250506T111946Z
UID:6259-1746876600-1746889200@www.klrk.se
SUMMARY:Nina-träning
DESCRIPTION:Dressyrträning för alla privata ekipage. Se mer info på Facebook (KLRK-Nina träning)
URL:https://www.klrk.se/event/nina-traning-13/
LOCATION:Karlskrona Lyckå ridklubbs lilla ridhus\, Afvelsgärdevägen 27\, Karlskrona
CATEGORIES:Träning
END:VEVENT
BEGIN:VEVENT
DTSTART;TZID=Europe/Stockholm:20250510T123000
DTEND;TZID=Europe/Stockholm:20250510T143000
DTSTAMP:20260419T141740
CREATED:20250502T105259Z
LAST-MODIFIED:20250502T105714Z
UID:6741-1746880200-1746887400@www.klrk.se
SUMMARY:Banbyggnad inför WE-tävling
DESCRIPTION:Dressyrstaketet byggs fram inför morgondagens WE-tävling.
URL:https://www.klrk.se/event/banbyggnad-infor-we-tavling/
LOCATION:Karlskrona Lyckå Ridklubbs stora ridhus\, Afvelsgärdevägen 27\, Karlskrona
CATEGORIES:Tävling
ORGANIZER;CN="T%C3%A4vlings- och ryttarsektionen":MAILTO:tavlingar@klrk.se
END:VEVENT
BEGIN:VEVENT
DTSTART;TZID=Europe/Stockholm:20250510T140000
DTEND;TZID=Europe/Stockholm:20250510T230000
DTSTAMP:20260419T141740
CREATED:20250502T105446Z
LAST-MODIFIED:20250502T105446Z
UID:6743-1746885600-1746918000@www.klrk.se
SUMMARY:Banbyggnad inför WE-tävling!
DESCRIPTION:WE-banan byggs fram på stora uteridbanan inför morgondagens WE-tävling.
URL:https://www.klrk.se/event/banbyggnad-infor-we-tavling-2/
LOCATION:Karlskrona Lyckå Ridklubbs stora utebana
CATEGORIES:Tävling
ORGANIZER;CN="T%C3%A4vlings- och ryttarsektionen":MAILTO:tavlingar@klrk.se
END:VEVENT
BEGIN:VEVENT
DTSTART;TZID=Europe/Stockholm:20250510T143000
DTEND;TZID=Europe/Stockholm:20250510T200000
DTSTAMP:20260419T141740
CREATED:20250217T143448Z
LAST-MODIFIED:20250217T143448Z
UID:6261-1746887400-1746907200@www.klrk.se
SUMMARY:Nina-träning
DESCRIPTION:Dressyrträning för alla privata ekipage.
URL:https://www.klrk.se/event/nina-traning-14/
LOCATION:Karlskrona Lyckå Ridklubbs stora ridhus\, Afvelsgärdevägen 27\, Karlskrona
CATEGORIES:Träning
END:VEVENT
BEGIN:VEVENT
DTSTART;TZID=Europe/Stockholm:20250511T070000
DTEND;TZID=Europe/Stockholm:20250511T170000
DTSTAMP:20260419T141740
CREATED:20250324T202330Z
LAST-MODIFIED:20250324T202538Z
UID:6369-1746946800-1746982800@www.klrk.se
SUMMARY:WE-tävling!
DESCRIPTION:WE-tävling på anläggningen. Hela anläggningen bokad!
URL:https://www.klrk.se/event/we-tavling-5/
LOCATION:Karlskrona Lyckå Ridklubb\, Afvelsgärdevägen 27\, Karlskrona\, Sweden
CATEGORIES:Tävling
ORGANIZER;CN="T%C3%A4vlings- och ryttarsektionen":MAILTO:tavlingar@klrk.se
END:VEVENT
BEGIN:VEVENT
DTSTART;TZID=Europe/Stockholm:20250512T160000
DTEND;TZID=Europe/Stockholm:20250512T170000
DTSTAMP:20260419T141740
CREATED:20250512T131328Z
LAST-MODIFIED:20250512T131328Z
UID:6803-1747065600-1747069200@www.klrk.se
SUMMARY:Bytt ridhus för 16.00 Ponnylektion
DESCRIPTION:16.00 Ponnygrupp ska hoppa i stora ridhuset så lilla ridhuset kommer vara ledigt 16.00-17.00 den 12 maj.
URL:https://www.klrk.se/event/bytt-ridhus-for-16-00-ponnylektion/
END:VEVENT
BEGIN:VEVENT
DTSTART;TZID=Europe/Stockholm:20250514T160000
DTEND;TZID=Europe/Stockholm:20250514T200000
DTSTAMP:20260419T141740
CREATED:20250430T090216Z
LAST-MODIFIED:20250430T090219Z
UID:6684-1747238400-1747252800@www.klrk.se
SUMMARY:Caprilli Tävling
DESCRIPTION:
URL:https://www.klrk.se/event/caprilli-tavling/
LOCATION:Karlskrona Lyckå Ridklubbs stora utebana
END:VEVENT
BEGIN:VEVENT
DTSTART;TZID=Europe/Stockholm:20250517T120000
DTEND;TZID=Europe/Stockholm:20250517T130000
DTSTAMP:20260419T141740
CREATED:20250512T171513Z
LAST-MODIFIED:20250512T171513Z
UID:6808-1747483200-1747486800@www.klrk.se
SUMMARY:Staketbygge inför dressyrtävling
DESCRIPTION:Vi träffas kl.12 för att bygga staketet inför söndagens tävling. \nAlla är varmt välkomna att hjälpa till!
URL:https://www.klrk.se/event/staketbygge-infor-dressyrtavling/
LOCATION:Karlskrona Lyckå Ridklubbs stora utebana
ORGANIZER;CN="T%C3%A4vlings- och ryttarsektionen":MAILTO:tavlingar@klrk.se
END:VEVENT
BEGIN:VEVENT
DTSTART;TZID=Europe/Stockholm:20250517T130000
DTEND;TZID=Europe/Stockholm:20250517T233000
DTSTAMP:20260419T141740
CREATED:20250512T171634Z
LAST-MODIFIED:20250512T171634Z
UID:6810-1747486800-1747524600@www.klrk.se
SUMMARY:Öppen bana dressyr
DESCRIPTION:Välkommen på Öppen bana! \n\nDen 17/5 hälsar vi alla ryttare\, stora som små\, varmt välkomna till vår fina utebana. Ett utmärkt tillfälle att komma iväg och träna dressyr på bana av tävlingskaraktär. \nKostnad per ryttare är 150 kr för medlem och 200 kr för icke medlem\, då har du tillgång till banan i 30 min. Samma ryttare får rida olika hästar under sin bokade tid. Använder flera ekipage banan under samma tid betalar varje ryttare 150 kr alternativt 200 kr. \nAnmälning sker via bokningslänken nedan. Betalning görs via Swish till 1 230 450 569 senast den dag då du har din bokade tid\, märk betalningen med ”Öppen bana + ditt namn”. Skicka också en skärmdump på genomförd betalning till Anneli\, 0702-70 64 71. Bokad och betald tid återbetalas ej! \nMöjlighet till framridning finns utomhus i den lilla paddocken alternativt i ridhus. \nAll ridning sker på egen risk\, glöm inte att mocka efter er häst. Justering av banans längd sköter man själv\, markeringar för korrekt bokstavsplacering finns på staketet. \nVid frågor kontakta Anneli\, 0702-70 64 71. \nHoppas du och din häst får en trevlig stund hos oss! \nHär hittar du bokningssidan: https://www.edibooking.com/karlskrona-lycka-ridklubb
URL:https://www.klrk.se/event/oppen-bana-dressyr-4/
LOCATION:Karlskrona Lyckå Ridklubbs stora utebana
ORGANIZER;CN="T%C3%A4vlings- och ryttarsektionen":MAILTO:tavlingar@klrk.se
END:VEVENT
BEGIN:VEVENT
DTSTART;TZID=Europe/Stockholm:20250518T070000
DTEND;TZID=Europe/Stockholm:20250518T180000
DTSTAMP:20260419T141740
CREATED:20250311T150700Z
LAST-MODIFIED:20250311T150700Z
UID:6332-1747551600-1747591200@www.klrk.se
SUMMARY:Dressyrtävling!
DESCRIPTION:Dressyrtävling för häst och ponny. Hela anläggningen bokad.
URL:https://www.klrk.se/event/dressyrtavling-6/
LOCATION:Karlskrona Lyckå Ridklubb\, Afvelsgärdevägen 27\, Karlskrona\, Sweden
CATEGORIES:Tävling
END:VEVENT
BEGIN:VEVENT
DTSTART;TZID=Europe/Stockholm:20250519T143000
DTEND;TZID=Europe/Stockholm:20250519T220000
DTSTAMP:20260419T141740
CREATED:20250507T183745Z
LAST-MODIFIED:20250507T183745Z
UID:6786-1747665000-1747692000@www.klrk.se
SUMMARY:Hoppträning-Niclas Haking
DESCRIPTION:Hoppträning för alla med egen häst eller ponny. För att anmäla håll utkik på webbplatsen och sociala medier.
URL:https://www.klrk.se/event/hopptraning-niclas-haking/
LOCATION:Karlskrona Lyckå Ridklubbs stora utebana
CATEGORIES:Träning
END:VEVENT
BEGIN:VEVENT
DTSTART;TZID=Europe/Stockholm:20250521T180000
DTEND;TZID=Europe/Stockholm:20250521T200000
DTSTAMP:20260419T141740
CREATED:20250408T134640Z
LAST-MODIFIED:20250408T204432Z
UID:6495-1747850400-1747857600@www.klrk.se
SUMMARY:Kvällsföreläsning: Magsår hos häst
DESCRIPTION:  \n  \n  \n  \n  \n  \n  \nVälkomna  till en spännande och informativ kvällsföreläsning om magsår hos häst. Veronica Sundén Svensson från Boehringer Ingelheim och Julia Lundberg från Distriktsveterinärerna kommer under kvällen att berätta om diagnostik\, bakomliggande orsaker\, behandling och hur vi kan förebygga att hästarna utvecklar magsår. Möjlighet till frågor efter föreläsningen. Paus med fika ingår. \nMedlem i Karlskrona Lyckå Ridklubb: fri entré \nIcke medlem i Karlskrona Lyckå Ridklubb: 100 kr \nBegränsat antal platser. Anmäl att du kommer till ridskolan@klrk.se
URL:https://www.klrk.se/event/kvallsforelasning-magsar-hos-hast/
LOCATION:Karlskrona Lyckå ridklubbs cafeteria\, KARLSKRONA\, 37163\, Sweden
CATEGORIES:Kurs
ORGANIZER;CN="Styrelsen":MAILTO:styrelsen@klrk.se
END:VEVENT
BEGIN:VEVENT
DTSTART;TZID=Europe/Stockholm:20250523T163000
DTEND;TZID=Europe/Stockholm:20250523T180000
DTSTAMP:20260419T141740
CREATED:20250430T090039Z
LAST-MODIFIED:20250430T090044Z
UID:6682-1748017800-1748023200@www.klrk.se
SUMMARY:Kval till Clear round
DESCRIPTION:
URL:https://www.klrk.se/event/kval-till-clear-round/
LOCATION:Karlskrona Lyckå Ridklubbs stora utebana
END:VEVENT
BEGIN:VEVENT
DTSTART;TZID=Europe/Stockholm:20250523T170000
DTEND;TZID=Europe/Stockholm:20250523T203000
DTSTAMP:20260419T141740
CREATED:20250311T150852Z
LAST-MODIFIED:20250311T150852Z
UID:6334-1748019600-1748032200@www.klrk.se
SUMMARY:Clear round!
DESCRIPTION:Clear round i stora ridhuset\, framridning i lilla ridhuset.
URL:https://www.klrk.se/event/clear-round-13/
LOCATION:Båda ridhusen
CATEGORIES:Ridskola
END:VEVENT
BEGIN:VEVENT
DTSTART;TZID=Europe/Stockholm:20250524T110000
DTEND;TZID=Europe/Stockholm:20250524T140000
DTSTAMP:20260419T141740
CREATED:20250407T123451Z
LAST-MODIFIED:20250523T223509Z
UID:6477-1748084400-1748095200@www.klrk.se
SUMMARY:INSTÄLLT! Vårdag med öppet hus 24 maj 11.00-14.00!
DESCRIPTION:Det har blivit tradition att klubben slår upp portarna och välkomnar medlemmar att ta med släkt och vänner på Vårdag med öppet hus! \nDagen bjuder: \n\nponnyridning\nloppis\ntipsrunda\nlyckohjul\nansiktsmålning\npysselstuga\nfikaförsäljning\nkäpphästhoppning\noch mycket mer!\n\nFri entré och öppet för alla – medlem eller ej!
URL:https://www.klrk.se/event/vardag-med-oppet-hus/
LOCATION:Karlskrona Lyckå Ridklubb\, Afvelsgärdevägen 27\, Karlskrona\, Sweden
CATEGORIES:Gemenskap
ORGANIZER;CN="Karlskrona Lyck%C3%A5 Ridklubbs Ungdomsstyrelse US":MAILTO:us@klrk.se
END:VEVENT
BEGIN:VEVENT
DTSTART;TZID=Europe/Stockholm:20250526T173000
DTEND;TZID=Europe/Stockholm:20250526T213000
DTSTAMP:20260419T141740
CREATED:20250525T084300Z
LAST-MODIFIED:20250525T084300Z
UID:6859-1748280600-1748295000@www.klrk.se
SUMMARY:Hoppträning för Camilla!
DESCRIPTION:Hoppträning för Camilla Sjöqvist för dig med egen häst/ponny. Anmälan sker via FB-gruppen: KLRK Hoppträning för Camilla Sjöqvist.
URL:https://www.klrk.se/event/hopptraning-for-camilla/
LOCATION:Karlskrona Lyckå Ridklubbs stora utebana
CATEGORIES:Träning
END:VEVENT
BEGIN:VEVENT
DTSTART;TZID=Europe/Stockholm:20250531T110000
DTEND;TZID=Europe/Stockholm:20250531T140000
DTSTAMP:20260419T141740
CREATED:20250311T151303Z
LAST-MODIFIED:20250311T151303Z
UID:6336-1748689200-1748700000@www.klrk.se
SUMMARY:Blåbärshoppning!
DESCRIPTION:Blåbärshoppning i stora ridhuset\, lektioner i lilla ridhuset enligt schema.
URL:https://www.klrk.se/event/blabarshoppning-10/
LOCATION:Karlskrona Lyckå Ridklubbs stora ridhus\, Afvelsgärdevägen 27\, Karlskrona
CATEGORIES:Ridskola
END:VEVENT
BEGIN:VEVENT
DTSTART;TZID=Europe/Stockholm:20250531T160000
DTEND;TZID=Europe/Stockholm:20250531T180000
DTSTAMP:20260419T141740
CREATED:20250522T084721Z
LAST-MODIFIED:20250522T084842Z
UID:6852-1748707200-1748714400@www.klrk.se
SUMMARY:Karlskrona Lyckå Ridklubbs alla medlemmar är inbjudna till vip-kväll hos Hööks Karlskrona den 31 maj!
DESCRIPTION:Det kom en inbjudan från Hööks i Karlskrona som på olika vis samarbetat och sponsrat klubben i många år. Vi blir alltid glada över att få komma på häst-fest!\n\n”Vi på Hööks i Karlskrona bjuder in Karlskrona Lyckå Ridklubbs medlemmar till en trevlig kväll med mingel\, klubbkänsla och shopping!\n\n\nNär? Lördag 31/5\nTid? 16-18\nVar? Hööks Karlskrona\n\n\nUnder kvällen får du:\nProva Hööks klubbsortiment av profilkläder och hjälp att lägga order med brodyr om det önskas med KLRKs logotyp och förutbestämda typsnitt.\nTa del av vår outlet-hörna med extra bra priser.\nUtnyttja vårt exklusiva erbjudande: Handla för 500 kr – få 100 kr rabatt! (Gäller ej på redan nedsatta varor eller brodyrbeställningar)\n\n\nKom och kika på våra fina klubbplagg och passa på att träffa andra klubbmedlemmar i en hästig och härlig miljö.\n\n\nHoppas vi ses! \n\n\nMed vänlig hälsning\,\nTeamet på Hööks i Karlskrona
URL:https://www.klrk.se/event/karlskrona-lycka-ridklubbs-alla-medlemmar-ar-inbjudna-till-vip-kvall-hos-hooks-karlskrona/
END:VEVENT
BEGIN:VEVENT
DTSTART;TZID=Europe/Stockholm:20250602T133000
DTEND;TZID=Europe/Stockholm:20250602T220000
DTSTAMP:20260419T141740
CREATED:20250507T183935Z
LAST-MODIFIED:20250602T065219Z
UID:6788-1748871000-1748901600@www.klrk.se
SUMMARY:Hoppträning-Niclas Haking
DESCRIPTION:Hoppträning för dig med egen häst eller ponny. Håll utkik på våran webbplats och sociala medier för att anmäla.
URL:https://www.klrk.se/event/hopptraning-niclas-haking-2/
LOCATION:Karlskrona Lyckå Ridklubbs stora utebana
CATEGORIES:Träning
END:VEVENT
BEGIN:VEVENT
DTSTART;VALUE=DATE:20250606
DTEND;VALUE=DATE:20250609
DTSTAMP:20260419T141740
CREATED:20250518T135909Z
LAST-MODIFIED:20250518T140140Z
UID:6831-1749168000-1749427199@www.klrk.se
SUMMARY:Skärgårdscupen 2025 3* och 2* tävling i hoppning ponny och ridhäst
DESCRIPTION:Varmt Välkomna \nDen 6-8 juni 2025 arrangerar Karlskrona Lyckå Ridklubb Skärgårdcupen 2025 och vi hoppas att du vill komma och tävla hos oss.\nVi erbjuder detta året tävling för både ponny- och hästekipage med klasser från LC-MSV B för ponny och 1m-1\,40 för häst med cuper att delta i. Vi erbjuder bra premier och fina priser från våra sponsorer. Möjlighet till uppstallning i permanenta boxar. Tävlingen är öppen för anmälan.\n\n\nhttps://tdb.ridsport.se/meetings/78687
URL:https://www.klrk.se/event/skargardscupen-2025-3-och-2-tavling-i-hoppning-ponny-och-ridhast/
LOCATION:Karlskrona Lyckå Ridklubb\, Afvelsgärdevägen 27\, Karlskrona\, Sweden
ORGANIZER;CN="T%C3%A4vlings- och ryttarsektionen":MAILTO:tavlingar@klrk.se
END:VEVENT
BEGIN:VEVENT
DTSTART;TZID=Europe/Stockholm:20250614T123000
DTEND;TZID=Europe/Stockholm:20250614T210000
DTSTAMP:20260419T141740
CREATED:20250217T143703Z
LAST-MODIFIED:20250217T143703Z
UID:6263-1749904200-1749934800@www.klrk.se
SUMMARY:Nina-träning
DESCRIPTION:Dressyrträning för alla privata ekipage.
URL:https://www.klrk.se/event/nina-traning-15/
LOCATION:Karlskrona Lyckå Ridklubbs stora ridhus\, Afvelsgärdevägen 27\, Karlskrona
CATEGORIES:Träning
END:VEVENT
BEGIN:VEVENT
DTSTART;TZID=Europe/Stockholm:20250614T140000
DTEND;TZID=Europe/Stockholm:20250615T140000
DTSTAMP:20260419T141740
CREATED:20250108T141158Z
LAST-MODIFIED:20250528T102756Z
UID:5916-1749909600-1749996000@www.klrk.se
SUMMARY:US tältövernattning
DESCRIPTION:US bjuder in till en rolig och mysig tältövernattning i lilla ridhuset! Det blir massor av roliga aktiviteter under kvällen – grilla hamburgare till middag och marshmallows till kvällsmyset\, lekar och utmaningar\, musik och snack! Dagen efter startar vi med frukost\, hittar på lite kul och avrundar med korvgrillning vid lunch. \nVill man delta båda dagarna men inte övernatta går det bra\, du deltar då fram till läggdags och kommer tillbaka efter frukost. \nDeltagarnas telefoner samlas in vid ankomst för att alla ska fokusera på varandra – inte mobilerna. Och alla ska känna sig trygga med att inte komma med på bild och film när vi leker och pratar. Man får tillgång till telefonerna under pauser för att tex kunna ringa hem och säga god natt eller liknande. Du som förälder kan alltid nå US via telefon om du vill förmedla något! \nDet går bra att ta med eget godis som INTE INNEHÅLLER NÖTTER! \nAnmälan till us@klrk.se \nAnge: deltagarens namn\, eventuell matallergi eller annan viktig info\, kontaktuppgifter till ansvarig vuxen (namn och telefonnummer). ”Först till kvarn” gäller. \nKostnad: 150 kronor. Betalning görs PÅ PLATS! \nVälkomna! \n#tillsammanspåklrk
URL:https://www.klrk.se/event/us-taltovernattning-i-stora-ridhuset/
LOCATION:Karlskrona Lyckå ridklubbs lilla ridhus\, Afvelsgärdevägen 27\, Karlskrona
ORGANIZER;CN="Karlskrona Lyck%C3%A5 Ridklubbs Ungdomsstyrelse US":MAILTO:us@klrk.se
END:VEVENT
BEGIN:VEVENT
DTSTART;TZID=Europe/Stockholm:20250616T143000
DTEND;TZID=Europe/Stockholm:20250616T220000
DTSTAMP:20260419T141740
CREATED:20250507T184041Z
LAST-MODIFIED:20250507T184041Z
UID:6790-1750084200-1750111200@www.klrk.se
SUMMARY:Hoppträning-Niclas Haking
DESCRIPTION:Hoppträning för dig med egen häst eller ponny. Håll utkik på våran webbplats och sociala medier för att anmäla.
URL:https://www.klrk.se/event/hopptraning-niclas-haking-3/
LOCATION:Karlskrona Lyckå Ridklubbs stora utebana
CATEGORIES:Träning
END:VEVENT
BEGIN:VEVENT
DTSTART;TZID=Europe/Stockholm:20250623T170000
DTEND;TZID=Europe/Stockholm:20250623T220000
DTSTAMP:20260419T141740
CREATED:20250618T120632Z
LAST-MODIFIED:20250618T120632Z
UID:6924-1750698000-1750716000@www.klrk.se
SUMMARY:Hoppträning-Camilla Sjöqvist
DESCRIPTION:Hoppträning för Camilla Sjöqvist för dig med egen häst/ponny. Anmälan sker via FB-gruppen: KLRK Hoppträning för Camilla Sjöqvist.
URL:https://www.klrk.se/event/hopptraning-camilla-sjoqvist/
LOCATION:Karlskrona Lyckå Ridklubbs stora utebana
CATEGORIES:Träning
END:VEVENT
BEGIN:VEVENT
DTSTART;TZID=Europe/Stockholm:20250623T180000
DTEND;TZID=Europe/Stockholm:20250623T200000
DTSTAMP:20260419T141740
CREATED:20250623T131756Z
LAST-MODIFIED:20250623T131756Z
UID:6936-1750701600-1750708800@www.klrk.se
SUMMARY:Dressyrkurs-ridskolan
DESCRIPTION:Ridskolan har dressyrkurs i Stora ridhuset\, dock flyttar vi ut på lilla utebanan om vädret tillåter.
URL:https://www.klrk.se/event/dressyrkurs-ridskolan/
LOCATION:Karlskrona Lyckå Ridklubbs stora ridhus\, Afvelsgärdevägen 27\, Karlskrona
CATEGORIES:Kurs
END:VEVENT
BEGIN:VEVENT
DTSTART;TZID=Europe/Stockholm:20250624T100000
DTEND;TZID=Europe/Stockholm:20250624T110000
DTSTAMP:20260419T141740
CREATED:20250623T132625Z
LAST-MODIFIED:20250623T132625Z
UID:6942-1750759200-1750762800@www.klrk.se
SUMMARY:Dagridläger
DESCRIPTION:Ridskolan har ridning för lägerdeltagare i stora ridhuset. Vid bra väder flyttas ridningen ut på lilla eller stora utebanan.
URL:https://www.klrk.se/event/dagridlager-5/
LOCATION:Karlskrona Lyckå Ridklubbs stora ridhus\, Afvelsgärdevägen 27\, Karlskrona
CATEGORIES:Läger
END:VEVENT
BEGIN:VEVENT
DTSTART;TZID=Europe/Stockholm:20250624T143000
DTEND;TZID=Europe/Stockholm:20250624T220000
DTSTAMP:20260419T141740
CREATED:20250618T115924Z
LAST-MODIFIED:20250618T115924Z
UID:6921-1750775400-1750802400@www.klrk.se
SUMMARY:Hoppträning-Niclas Haking
DESCRIPTION:Hoppträning för dig med egen häst eller ponny. Håll utkik på våran webbplats och sociala medier för att anmäla.
URL:https://www.klrk.se/event/hopptraning-niclas-haking-8/
LOCATION:Karlskrona Lyckå Ridklubbs stora utebana
CATEGORIES:Träning
END:VEVENT
END:VCALENDAR