BEGIN:VCALENDAR
VERSION:2.0
PRODID:-//Karlskrona Lyckå Ridklubb - ECPv6.15.12.2//NONSGML v1.0//EN
CALSCALE:GREGORIAN
METHOD:PUBLISH
X-ORIGINAL-URL:https://www.klrk.se
X-WR-CALDESC:Händelser för Karlskrona Lyckå Ridklubb
REFRESH-INTERVAL;VALUE=DURATION:PT1H
X-Robots-Tag:noindex
X-PUBLISHED-TTL:PT1H
BEGIN:VTIMEZONE
TZID:Europe/Stockholm
BEGIN:DAYLIGHT
TZOFFSETFROM:+0100
TZOFFSETTO:+0200
TZNAME:CEST
DTSTART:20230326T010000
END:DAYLIGHT
BEGIN:STANDARD
TZOFFSETFROM:+0200
TZOFFSETTO:+0100
TZNAME:CET
DTSTART:20231029T010000
END:STANDARD
BEGIN:DAYLIGHT
TZOFFSETFROM:+0100
TZOFFSETTO:+0200
TZNAME:CEST
DTSTART:20240331T010000
END:DAYLIGHT
BEGIN:STANDARD
TZOFFSETFROM:+0200
TZOFFSETTO:+0100
TZNAME:CET
DTSTART:20241027T010000
END:STANDARD
BEGIN:DAYLIGHT
TZOFFSETFROM:+0100
TZOFFSETTO:+0200
TZNAME:CEST
DTSTART:20250330T010000
END:DAYLIGHT
BEGIN:STANDARD
TZOFFSETFROM:+0200
TZOFFSETTO:+0100
TZNAME:CET
DTSTART:20251026T010000
END:STANDARD
END:VTIMEZONE
BEGIN:VEVENT
DTSTART;TZID=Europe/Stockholm:20240102T090000
DTEND;TZID=Europe/Stockholm:20240102T160000
DTSTAMP:20260421T215422
CREATED:20231124T111541Z
LAST-MODIFIED:20231124T111544Z
UID:4141-1704186000-1704211200@www.klrk.se
SUMMARY:Dagridläger Nivå2
DESCRIPTION:Lägret håller på från 09.00-16.00 \nRidning 13.30-15.30 i lilla ridhuset i 2 grupper \n  \nAnmäl genom att sätta in avgiften på bg 5939-9428 ange några önskehästar.
URL:https://www.klrk.se/event/dagridlager-niva2/
END:VEVENT
BEGIN:VEVENT
DTSTART;TZID=Europe/Stockholm:20240102T160000
DTEND;TZID=Europe/Stockholm:20240102T190000
DTSTAMP:20260421T215422
CREATED:20231124T112105Z
LAST-MODIFIED:20231124T112109Z
UID:4150-1704211200-1704222000@www.klrk.se
SUMMARY:Dressyrkurs
DESCRIPTION:  \n  \nAnmäl genom att sätta in avgiften på bg 5939-9428 ange några önskehästar.
URL:https://www.klrk.se/event/dressyrkurs-4/
LOCATION:Karlskrona Lyckå Ridklubbs stora ridhus\, Afvelsgärdevägen 27\, Karlskrona
END:VEVENT
BEGIN:VEVENT
DTSTART;TZID=Europe/Stockholm:20240103T090000
DTEND;TZID=Europe/Stockholm:20240103T160000
DTSTAMP:20260421T215422
CREATED:20231124T111628Z
LAST-MODIFIED:20231124T111631Z
UID:4143-1704272400-1704297600@www.klrk.se
SUMMARY:Dagridläger nivå2
DESCRIPTION:Lägret håller på från 09.00-16.00 \nRidning 13.30-15.30 i lilla ridhuset i 2 grupper \n  \nAnmäl genom att sätta in avgiften på bg 5939-9428 ange några önskehästar.
URL:https://www.klrk.se/event/dagridlager-niva2-2/
END:VEVENT
BEGIN:VEVENT
DTSTART;TZID=Europe/Stockholm:20240103T160000
DTEND;TZID=Europe/Stockholm:20240103T190000
DTSTAMP:20260421T215422
CREATED:20231124T112207Z
LAST-MODIFIED:20231219T152308Z
UID:4153-1704297600-1704308400@www.klrk.se
SUMMARY:Dressyrkurs
DESCRIPTION:  \n  \nAnmäl genom att sätta in avgiften på bg 5939-9428 ange några önskehästar.
URL:https://www.klrk.se/event/dressyrkurs-5/
LOCATION:Karlskrona Lyckå Ridklubbs stora ridhus\, Afvelsgärdevägen 27\, Karlskrona
END:VEVENT
BEGIN:VEVENT
DTSTART;TZID=Europe/Stockholm:20240103T170000
DTEND;TZID=Europe/Stockholm:20240103T180000
DTSTAMP:20260421T215422
CREATED:20231124T112514Z
LAST-MODIFIED:20231219T152553Z
UID:4157-1704301200-1704304800@www.klrk.se
SUMMARY:Extra ridlektion
DESCRIPTION:  \nAnmäl genom att sätta in avgiften på bg 5939-9428 ange några önskehästar.
URL:https://www.klrk.se/event/extra-ridlektion/
LOCATION:Karlskrona Lyckå ridklubbs lilla ridhus\, Afvelsgärdevägen 27\, Karlskrona
END:VEVENT
BEGIN:VEVENT
DTSTART;TZID=Europe/Stockholm:20240104T090000
DTEND;TZID=Europe/Stockholm:20240104T103000
DTSTAMP:20260421T215422
CREATED:20240102T145138Z
LAST-MODIFIED:20240102T145141Z
UID:4515-1704358800-1704364200@www.klrk.se
SUMMARY:Kavaletti träning
DESCRIPTION:
URL:https://www.klrk.se/event/kavaletti-traning/
LOCATION:Karlskrona Lyckå Ridklubbs stora ridhus\, Afvelsgärdevägen 27\, Karlskrona
END:VEVENT
BEGIN:VEVENT
DTSTART;TZID=Europe/Stockholm:20240104T090000
DTEND;TZID=Europe/Stockholm:20240104T160000
DTSTAMP:20260421T215422
CREATED:20231124T111721Z
LAST-MODIFIED:20231124T111736Z
UID:4145-1704358800-1704384000@www.klrk.se
SUMMARY:Dagridläger nivå1
DESCRIPTION:Lägret håller på från 09.00-16.00 \nRidning 13.30-15.30 i lilla ridhuset i 2 grupper \n  \nAnmäl genom att sätta in avgiften på bg 5939-9428 ange några önskehästar.
URL:https://www.klrk.se/event/dagridlager-niva1/
END:VEVENT
BEGIN:VEVENT
DTSTART;TZID=Europe/Stockholm:20240104T160000
DTEND;TZID=Europe/Stockholm:20240104T190000
DTSTAMP:20260421T215422
CREATED:20231124T112301Z
LAST-MODIFIED:20231124T112305Z
UID:4155-1704384000-1704394800@www.klrk.se
SUMMARY:Dressyrkurs
DESCRIPTION:  \n  \nAnmäl genom att sätta in avgiften på bg 5939-9428 ange några önskehästar.
URL:https://www.klrk.se/event/dressyrkurs-6/
LOCATION:Karlskrona Lyckå Ridklubbs stora ridhus\, Afvelsgärdevägen 27\, Karlskrona
END:VEVENT
BEGIN:VEVENT
DTSTART;TZID=Europe/Stockholm:20240104T170000
DTEND;TZID=Europe/Stockholm:20240104T180000
DTSTAMP:20260421T215422
CREATED:20231124T112636Z
LAST-MODIFIED:20231219T152457Z
UID:4159-1704387600-1704391200@www.klrk.se
SUMMARY:Extra Ridlektion
DESCRIPTION:  \n  \nAnmäl genom att sätta in avgiften på bg 5939-9428 ange några önskehästar.
URL:https://www.klrk.se/event/extra-ridlektion-2/
LOCATION:Karlskrona Lyckå ridklubbs lilla ridhus\, Afvelsgärdevägen 27\, Karlskrona
END:VEVENT
BEGIN:VEVENT
DTSTART;TZID=Europe/Stockholm:20240105T090000
DTEND;TZID=Europe/Stockholm:20240105T160000
DTSTAMP:20260421T215422
CREATED:20231124T111812Z
LAST-MODIFIED:20231219T152343Z
UID:4147-1704445200-1704470400@www.klrk.se
SUMMARY:Dagridläger nivå1
DESCRIPTION:Lägret håller på från 09.00-16.00 \nRidning 13.30-15.30 i lilla ridhuset i 2 grupper \n  \nAnmäl genom att sätta in avgiften på bg 5939-9428 ange några önskehästar.
URL:https://www.klrk.se/event/dsagridlager-niva1/
END:VEVENT
BEGIN:VEVENT
DTSTART;TZID=Europe/Stockholm:20240106T090000
DTEND;TZID=Europe/Stockholm:20240106T110000
DTSTAMP:20260421T215422
CREATED:20231124T112858Z
LAST-MODIFIED:20231124T112902Z
UID:4163-1704531600-1704538800@www.klrk.se
SUMMARY:Lingondressyr
DESCRIPTION:  \n  \nAnmäl genom att sätta in avgiften på bg 5939-9428 ange några önskehästar.
URL:https://www.klrk.se/event/lingondressyr-6/
LOCATION:Karlskrona Lyckå ridklubbs lilla ridhus\, Afvelsgärdevägen 27\, Karlskrona
END:VEVENT
BEGIN:VEVENT
DTSTART;TZID=Europe/Stockholm:20240106T090000
DTEND;TZID=Europe/Stockholm:20240106T113000
DTSTAMP:20260421T215422
CREATED:20231124T112809Z
LAST-MODIFIED:20231124T112814Z
UID:4161-1704531600-1704540600@www.klrk.se
SUMMARY:Programridning
DESCRIPTION:
URL:https://www.klrk.se/event/programridning-6/
LOCATION:Karlskrona Lyckå Ridklubbs stora ridhus\, Afvelsgärdevägen 27\, Karlskrona
END:VEVENT
BEGIN:VEVENT
DTSTART;TZID=Europe/Stockholm:20240118T180000
DTEND;TZID=Europe/Stockholm:20240118T203000
DTSTAMP:20260421T215422
CREATED:20240118T121838Z
LAST-MODIFIED:20240118T121845Z
UID:4573-1705600800-1705609800@www.klrk.se
SUMMARY:Final Klubbmästerskap
DESCRIPTION:
URL:https://www.klrk.se/event/final-klubbmasterskap/
LOCATION:Karlskrona Lyckå Ridklubbs stora ridhus\, Afvelsgärdevägen 27\, Karlskrona
END:VEVENT
BEGIN:VEVENT
DTSTART;TZID=Europe/Stockholm:20240128T090000
DTEND;TZID=Europe/Stockholm:20240128T140000
DTSTAMP:20260421T215422
CREATED:20231206T133903Z
LAST-MODIFIED:20231221T103847Z
UID:4192-1706432400-1706450400@www.klrk.se
SUMMARY:WE-träning
DESCRIPTION:
URL:https://www.klrk.se/event/we-traning-3/
LOCATION:Karlskrona Lyckå Ridklubbs stora ridhus\, Afvelsgärdevägen 27\, Karlskrona
END:VEVENT
BEGIN:VEVENT
DTSTART;TZID=Europe/Stockholm:20240203T130000
DTEND;TZID=Europe/Stockholm:20240203T190000
DTSTAMP:20260421T215422
CREATED:20231206T133952Z
LAST-MODIFIED:20231206T133956Z
UID:4194-1706965200-1706986800@www.klrk.se
SUMMARY:Mats träning
DESCRIPTION:
URL:https://www.klrk.se/event/mats-traning-11/
LOCATION:Karlskrona Lyckå Ridklubbs stora ridhus\, Afvelsgärdevägen 27\, Karlskrona
END:VEVENT
BEGIN:VEVENT
DTSTART;TZID=Europe/Stockholm:20240204T090000
DTEND;TZID=Europe/Stockholm:20240204T150000
DTSTAMP:20260421T215422
CREATED:20231206T134047Z
LAST-MODIFIED:20231206T134050Z
UID:4196-1707037200-1707058800@www.klrk.se
SUMMARY:Mats träning
DESCRIPTION:
URL:https://www.klrk.se/event/mats-traning-12/
LOCATION:Karlskrona Lyckå Ridklubbs stora ridhus\, Afvelsgärdevägen 27\, Karlskrona
END:VEVENT
BEGIN:VEVENT
DTSTART;TZID=Europe/Stockholm:20240209T100000
DTEND;TZID=Europe/Stockholm:20240209T110000
DTSTAMP:20260421T215422
CREATED:20240208T194733Z
LAST-MODIFIED:20240208T194742Z
UID:4678-1707472800-1707476400@www.klrk.se
SUMMARY:Ridlärare träning
DESCRIPTION:
URL:https://www.klrk.se/event/ridlarare-traning/
LOCATION:Karlskrona Lyckå Ridklubbs stora ridhus\, Afvelsgärdevägen 27\, Karlskrona
END:VEVENT
BEGIN:VEVENT
DTSTART;TZID=Europe/Stockholm:20240209T150000
DTEND;TZID=Europe/Stockholm:20240209T160000
DTSTAMP:20260421T215422
CREATED:20240208T194939Z
LAST-MODIFIED:20240208T194945Z
UID:4680-1707490800-1707494400@www.klrk.se
SUMMARY:Kavaletti träning
DESCRIPTION:Extra kavaletti träning för lektionsryttare.
URL:https://www.klrk.se/event/kavaletti-traning-2/
LOCATION:Karlskrona Lyckå Ridklubbs stora ridhus\, Afvelsgärdevägen 27\, Karlskrona
END:VEVENT
BEGIN:VEVENT
DTSTART;TZID=Europe/Stockholm:20240210T130000
DTEND;TZID=Europe/Stockholm:20240210T190000
DTSTAMP:20260421T215422
CREATED:20240205T104339Z
LAST-MODIFIED:20240205T130847Z
UID:4654-1707570000-1707591600@www.klrk.se
SUMMARY:Nina träning
DESCRIPTION:Det är ledigt i lilla ridhuset mellan 16.00 till 17\,45 då är Nina träningen i stora ridhuset sedan går de tillbaka till lilla ridhuset.
URL:https://www.klrk.se/event/nina-traning-11/
LOCATION:Karlskrona Lyckå ridklubbs lilla ridhus\, Afvelsgärdevägen 27\, Karlskrona
END:VEVENT
BEGIN:VEVENT
DTSTART;TZID=Europe/Stockholm:20240210T150000
DTEND;TZID=Europe/Stockholm:20240210T170000
DTSTAMP:20260421T215422
CREATED:20240119T145834Z
LAST-MODIFIED:20240120T155045Z
UID:4582-1707577200-1707584400@www.klrk.se
SUMMARY:Årsmöte
DESCRIPTION:Cafeterian
URL:https://www.klrk.se/event/arsmote/
END:VEVENT
BEGIN:VEVENT
DTSTART;TZID=Europe/Stockholm:20240210T160000
DTEND;TZID=Europe/Stockholm:20240210T180000
DTSTAMP:20260421T215422
CREATED:20231219T113043Z
LAST-MODIFIED:20240205T104125Z
UID:4354-1707580800-1707588000@www.klrk.se
SUMMARY:Nina träning
DESCRIPTION:
URL:https://www.klrk.se/event/nina-traning-5/
LOCATION:Karlskrona Lyckå Ridklubbs stora ridhus\, Afvelsgärdevägen 27\, Karlskrona
END:VEVENT
BEGIN:VEVENT
DTSTART;TZID=Europe/Stockholm:20240210T180000
DTEND;TZID=Europe/Stockholm:20240210T233000
DTSTAMP:20260421T215422
CREATED:20240207T191441Z
LAST-MODIFIED:20240207T191441Z
UID:4667-1707588000-1707607800@www.klrk.se
SUMMARY:Banbyggnad öppen bana
DESCRIPTION:När banan är byggd är det inte tillåtet att rida i stora ridhuset om du inte bokat tid.
URL:https://www.klrk.se/event/banbyggnad-oppen-bana/
LOCATION:Karlskrona Lyckå Ridklubbs stora ridhus\, Afvelsgärdevägen 27\, Karlskrona
END:VEVENT
BEGIN:VEVENT
DTSTART;TZID=Europe/Stockholm:20240211T080000
DTEND;TZID=Europe/Stockholm:20240211T170000
DTSTAMP:20260421T215422
CREATED:20240119T124255Z
LAST-MODIFIED:20240123T210432Z
UID:4578-1707638400-1707670800@www.klrk.se
SUMMARY:Öppen bana
DESCRIPTION:Bokning  av bananvia följande länken: https://www.edibooking.com/karlskrona-lycka-ridklubb
URL:https://www.klrk.se/event/oppen-bana/
LOCATION:Karlskrona Lyckå Ridklubbs stora ridhus\, Afvelsgärdevägen 27\, Karlskrona
END:VEVENT
BEGIN:VEVENT
DTSTART;TZID=Europe/Stockholm:20240216T150000
DTEND;TZID=Europe/Stockholm:20240216T160000
DTSTAMP:20260421T215422
CREATED:20240208T195049Z
LAST-MODIFIED:20240208T195054Z
UID:4682-1708095600-1708099200@www.klrk.se
SUMMARY:Kavaletti träning
DESCRIPTION:Extra kavaletti träning för lektionsryttare.
URL:https://www.klrk.se/event/kavaletti-traning-3/
LOCATION:Karlskrona Lyckå Ridklubbs stora ridhus\, Afvelsgärdevägen 27\, Karlskrona
END:VEVENT
BEGIN:VEVENT
DTSTART;TZID=Europe/Stockholm:20240217T120000
DTEND;TZID=Europe/Stockholm:20240217T150000
DTSTAMP:20260421T215422
CREATED:20240129T113229Z
LAST-MODIFIED:20240129T113233Z
UID:4606-1708171200-1708182000@www.klrk.se
SUMMARY:Programridning för Sandra
DESCRIPTION:
URL:https://www.klrk.se/event/programridning-for-sandra/
LOCATION:Karlskrona Lyckå Ridklubbs stora ridhus\, Afvelsgärdevägen 27\, Karlskrona
END:VEVENT
BEGIN:VEVENT
DTSTART;TZID=Europe/Stockholm:20240218T080000
DTEND;TZID=Europe/Stockholm:20240218T133000
DTSTAMP:20260421T215422
CREATED:20240122T145522Z
LAST-MODIFIED:20240213T114021Z
UID:4586-1708243200-1708263000@www.klrk.se
SUMMARY:Löshoppning
DESCRIPTION:
URL:https://www.klrk.se/event/loshoppning-3/
LOCATION:Karlskrona Lyckå ridklubbs lilla ridhus\, Afvelsgärdevägen 27\, Karlskrona
END:VEVENT
BEGIN:VEVENT
DTSTART;TZID=Europe/Stockholm:20240219T090000
DTEND;TZID=Europe/Stockholm:20240219T160000
DTSTAMP:20260421T215422
CREATED:20240129T113355Z
LAST-MODIFIED:20240129T113516Z
UID:4608-1708333200-1708358400@www.klrk.se
SUMMARY:Sportlovs-läger
DESCRIPTION:Läger  ridning i lilla ridhuset 14-16.
URL:https://www.klrk.se/event/lager/
END:VEVENT
BEGIN:VEVENT
DTSTART;TZID=Europe/Stockholm:20240220T090000
DTEND;TZID=Europe/Stockholm:20240220T160000
DTSTAMP:20260421T215422
CREATED:20240129T113430Z
LAST-MODIFIED:20240129T113433Z
UID:4610-1708419600-1708444800@www.klrk.se
SUMMARY:Sportlovs-läger
DESCRIPTION:Läger  ridning i lilla ridhuset 14-16.
URL:https://www.klrk.se/event/sportlovs-lager/
END:VEVENT
BEGIN:VEVENT
DTSTART;TZID=Europe/Stockholm:20240221T090000
DTEND;TZID=Europe/Stockholm:20240221T160000
DTSTAMP:20260421T215422
CREATED:20240129T113645Z
LAST-MODIFIED:20240129T113649Z
UID:4613-1708506000-1708531200@www.klrk.se
SUMMARY:Sportlovsläger
DESCRIPTION:Läger  ridning i lilla ridhuset 14-16.
URL:https://www.klrk.se/event/sportlovslager/
END:VEVENT
BEGIN:VEVENT
DTSTART;TZID=Europe/Stockholm:20240221T110000
DTEND;TZID=Europe/Stockholm:20240221T123000
DTSTAMP:20260421T215422
CREATED:20240219T090613Z
LAST-MODIFIED:20240219T090618Z
UID:4696-1708513200-1708518600@www.klrk.se
SUMMARY:Hoppning för div 1 laget ponny
DESCRIPTION:
URL:https://www.klrk.se/event/hoppning-for-div-1-laget-ponny/
LOCATION:Karlskrona Lyckå Ridklubbs stora ridhus\, Afvelsgärdevägen 27\, Karlskrona
END:VEVENT
END:VCALENDAR