BEGIN:VCALENDAR
VERSION:2.0
PRODID:-//Karlskrona Lyckå Ridklubb - ECPv6.15.12.2//NONSGML v1.0//EN
CALSCALE:GREGORIAN
METHOD:PUBLISH
X-ORIGINAL-URL:https://www.klrk.se
X-WR-CALDESC:Händelser för Karlskrona Lyckå Ridklubb
REFRESH-INTERVAL;VALUE=DURATION:PT1H
X-Robots-Tag:noindex
X-PUBLISHED-TTL:PT1H
BEGIN:VTIMEZONE
TZID:Europe/Stockholm
BEGIN:DAYLIGHT
TZOFFSETFROM:+0100
TZOFFSETTO:+0200
TZNAME:CEST
DTSTART:20230326T010000
END:DAYLIGHT
BEGIN:STANDARD
TZOFFSETFROM:+0200
TZOFFSETTO:+0100
TZNAME:CET
DTSTART:20231029T010000
END:STANDARD
BEGIN:DAYLIGHT
TZOFFSETFROM:+0100
TZOFFSETTO:+0200
TZNAME:CEST
DTSTART:20240331T010000
END:DAYLIGHT
BEGIN:STANDARD
TZOFFSETFROM:+0200
TZOFFSETTO:+0100
TZNAME:CET
DTSTART:20241027T010000
END:STANDARD
BEGIN:DAYLIGHT
TZOFFSETFROM:+0100
TZOFFSETTO:+0200
TZNAME:CEST
DTSTART:20250330T010000
END:DAYLIGHT
BEGIN:STANDARD
TZOFFSETFROM:+0200
TZOFFSETTO:+0100
TZNAME:CET
DTSTART:20251026T010000
END:STANDARD
END:VTIMEZONE
BEGIN:VEVENT
DTSTART;TZID=Europe/Stockholm:20240701T100000
DTEND;TZID=Europe/Stockholm:20240701T110000
DTSTAMP:20260421T002615
CREATED:20240527T103954Z
LAST-MODIFIED:20240527T103958Z
UID:5126-1719828000-1719831600@www.klrk.se
SUMMARY:Para ridläger
DESCRIPTION:Ridlägret pågår mellan 9-14. Lunch i cafeterian vid 12-tiden. \nVi rider på del av stora banan kl 10 12 vid 13 rider vi ut en runda.
URL:https://www.klrk.se/event/para-ridlager-2/
LOCATION:Karlskrona Lyckå Ridklubbs stora utebana
END:VEVENT
BEGIN:VEVENT
DTSTART;TZID=Europe/Stockholm:20240701T150000
DTEND;TZID=Europe/Stockholm:20240701T210000
DTSTAMP:20260421T002615
CREATED:20240701T145110Z
LAST-MODIFIED:20240701T145304Z
UID:5205-1719846000-1719867600@www.klrk.se
SUMMARY:Niklas Haking träning
DESCRIPTION:
URL:https://www.klrk.se/event/niklas-haking-traning-3/
LOCATION:Karlskrona Lyckå Ridklubbs stora utebana
END:VEVENT
BEGIN:VEVENT
DTSTART;TZID=Europe/Stockholm:20240702T100000
DTEND;TZID=Europe/Stockholm:20240702T110000
DTSTAMP:20260421T002615
CREATED:20240527T104045Z
LAST-MODIFIED:20240527T104050Z
UID:5128-1719914400-1719918000@www.klrk.se
SUMMARY:Para ridläger
DESCRIPTION:Ridlägret pågår mellan 9-14. Lunch i cafeterian vid 12-tiden. \nVi rider på del av stora banan kl 10 12 vid 13 rider vi ut en runda.
URL:https://www.klrk.se/event/para-ridlager-3/
LOCATION:Karlskrona Lyckå Ridklubbs stora utebana
END:VEVENT
BEGIN:VEVENT
DTSTART;TZID=Europe/Stockholm:20240703T100000
DTEND;TZID=Europe/Stockholm:20240703T120000
DTSTAMP:20260421T002615
CREATED:20240527T092150Z
LAST-MODIFIED:20240527T092154Z
UID:5117-1720000800-1720008000@www.klrk.se
SUMMARY:Ridläger
DESCRIPTION:Ridlägret pågår mellan 9-21 vid ca 12.30 är det lunch i cafeterian. \nVi räknar med att ha ridning ute på del av stora banan kl 10-12 \nEftermiddagen rider vi ut. \n 
URL:https://www.klrk.se/event/ridlager-7/
LOCATION:Karlskrona Lyckå Ridklubbs stora utebana
END:VEVENT
BEGIN:VEVENT
DTSTART;TZID=Europe/Stockholm:20240704T100000
DTEND;TZID=Europe/Stockholm:20240704T120000
DTSTAMP:20260421T002615
CREATED:20240527T091911Z
LAST-MODIFIED:20240527T091911Z
UID:5113-1720087200-1720094400@www.klrk.se
SUMMARY:Ridläger
DESCRIPTION:Ridlägret pågår mellan 9-21 vid ca 12.30 är det lunch i cafeterian. \nVi räknar med att ha ridning ute på del av stora banan kl 10-12 \nEftermiddagen rider vi ut. \nPå kvällen har vi lekar och kanske bad i vattenspridarna om vädret tillåter\, vi fixar mat tillsammans grillar eller något annat gott.
URL:https://www.klrk.se/event/ridlager-5/
LOCATION:Karlskrona Lyckå Ridklubbs stora utebana
END:VEVENT
BEGIN:VEVENT
DTSTART;TZID=Europe/Stockholm:20240705T140000
DTEND;TZID=Europe/Stockholm:20240705T160000
DTSTAMP:20260421T002615
CREATED:20240527T092500Z
LAST-MODIFIED:20240527T092512Z
UID:5121-1720188000-1720195200@www.klrk.se
SUMMARY:Ridläger
DESCRIPTION:Ridlägret pågår mellan 9-21 vid ca 12.30 är det lunch i cafeterian. \nVi räknar med att ha ridning ute på del av stora banan kl 14-16 \nPå förmiddagen rider vi ut. \n 
URL:https://www.klrk.se/event/ridlager-9/
LOCATION:Karlskrona Lyckå Ridklubbs stora utebana
END:VEVENT
BEGIN:VEVENT
DTSTART;TZID=Europe/Stockholm:20240713T130000
DTEND;TZID=Europe/Stockholm:20240713T190000
DTSTAMP:20260421T002615
CREATED:20231219T113423Z
LAST-MODIFIED:20231219T113425Z
UID:4364-1720875600-1720897200@www.klrk.se
SUMMARY:Nina träning
DESCRIPTION:
URL:https://www.klrk.se/event/nina-traning-10/
LOCATION:Karlskrona Lyckå Ridklubbs stora ridhus\, Afvelsgärdevägen 27\, Karlskrona
END:VEVENT
BEGIN:VEVENT
DTSTART;TZID=Europe/Stockholm:20240715T150000
DTEND;TZID=Europe/Stockholm:20240715T210000
DTSTAMP:20260421T002615
CREATED:20240701T145359Z
LAST-MODIFIED:20240701T145406Z
UID:5207-1721055600-1721077200@www.klrk.se
SUMMARY:Niklas Haking Träning
DESCRIPTION:
URL:https://www.klrk.se/event/niklas-haking-traning-4/
LOCATION:Karlskrona Lyckå Ridklubbs stora utebana
END:VEVENT
BEGIN:VEVENT
DTSTART;TZID=Europe/Stockholm:20240729T150000
DTEND;TZID=Europe/Stockholm:20240729T210000
DTSTAMP:20260421T002615
CREATED:20240701T145451Z
LAST-MODIFIED:20240701T145458Z
UID:5209-1722265200-1722286800@www.klrk.se
SUMMARY:Niklas Haking träning
DESCRIPTION:
URL:https://www.klrk.se/event/niklas-haking-traning-5/
LOCATION:Karlskrona Lyckå Ridklubbs stora utebana
END:VEVENT
BEGIN:VEVENT
DTSTART;TZID=Europe/Stockholm:20240806T090000
DTEND;TZID=Europe/Stockholm:20240806T160000
DTSTAMP:20260421T002615
CREATED:20240806T123843Z
LAST-MODIFIED:20240806T123914Z
UID:5226-1722934800-1722960000@www.klrk.se
SUMMARY:Ridläger
DESCRIPTION:Kl. 9-16.  Ridning 10-12 på lilla banan uteritt 14.-30-15.30 \n 
URL:https://www.klrk.se/event/ridlager-10/
LOCATION:Karlskrona-Lyckå Ridklubb Lilla Utebanan\, Lyckeby\, 37163\, Sverige
END:VEVENT
BEGIN:VEVENT
DTSTART;TZID=Europe/Stockholm:20240806T090000
DTEND;TZID=Europe/Stockholm:20240806T160000
DTSTAMP:20260421T002615
CREATED:20240806T124552Z
LAST-MODIFIED:20240806T124555Z
UID:5234-1722934800-1722960000@www.klrk.se
SUMMARY:Läger trygg i stallet
DESCRIPTION:Läger  09.00-16.00\, Ridning i stora ridhuset 13.30-14.30
URL:https://www.klrk.se/event/lager-trygg-i-stallet/
END:VEVENT
BEGIN:VEVENT
DTSTART;TZID=Europe/Stockholm:20240806T170000
DTEND;TZID=Europe/Stockholm:20240806T180000
DTSTAMP:20260421T002615
CREATED:20240806T125123Z
LAST-MODIFIED:20240806T125134Z
UID:5238-1722963600-1722967200@www.klrk.se
SUMMARY:Vuxen läger
DESCRIPTION:Igång-sättningsläger kl 16-20
URL:https://www.klrk.se/event/vuxen-lager/
LOCATION:Karlskrona Lyckå Ridklubbs stora ridhus\, Afvelsgärdevägen 27\, Karlskrona
END:VEVENT
BEGIN:VEVENT
DTSTART;TZID=Europe/Stockholm:20240807T090000
DTEND;TZID=Europe/Stockholm:20240807T160000
DTSTAMP:20260421T002615
CREATED:20240806T124016Z
LAST-MODIFIED:20240806T124027Z
UID:5228-1723021200-1723046400@www.klrk.se
SUMMARY:Ridläger för barn
DESCRIPTION:Ridläger Kl. 9-16. Ridning 10-12 på lilla banan uteritt 14.-30-15.30
URL:https://www.klrk.se/event/ridlager-for-barn/
LOCATION:Karlskrona-Lyckå Ridklubb Lilla Utebanan\, Lyckeby\, 37163\, Sverige
END:VEVENT
BEGIN:VEVENT
DTSTART;TZID=Europe/Stockholm:20240807T090000
DTEND;TZID=Europe/Stockholm:20240807T160000
DTSTAMP:20260421T002615
CREATED:20240806T124701Z
LAST-MODIFIED:20240806T124706Z
UID:5236-1723021200-1723046400@www.klrk.se
SUMMARY:Läger trygg i stallet
DESCRIPTION:Läger  09.00-16.00\, Ridning i stora ridhuset 10.30-11.30 och 13.30-14.30
URL:https://www.klrk.se/event/lager-trygg-i-stallet-2/
LOCATION:Karlskrona Lyckå Ridklubbs stora ridhus\, Afvelsgärdevägen 27\, Karlskrona
END:VEVENT
BEGIN:VEVENT
DTSTART;TZID=Europe/Stockholm:20240807T160000
DTEND;TZID=Europe/Stockholm:20240807T190000
DTSTAMP:20260421T002615
CREATED:20240806T125540Z
LAST-MODIFIED:20240806T125544Z
UID:5244-1723046400-1723057200@www.klrk.se
SUMMARY:Igångsättnings-läger
DESCRIPTION:Läger 16-19 \nUteritt
URL:https://www.klrk.se/event/igangsattnings-lager/
END:VEVENT
BEGIN:VEVENT
DTSTART;TZID=Europe/Stockholm:20240808T090000
DTEND;TZID=Europe/Stockholm:20240808T160000
DTSTAMP:20260421T002615
CREATED:20240806T124113Z
LAST-MODIFIED:20240806T124118Z
UID:5230-1723107600-1723132800@www.klrk.se
SUMMARY:Ridläger för barn
DESCRIPTION:Ridläger Kl. 9-16. Ridning 10-12 på lilla banan uteritt 14.-30-15.30
URL:https://www.klrk.se/event/ridlager-for-barn-2/
LOCATION:Karlskrona-Lyckå Ridklubb Lilla Utebanan\, Lyckeby\, 37163\, Sverige
END:VEVENT
BEGIN:VEVENT
DTSTART;TZID=Europe/Stockholm:20240808T170000
DTEND;TZID=Europe/Stockholm:20240808T180000
DTSTAMP:20260421T002615
CREATED:20240806T125218Z
LAST-MODIFIED:20240806T125328Z
UID:5240-1723136400-1723140000@www.klrk.se
SUMMARY:Igång-sättnings-läger
DESCRIPTION:Ridläger kl 16-20
URL:https://www.klrk.se/event/vuxen-lager-2/
LOCATION:Karlskrona Lyckå Ridklubbs stora ridhus\, Afvelsgärdevägen 27\, Karlskrona
END:VEVENT
BEGIN:VEVENT
DTSTART;TZID=Europe/Stockholm:20240809T090000
DTEND;TZID=Europe/Stockholm:20240809T160000
DTSTAMP:20260421T002615
CREATED:20240806T124357Z
LAST-MODIFIED:20240806T124401Z
UID:5232-1723194000-1723219200@www.klrk.se
SUMMARY:Ridläger för barn
DESCRIPTION:Ridläger Kl. 9-16.  Ridning uteritt 10-11 Ridning på lilla utebanan 14.00-15.30
URL:https://www.klrk.se/event/ridlager-for-barn-3/
END:VEVENT
BEGIN:VEVENT
DTSTART;TZID=Europe/Stockholm:20240809T160000
DTEND;TZID=Europe/Stockholm:20240809T190000
DTSTAMP:20260421T002615
CREATED:20240806T125635Z
LAST-MODIFIED:20240806T125639Z
UID:5246-1723219200-1723230000@www.klrk.se
SUMMARY:Igångsättnings-läger
DESCRIPTION:Läger 16-19
URL:https://www.klrk.se/event/igangsattnings-lager-2/
END:VEVENT
BEGIN:VEVENT
DTSTART;TZID=Europe/Stockholm:20240812T160000
DTEND;TZID=Europe/Stockholm:20240812T200000
DTSTAMP:20260421T002615
CREATED:20240703T072113Z
LAST-MODIFIED:20240703T072306Z
UID:5211-1723478400-1723492800@www.klrk.se
SUMMARY:DUS träff
DESCRIPTION:
URL:https://www.klrk.se/event/dus-traff/
LOCATION:Karlskrona-Lyckå Ridklubb Lilla Utebanan\, Lyckeby\, 37163\, Sverige
END:VEVENT
BEGIN:VEVENT
DTSTART;TZID=Europe/Stockholm:20240817T120000
DTEND;TZID=Europe/Stockholm:20240817T193000
DTSTAMP:20260421T002615
CREATED:20240806T125925Z
LAST-MODIFIED:20240814T112800Z
UID:5249-1723896000-1723923000@www.klrk.se
SUMMARY:Mats träning
DESCRIPTION:
URL:https://www.klrk.se/event/mats-traning-13/
LOCATION:Karlskrona Lyckå Ridklubbs stora utebana
END:VEVENT
BEGIN:VEVENT
DTSTART;TZID=Europe/Stockholm:20240818T080000
DTEND;TZID=Europe/Stockholm:20240818T143000
DTSTAMP:20260421T002615
CREATED:20240806T130003Z
LAST-MODIFIED:20240814T112713Z
UID:5251-1723968000-1723991400@www.klrk.se
SUMMARY:Mats träning
DESCRIPTION:
URL:https://www.klrk.se/event/mats-traning-14/
LOCATION:Karlskrona Lyckå Ridklubbs stora utebana
END:VEVENT
BEGIN:VEVENT
DTSTART;VALUE=DATE:20240901
DTEND;VALUE=DATE:20240902
DTSTAMP:20260421T002615
CREATED:20240814T101257Z
LAST-MODIFIED:20240814T101257Z
UID:5264-1725148800-1725235199@www.klrk.se
SUMMARY:Hopptävling storhäst\, DM i Blekinge
DESCRIPTION:
URL:https://www.klrk.se/event/hopptavling-storhast-dm-i-blekinge/
LOCATION:Karlskrona Lyckå Ridklubbs stora utebana
END:VEVENT
BEGIN:VEVENT
DTSTART;TZID=Europe/Stockholm:20240907T110000
DTEND;TZID=Europe/Stockholm:20240907T130000
DTSTAMP:20260421T002615
CREATED:20240829T094745Z
LAST-MODIFIED:20240829T094749Z
UID:5284-1725706800-1725714000@www.klrk.se
SUMMARY:Häst-sjukvårdskurs
DESCRIPTION:Veterinär Cilla håller sjukvårdskurs. \nSamling i cafeterian därefter har vi praktisk genomgång i stallet.
URL:https://www.klrk.se/event/hast-sjukvardskurs/
LOCATION:Karlskrona Lyckå ridklubbs cafeteria\, KARLSKRONA\, 37163\, Sweden
END:VEVENT
BEGIN:VEVENT
DTSTART;VALUE=DATE:20240908
DTEND;VALUE=DATE:20240909
DTSTAMP:20260421T002615
CREATED:20240814T101326Z
LAST-MODIFIED:20240814T101340Z
UID:5266-1725753600-1725839999@www.klrk.se
SUMMARY:Hopptävling ponny\, DM i Blekinge
DESCRIPTION:
URL:https://www.klrk.se/event/hopptavling-ponny-dm-i-blekinge/
LOCATION:Karlskrona Lyckå Ridklubbs stora utebana
END:VEVENT
BEGIN:VEVENT
DTSTART;TZID=Europe/Stockholm:20240913T170000
DTEND;TZID=Europe/Stockholm:20240913T203000
DTSTAMP:20260421T002615
CREATED:20240829T095038Z
LAST-MODIFIED:20240829T095050Z
UID:5286-1726246800-1726259400@www.klrk.se
SUMMARY:Clear round hoppning
DESCRIPTION:Banbyggnad kl 17\, första start ca kl 18. \nBanhoppning i stora ridhuset\, framhoppning i lilla ridhuset.
URL:https://www.klrk.se/event/clear-round-hoppning/
LOCATION:Karlskrona Lyckå Ridklubbs stora ridhus\, Afvelsgärdevägen 27\, Karlskrona
END:VEVENT
BEGIN:VEVENT
DTSTART;TZID=Europe/Stockholm:20240914T110000
DTEND;TZID=Europe/Stockholm:20240914T233000
DTSTAMP:20260421T002615
CREATED:20240911T125245Z
LAST-MODIFIED:20240911T125258Z
UID:5372-1726311600-1726356600@www.klrk.se
SUMMARY:Byggnad Dressyrstaket
DESCRIPTION:Dressyr staketet kommer att stå uppställt på stora banan från kl 11.
URL:https://www.klrk.se/event/byggnad-dressyrstaket/
END:VEVENT
BEGIN:VEVENT
DTSTART;TZID=Europe/Stockholm:20240914T123000
DTEND;TZID=Europe/Stockholm:20240914T180000
DTSTAMP:20260421T002615
CREATED:20240829T095217Z
LAST-MODIFIED:20240911T125020Z
UID:5288-1726317000-1726336800@www.klrk.se
SUMMARY:Dressyrträning för Nina
DESCRIPTION:
URL:https://www.klrk.se/event/dressyrtraning-for-nina/
LOCATION:Karlskrona Lyckå Ridklubbs stora ridhus\, Afvelsgärdevägen 27\, Karlskrona
END:VEVENT
BEGIN:VEVENT
DTSTART;VALUE=DATE:20240915
DTEND;VALUE=DATE:20240916
DTSTAMP:20260421T002615
CREATED:20240814T101415Z
LAST-MODIFIED:20240814T101415Z
UID:5268-1726358400-1726444799@www.klrk.se
SUMMARY:Dressyrtävling häst och ponny
DESCRIPTION:
URL:https://www.klrk.se/event/dressyrtavling-hast-och-ponny/
LOCATION:Karlskrona Lyckå Ridklubbs stora utebana
END:VEVENT
BEGIN:VEVENT
DTSTART;TZID=Europe/Stockholm:20240921T110000
DTEND;TZID=Europe/Stockholm:20240921T140000
DTSTAMP:20260421T002615
CREATED:20240829T095614Z
LAST-MODIFIED:20240829T095618Z
UID:5290-1726916400-1726927200@www.klrk.se
SUMMARY:Blåbärshoppning
DESCRIPTION:Banbyggnad kl 11.10 i stora ridhuset.
URL:https://www.klrk.se/event/blabarshoppning-8/
LOCATION:Karlskrona Lyckå Ridklubbs stora ridhus\, Afvelsgärdevägen 27\, Karlskrona
END:VEVENT
END:VCALENDAR