BEGIN:VCALENDAR
VERSION:2.0
PRODID:-//Karlskrona Lyckå Ridklubb - ECPv6.15.12.2//NONSGML v1.0//EN
CALSCALE:GREGORIAN
METHOD:PUBLISH
X-ORIGINAL-URL:https://www.klrk.se
X-WR-CALDESC:Händelser för Karlskrona Lyckå Ridklubb
REFRESH-INTERVAL;VALUE=DURATION:PT1H
X-Robots-Tag:noindex
X-PUBLISHED-TTL:PT1H
BEGIN:VTIMEZONE
TZID:Europe/Stockholm
BEGIN:DAYLIGHT
TZOFFSETFROM:+0100
TZOFFSETTO:+0200
TZNAME:CEST
DTSTART:20240331T010000
END:DAYLIGHT
BEGIN:STANDARD
TZOFFSETFROM:+0200
TZOFFSETTO:+0100
TZNAME:CET
DTSTART:20241027T010000
END:STANDARD
BEGIN:DAYLIGHT
TZOFFSETFROM:+0100
TZOFFSETTO:+0200
TZNAME:CEST
DTSTART:20250330T010000
END:DAYLIGHT
BEGIN:STANDARD
TZOFFSETFROM:+0200
TZOFFSETTO:+0100
TZNAME:CET
DTSTART:20251026T010000
END:STANDARD
BEGIN:DAYLIGHT
TZOFFSETFROM:+0100
TZOFFSETTO:+0200
TZNAME:CEST
DTSTART:20260329T010000
END:DAYLIGHT
BEGIN:STANDARD
TZOFFSETFROM:+0200
TZOFFSETTO:+0100
TZNAME:CET
DTSTART:20261025T010000
END:STANDARD
END:VTIMEZONE
BEGIN:VEVENT
DTSTART;TZID=Europe/Stockholm:20250421T140000
DTEND;TZID=Europe/Stockholm:20250421T150000
DTSTAMP:20260420T002345
CREATED:20250416T170012Z
LAST-MODIFIED:20250416T165929Z
UID:6552-1745244000-1745247600@www.klrk.se
SUMMARY:Jenna träning
DESCRIPTION:Jenna träning \nMåndag 21/4 kl. 14-15 \nStora ridhuset
URL:https://www.klrk.se/event/jenna-traning-21-4-14-00/
CATEGORIES:Ridskola
END:VEVENT
BEGIN:VEVENT
DTSTART;TZID=Europe/Stockholm:20250421T090000
DTEND;TZID=Europe/Stockholm:20250421T140000
DTSTAMP:20260420T002345
CREATED:20250311T145647Z
LAST-MODIFIED:20250331T112723Z
UID:6326-1745226000-1745244000@www.klrk.se
SUMMARY:Clear round!
DESCRIPTION:Clear round i stora ridhuset\, framridning i lilla ridhuset och extra ridlektion.
URL:https://www.klrk.se/event/clear-round-12/
LOCATION:Båda ridhusen
CATEGORIES:Ridskola
END:VEVENT
BEGIN:VEVENT
DTSTART;TZID=Europe/Stockholm:20250419T090000
DTEND;TZID=Europe/Stockholm:20250419T120000
DTSTAMP:20260420T002345
CREATED:20250311T145341Z
LAST-MODIFIED:20250311T145438Z
UID:6324-1745053200-1745064000@www.klrk.se
SUMMARY:Blåbärshoppning!
DESCRIPTION:Blåbärshoppning i stora ridhuset.
URL:https://www.klrk.se/event/blabarshoppning-9/
LOCATION:Karlskrona Lyckå Ridklubbs stora ridhus\, Afvelsgärdevägen 27\, Karlskrona
CATEGORIES:Ridskola
END:VEVENT
BEGIN:VEVENT
DTSTART;TZID=Europe/Stockholm:20250418T090000
DTEND;TZID=Europe/Stockholm:20250418T140000
DTSTAMP:20260420T002345
CREATED:20250311T144836Z
LAST-MODIFIED:20250331T112627Z
UID:6322-1744966800-1744984800@www.klrk.se
SUMMARY:Programridning/Lingondressyr!
DESCRIPTION:Programridning/lingondressyr och extra lektionsridning.
URL:https://www.klrk.se/event/programridning-lingondressyr/
LOCATION:Båda ridhusen
CATEGORIES:Ridskola
END:VEVENT
BEGIN:VEVENT
DTSTART;TZID=Europe/Stockholm:20250417T140000
DTEND;TZID=Europe/Stockholm:20250417T160000
DTSTAMP:20260420T002345
CREATED:20250311T140639Z
LAST-MODIFIED:20250311T140907Z
UID:6318-1744898400-1744905600@www.klrk.se
SUMMARY:Påsklovsläger!
DESCRIPTION:Ridning i lilla ridhuset på em. ca kl. 14-16
URL:https://www.klrk.se/event/pasklovslager-4/
LOCATION:Karlskrona Lyckå ridklubbs lilla ridhus\, Afvelsgärdevägen 27\, Karlskrona
CATEGORIES:Läger
END:VEVENT
BEGIN:VEVENT
DTSTART;TZID=Europe/Stockholm:20250416T140000
DTEND;TZID=Europe/Stockholm:20250416T160000
DTSTAMP:20260420T002345
CREATED:20250311T140443Z
LAST-MODIFIED:20250311T140443Z
UID:6316-1744812000-1744819200@www.klrk.se
SUMMARY:Påsklovsläger!
DESCRIPTION:Ridning i lilla ridhuset på em. ca kl. 14-16
URL:https://www.klrk.se/event/pasklovslager-3/
LOCATION:Karlskrona Lyckå ridklubbs lilla ridhus\, Afvelsgärdevägen 27\, Karlskrona
CATEGORIES:Läger
END:VEVENT
BEGIN:VEVENT
DTSTART;TZID=Europe/Stockholm:20250415T140000
DTEND;TZID=Europe/Stockholm:20250415T160000
DTSTAMP:20260420T002345
CREATED:20250311T140040Z
LAST-MODIFIED:20250311T140040Z
UID:6314-1744725600-1744732800@www.klrk.se
SUMMARY:Påsklovsläger
DESCRIPTION:Ridning i lilla ridhuset på em. ca kl. 14-16.
URL:https://www.klrk.se/event/pasklovslager-2/
LOCATION:Karlskrona Lyckå ridklubbs lilla ridhus\, Afvelsgärdevägen 27\, Karlskrona
CATEGORIES:Läger
END:VEVENT
BEGIN:VEVENT
DTSTART;TZID=Europe/Stockholm:20250414T140000
DTEND;TZID=Europe/Stockholm:20250414T160000
DTSTAMP:20260420T002345
CREATED:20250311T135858Z
LAST-MODIFIED:20250311T135858Z
UID:6312-1744639200-1744646400@www.klrk.se
SUMMARY:Påsklovsläger
DESCRIPTION:Ridning i lilla ridhuset på em. ca kl. 14-16
URL:https://www.klrk.se/event/pasklovslager/
LOCATION:Karlskrona Lyckå ridklubbs lilla ridhus\, Afvelsgärdevägen 27\, Karlskrona
CATEGORIES:Läger
END:VEVENT
BEGIN:VEVENT
DTSTART;TZID=Europe/Stockholm:20250413T090000
DTEND;TZID=Europe/Stockholm:20250413T120000
DTSTAMP:20260420T002345
CREATED:20250404T110624Z
LAST-MODIFIED:20250407T124023Z
UID:6474-1744534800-1744545600@www.klrk.se
SUMMARY:Löshoppning
DESCRIPTION:För alla medlemmar med privathäst/ponny.
URL:https://www.klrk.se/event/loshoppning-5/
LOCATION:Karlskrona Lyckå ridklubbs lilla ridhus\, Afvelsgärdevägen 27\, Karlskrona
CATEGORIES:Träning
END:VEVENT
BEGIN:VEVENT
DTSTART;TZID=Europe/Stockholm:20250412T090000
DTEND;TZID=Europe/Stockholm:20250412T120000
DTSTAMP:20260420T002345
CREATED:20250114T123848Z
LAST-MODIFIED:20250407T124005Z
UID:5941-1744448400-1744459200@www.klrk.se
SUMMARY:Arbetsdag för alla medlemmar!
DESCRIPTION:Nu är det dags för vårterminens arbetsdag! Vi samlas vid stora stenen/återsamlingsplatsen klockan 09.00 och får instruktioner och tilldelas arbetsuppgifter av Håkan som arbetsleder och planerar vår arbetsdag! Vid 12.00 avslutar vi arbetet och serveras varm korv med dryck och kaffe i kafeterian.\nArbetsuppgifter att göra på arbetsdagen eller innan/efter beroende på när man har tid:\n* Målning av staketbrädor\n* Bygga bänkar vid lilla paddocken\n* Rensa ogräs i paddockarna\n* Rensa ridvägen vid hagarna\n* Rensa grenar och sly i hagarna bakom stora ridhuset vid elstängselt\n* Generell rensning av ogräs och sly runt om anläggningen.\n\nTitta gärna i förväg på arbetsuppgifterna och ta med den utrustning du har hemma för att utföra dem. En viss mängd redskap finns att tillgå på klubben men det är ett begränsat antal. Ta även arbetshandskar med dig då det är mycket rensning som kan bli svårt utan handskar. \n\nBåde barn och vuxna kan hjälpa till men barnen behöver ha någon vuxen med sig. Alla behövs och det  finns uppgifter som passar alla – gammal som ung.\n\nSom vi påmint om förut om inför våra arbetsdagar så har vår klubb satt som mål att vi medlemmar INTE ska behöva sälja kakor\, bingolotter\, chips och strumpor. Istället lägger vi ett par timmar var och utför det arbete vi annars skulle köpt arbetskraft för med pengarna vi samlat in. Låt oss fortsätta så! =)
URL:https://www.klrk.se/event/arbetsdag-for-alla-medlemmar-2/
LOCATION:Karlskrona Lyckå Ridklubb\, Afvelsgärdevägen 27\, Karlskrona\, Sweden
CATEGORIES:Gemenskap
ORGANIZER;CN="Karlskrona Lyck%C3%A5 Ridklubbs anl%C3%A4ggningsgrupp":MAILTO:styrelsen
END:VEVENT
BEGIN:VEVENT
DTSTART;TZID=Europe/Stockholm:20250405T123000
DTEND;TZID=Europe/Stockholm:20250405T210000
DTSTAMP:20260420T002345
CREATED:20250217T143002Z
LAST-MODIFIED:20250217T143002Z
UID:6257-1743856200-1743886800@www.klrk.se
SUMMARY:Nina-träning
DESCRIPTION:Dressyrträning för alla privata ekipage. Se Facebook för vidare info. (KLRK-Nina träning)
URL:https://www.klrk.se/event/nina-traning-12/
LOCATION:Karlskrona Lyckå Ridklubbs stora ridhus\, Afvelsgärdevägen 27\, Karlskrona
CATEGORIES:Träning
END:VEVENT
BEGIN:VEVENT
DTSTART;TZID=Europe/Stockholm:20250321T170000
DTEND;TZID=Europe/Stockholm:20250321T203000
DTSTAMP:20260420T002345
CREATED:20250311T143229Z
LAST-MODIFIED:20250311T143229Z
UID:6320-1742576400-1742589000@www.klrk.se
SUMMARY:Clear round
DESCRIPTION:Clear round i stora ridhuset\, framridning i lilla ridhuset.
URL:https://www.klrk.se/event/clear-round-11/
LOCATION:Båda ridhusen
CATEGORIES:Ridskola
END:VEVENT
BEGIN:VEVENT
DTSTART;TZID=Europe/Stockholm:20250315T123000
DTEND;TZID=Europe/Stockholm:20250315T210000
DTSTAMP:20260420T002345
CREATED:20250217T142739Z
LAST-MODIFIED:20250217T142739Z
UID:6255-1742041800-1742072400@www.klrk.se
SUMMARY:Nina-träning
DESCRIPTION:Dressyrträning för alla privata hästekipage. Se Facebook för vidare info och anmälan (KLRK Nina-träning).
URL:https://www.klrk.se/event/nina-traning-7/
CATEGORIES:Träning
END:VEVENT
BEGIN:VEVENT
DTSTART;TZID=Europe/Stockholm:20250315T090000
DTEND;TZID=Europe/Stockholm:20250315T110000
DTSTAMP:20260420T002345
CREATED:20250224T151758Z
LAST-MODIFIED:20250224T151758Z
UID:6283-1742029200-1742036400@www.klrk.se
SUMMARY:Lingondressyr
DESCRIPTION:Klubbtävling i dressyr för våra yngre deltagare. Klasser: RM 1\,2\,3- LC:1. \nLilla ridhuset är upptaget kl.9.00-12.00. Stora ridhuset är upptaget efter lingondressyren fram till kl. 13.30.
URL:https://www.klrk.se/event/lingondressyr-11/
LOCATION:Karlskrona Lyckå Ridklubbs stora ridhus\, Afvelsgärdevägen 27\, Karlskrona
END:VEVENT
BEGIN:VEVENT
DTSTART;TZID=Europe/Stockholm:20250315T080000
DTEND;TZID=Europe/Stockholm:20250315T090000
DTSTAMP:20260420T002345
CREATED:20250314T132955Z
LAST-MODIFIED:20250314T132955Z
UID:6343-1742025600-1742029200@www.klrk.se
SUMMARY:Ridskolan
DESCRIPTION:Stora ridhuset bokat en timme extra på morgonen mellan kl.8-9 för ridskolan\, därefter hålls lektionsverksamheten som vanligt enligt ridhusschema.
URL:https://www.klrk.se/event/ridskolan/
LOCATION:Karlskrona Lyckå Ridklubbs stora ridhus\, Afvelsgärdevägen 27\, Karlskrona
CATEGORIES:Ridskola
END:VEVENT
BEGIN:VEVENT
DTSTART;TZID=Europe/Stockholm:20250314T103000
DTEND;TZID=Europe/Stockholm:20250314T120000
DTSTAMP:20260420T002345
CREATED:20250220T140254Z
LAST-MODIFIED:20250220T140254Z
UID:6274-1741948200-1741953600@www.klrk.se
SUMMARY:Alette-träning
DESCRIPTION:Alette-träning i Stora ridhuset för privata ekipage.
URL:https://www.klrk.se/event/alette-traning-4/
LOCATION:Karlskrona Lyckå Ridklubbs stora ridhus\, Afvelsgärdevägen 27\, Karlskrona
CATEGORIES:Träning
END:VEVENT
BEGIN:VEVENT
DTSTART;TZID=Europe/Stockholm:20250308T140000
DTEND;TZID=Europe/Stockholm:20250309T120000
DTSTAMP:20260420T002345
CREATED:20250108T135421Z
LAST-MODIFIED:20250308T151237Z
UID:5905-1741442400-1741521600@www.klrk.se
SUMMARY:Mellokväll och melloövernattning med US
DESCRIPTION:Mellokväll i cafeterian 17.30-22.30 \nMelloövernattning i cafeterian 22.30-11.30. \nMiddag ingår i både mellokväll och melloövernattning. \nFrukost ingår i melloövernattning. \nUS bjuder på dricka och snacks under kvällen. \nDet går bra att ta med eget godis – dock EJ NÖTTER! \nEn vuxen kommer att sova i anslutande rum och finnas tillgänglig vid behov. \nKontaktperson under aktiviteten är US ordförande på plats: Edit\, på telefon: 0708-858318. \n  \nKom gärna i glammig klädsel passande mello! \n  \n 
URL:https://www.klrk.se/event/melloovernattning-med-us/
LOCATION:Karlskrona Lyckå ridklubbs cafeteria\, KARLSKRONA\, 37163\, Sweden
ORGANIZER;CN="Karlskrona Lyck%C3%A5 Ridklubbs Ungdomsstyrelse US":MAILTO:us@klrk.se
END:VEVENT
BEGIN:VEVENT
DTSTART;TZID=Europe/Stockholm:20250308T103000
DTEND;TZID=Europe/Stockholm:20250308T140000
DTSTAMP:20260420T002345
CREATED:20250211T115713Z
LAST-MODIFIED:20250224T151237Z
UID:6125-1741429800-1741442400@www.klrk.se
SUMMARY:Blåbärshoppning
DESCRIPTION:För våra yngre medlemmar som rider på ridskolan eller har egen ponny. Klasser: 30-50 cm. \nLilla ridhuset är upptaget från kl.9.00-12.00
URL:https://www.klrk.se/event/lingondressyr-10/
LOCATION:Karlskrona Lyckå Ridklubbs stora ridhus\, Afvelsgärdevägen 27\, Karlskrona
END:VEVENT
BEGIN:VEVENT
DTSTART;TZID=Europe/Stockholm:20250220T190000
DTEND;TZID=Europe/Stockholm:20250220T200000
DTSTAMP:20260420T002345
CREATED:20250219T142228Z
LAST-MODIFIED:20250219T142228Z
UID:6271-1740078000-1740081600@www.klrk.se
SUMMARY:Hoppning har företräde i lilla ridhuset kl.19-20
DESCRIPTION:Hoppning har företräde i lilla ridhuset torsdagen den 20/2 mellan kl.19-20.
URL:https://www.klrk.se/event/hoppning-har-foretrade-i-lilla-ridhuset-kl-19-20/
LOCATION:Karlskrona Lyckå ridklubbs lilla ridhus\, Afvelsgärdevägen 27\, Karlskrona
END:VEVENT
BEGIN:VEVENT
DTSTART;TZID=Europe/Stockholm:20250220T140000
DTEND;TZID=Europe/Stockholm:20250220T160000
DTSTAMP:20260420T002345
CREATED:20250211T113754Z
LAST-MODIFIED:20250216T080941Z
UID:6118-1740060000-1740067200@www.klrk.se
SUMMARY:Sportlovsläger
DESCRIPTION:Sportlovslägret håller på Kl.9.00-16.00 med ridning på em kl.14-16 i lilla ridhuset.
URL:https://www.klrk.se/event/sportlovslager-5/
LOCATION:Karlskrona Lyckå ridklubbs lilla ridhus\, Afvelsgärdevägen 27\, Karlskrona
CATEGORIES:Läger
END:VEVENT
BEGIN:VEVENT
DTSTART;TZID=Europe/Stockholm:20250220T070000
DTEND;TZID=Europe/Stockholm:20250220T120000
DTSTAMP:20260420T002345
CREATED:20250218T113203Z
LAST-MODIFIED:20250218T113203Z
UID:6269-1740034800-1740052800@www.klrk.se
SUMMARY:Underhållsarbete i Lilla ridhuset!
DESCRIPTION:Akut planerat underhållsarbete i Lilla Ridhuset under torsdagen! KL.7-12 \nDet går bra att rida i stora ridhuset. Men det är reserverat för ridskolan mellan 9.30-10.30.
URL:https://www.klrk.se/event/underhallsarbete-i-lilla-ridhuset/
LOCATION:Karlskrona Lyckå ridklubbs lilla ridhus\, Afvelsgärdevägen 27\, Karlskrona
CATEGORIES:Ridskola
END:VEVENT
BEGIN:VEVENT
DTSTART;TZID=Europe/Stockholm:20250219T140000
DTEND;TZID=Europe/Stockholm:20250219T160000
DTSTAMP:20260420T002345
CREATED:20250211T114139Z
LAST-MODIFIED:20250216T081111Z
UID:6121-1739973600-1739980800@www.klrk.se
SUMMARY:Sportlovsläger
DESCRIPTION:Sportlovslägret håller på Kl.9.00-16.00 med ridning på em kl.14-16 i lilla ridhuset.
URL:https://www.klrk.se/event/sportlovslager-6/
LOCATION:Karlskrona Lyckå ridklubbs lilla ridhus\, Afvelsgärdevägen 27\, Karlskrona
CATEGORIES:Läger
END:VEVENT
BEGIN:VEVENT
DTSTART;TZID=Europe/Stockholm:20250219T070000
DTEND;TZID=Europe/Stockholm:20250219T120000
DTSTAMP:20260420T002345
CREATED:20250218T112749Z
LAST-MODIFIED:20250218T112749Z
UID:6267-1739948400-1739966400@www.klrk.se
SUMMARY:Underhållsarbete i Stora ridhuset!
DESCRIPTION:Akut planerat underhållsarbete i Stora Ridhuset under onsdagen! KL.7-12 \nDet går bra att rida i lilla ridhuset. Men det är reserverat för ridskolan mellan 9.30-10.30.
URL:https://www.klrk.se/event/underhallsarbete-i-stora-ridhuset/
LOCATION:Karlskrona Lyckå Ridklubbs stora ridhus\, Afvelsgärdevägen 27\, Karlskrona
CATEGORIES:Ridskola
END:VEVENT
BEGIN:VEVENT
DTSTART;TZID=Europe/Stockholm:20250218T140000
DTEND;TZID=Europe/Stockholm:20250218T160000
DTSTAMP:20260420T002345
CREATED:20250128T114916Z
LAST-MODIFIED:20250216T081141Z
UID:6037-1739887200-1739894400@www.klrk.se
SUMMARY:Sportlovsläger
DESCRIPTION:Sportlovslägret håller på Kl.9.00-16.00 med ridning på em kl.14-16 i lilla ridhuset.
URL:https://www.klrk.se/event/sportlovslager-4/
LOCATION:Karlskrona Lyckå ridklubbs lilla ridhus\, Afvelsgärdevägen 27\, Karlskrona
END:VEVENT
BEGIN:VEVENT
DTSTART;TZID=Europe/Stockholm:20250217T140000
DTEND;TZID=Europe/Stockholm:20250217T160000
DTSTAMP:20260420T002345
CREATED:20250128T114811Z
LAST-MODIFIED:20250216T081020Z
UID:6035-1739800800-1739808000@www.klrk.se
SUMMARY:Sportlovsläger
DESCRIPTION:Sportlovslägret håller på Kl.9.00-16.00 med ridning på em kl.14-16 i lilla ridhuset.
URL:https://www.klrk.se/event/sportlovslager-3/
LOCATION:Karlskrona Lyckå ridklubbs lilla ridhus\, Afvelsgärdevägen 27\, Karlskrona
END:VEVENT
BEGIN:VEVENT
DTSTART;TZID=Europe/Stockholm:20250215T170000
DTEND;TZID=Europe/Stockholm:20250215T190000
DTSTAMP:20260420T002345
CREATED:20250125T131555Z
LAST-MODIFIED:20250125T131555Z
UID:6022-1739638800-1739646000@www.klrk.se
SUMMARY:US-Disco i Spandelstorpskolan gymnastiksal
DESCRIPTION:US bjuder in till disco med dans\, tävlingar och annat skoj den 15 februari klockan 17.00-19.00! Kiosk med dricka och godis! \nKlädsel: härliga\, glittriga\, dansvänliga kläder! \nEntré 20 kr som betalas på plats. \nAnmälan till US på lapp i ridskolestallet\, eller via mail us@klrk.se \nVid anmälan till mail ange deltagarens namn\, förälderns namn och telefonnummer. \nAnmälan är bindande. \nObs! US behöver vuxna som vill hjälpa till på discot med att plocka fram\, hålla ordning under tiden och sedan hjälpa till att städa. \n 
URL:https://www.klrk.se/event/us-disco-i-spandelstorpskolan-gymnastiksal/
LOCATION:Spandelstorpskolans gymnastiksal\, Spandelstorpsvägen\, Karlskrona\, 37153\, Sweden
ORGANIZER;CN="Karlskrona Lyck%C3%A5 Ridklubbs Ungdomsstyrelse US":MAILTO:us@klrk.se
END:VEVENT
BEGIN:VEVENT
DTSTART;TZID=Europe/Stockholm:20250215T140000
DTEND;TZID=Europe/Stockholm:20250215T160000
DTSTAMP:20260420T002345
CREATED:20250125T130537Z
LAST-MODIFIED:20250125T130537Z
UID:6017-1739628000-1739635200@www.klrk.se
SUMMARY:US Hinderbana – fullt ös i Spandelstorpskolan gymnastiksal
DESCRIPTION:  \n \nDen 15 februari bygger US upp en kul hinderbana i Spandelstorpskolans gymnastiksal och kör loss på banan\, leker och fixar utmaningar mellan klockan 14.00-16.00.  \nEntré 20 kr\, betalas på plats. \nAnmälan till US på lapp i ridskolestallet\, eller via mail us@klrk.se \nVid anmälan till mail ange deltagarens namn\, förälderns namn och telefonnummer. \nAnmälan är bindande.
URL:https://www.klrk.se/event/us-hinderbana-fullt-os-i-spandelstorpskolan-gymnastiksal/
LOCATION:Spandelstorpskolans gymnastiksal\, Spandelstorpsvägen\, Karlskrona\, 37153\, Sweden
ORGANIZER;CN="Karlskrona Lyck%C3%A5 Ridklubbs Ungdomsstyrelse US":MAILTO:us@klrk.se
END:VEVENT
BEGIN:VEVENT
DTSTART;TZID=Europe/Stockholm:20250214T103000
DTEND;TZID=Europe/Stockholm:20250214T120000
DTSTAMP:20260420T002345
CREATED:20250203T115153Z
LAST-MODIFIED:20250203T115153Z
UID:6081-1739529000-1739534400@www.klrk.se
SUMMARY:Alette-träning
DESCRIPTION:Dressyrträning för Alette för privata ekipage uppstallade på anläggningen i stora ridhuset.
URL:https://www.klrk.se/event/alette-traning-2/
LOCATION:Karlskrona Lyckå Ridklubbs stora ridhus\, Afvelsgärdevägen 27\, Karlskrona
CATEGORIES:Träning
END:VEVENT
BEGIN:VEVENT
DTSTART;TZID=Europe/Stockholm:20250208T180000
DTEND;TZID=Europe/Stockholm:20250208T230000
DTSTAMP:20260420T002345
CREATED:20250103T215910Z
LAST-MODIFIED:20250203T062437Z
UID:5887-1739037600-1739055600@www.klrk.se
SUMMARY:Klubbfest med middag
DESCRIPTION:Vi behöver vi få umgås och roa oss lite med god mat på bordet i februarikylan så Karlskrona Lyckå ridklubb bjuder därför in alla medlemmar att delta på klubbfest med middag på Sjöofficersällskapets restaurang/Sjöofficersmässen i Karlskrona. Alla medlemmar är välkomna men barn går i vuxens sällskap. \nDet kommer serveras buffé med många goda rätter och något sött lite senare. Under kvällen blir det quiz\, tipsrunda\, musik och annat kul! \nKom hela familjen! Det räcker att någon i familjen är medlem i KLRK. \nOrdningsregler \n\nBarn under 15 år i vuxet sällskap.\nPå Sjöofficersmässen råder bestämmelser för klädsel efter kl. 16.30. Det innebär att ”Civil klädsel skall som lägsta standard bestå av motsvarande kavaj med skjorta och slips samt normala skor.” Så klä dig festfint med andra ord!\nSjöofficersmässen har även bestämmelser när det gäller mobilanvändning. ”Mobiltelefonens ringsignal skall vara avstängd. Samtal i mobiltelefon får föras i entréhallen och förrummet till herrtoaletten\, inte i sällskapets andra lokaler\, av hänsyn till de andra gästerna.”\n\nVARMT VÄLKOMMEN!
URL:https://www.klrk.se/event/klubbfest-med-middag/
LOCATION:Sjöofficersmässen Karlskrona
CATEGORIES:Gemenskap
ORGANIZER;CN="Styrelsen":MAILTO:styrelsen@klrk.se
END:VEVENT
BEGIN:VEVENT
DTSTART;TZID=Europe/Stockholm:20250208T140000
DTEND;TZID=Europe/Stockholm:20250208T150000
DTSTAMP:20260420T002345
CREATED:20250103T214137Z
LAST-MODIFIED:20250131T195441Z
UID:5884-1739023200-1739026800@www.klrk.se
SUMMARY:Årsmöte
DESCRIPTION:Nu är det dags för årets viktigaste möte för dig som är medlem i Karlskrona Lyckå Ridklubb! \nPå årsmötet har du chansen att vara med och påverka och besluta i frågor och förslag som kommit in som motioner till klubbstyrelsen. Vi kommer också välja vilka som ska företräda dig i klubbstyrelsen framöver. \nEfter mötet finns fika till alla som deltagit! \nÅrsmöteshandlingar hittar du här: \nVerksamhetsberättelse 2024 \nVerksamhetsplan 2025 \nValberedningens förslag 2025 \nMotioner till klubbstyrelsen ska ha inkommit till styrelsen@klrk.se senast den 18 januari 2025.
URL:https://www.klrk.se/event/arsmote-2/
LOCATION:Karlskrona Lyckå ridklubbs cafeteria\, KARLSKRONA\, 37163\, Sweden
ORGANIZER;CN="Styrelsen":MAILTO:styrelsen@klrk.se
END:VEVENT
END:VCALENDAR