BEGIN:VCALENDAR
VERSION:2.0
PRODID:-//Karlskrona Lyckå Ridklubb - ECPv6.15.12.2//NONSGML v1.0//EN
CALSCALE:GREGORIAN
METHOD:PUBLISH
X-ORIGINAL-URL:https://www.klrk.se
X-WR-CALDESC:Händelser för Karlskrona Lyckå Ridklubb
REFRESH-INTERVAL;VALUE=DURATION:PT1H
X-Robots-Tag:noindex
X-PUBLISHED-TTL:PT1H
BEGIN:VTIMEZONE
TZID:Europe/Stockholm
BEGIN:DAYLIGHT
TZOFFSETFROM:+0100
TZOFFSETTO:+0200
TZNAME:CEST
DTSTART:20230326T010000
END:DAYLIGHT
BEGIN:STANDARD
TZOFFSETFROM:+0200
TZOFFSETTO:+0100
TZNAME:CET
DTSTART:20231029T010000
END:STANDARD
BEGIN:DAYLIGHT
TZOFFSETFROM:+0100
TZOFFSETTO:+0200
TZNAME:CEST
DTSTART:20240331T010000
END:DAYLIGHT
BEGIN:STANDARD
TZOFFSETFROM:+0200
TZOFFSETTO:+0100
TZNAME:CET
DTSTART:20241027T010000
END:STANDARD
BEGIN:DAYLIGHT
TZOFFSETFROM:+0100
TZOFFSETTO:+0200
TZNAME:CEST
DTSTART:20250330T010000
END:DAYLIGHT
BEGIN:STANDARD
TZOFFSETFROM:+0200
TZOFFSETTO:+0100
TZNAME:CET
DTSTART:20251026T010000
END:STANDARD
END:VTIMEZONE
BEGIN:VEVENT
DTSTART;TZID=Europe/Stockholm:20240401T100000
DTEND;TZID=Europe/Stockholm:20240401T110000
DTSTAMP:20260421T182500
CREATED:20240321T112959Z
LAST-MODIFIED:20240322T124041Z
UID:4850-1711965600-1711969200@www.klrk.se
SUMMARY:Uteritt - Ponny
DESCRIPTION:Annandag påsk den 1 april \nSamling kl 8.30 i ridskolestallet \nHästgrupperna rider kl 9 \nPonnygrupperna rider ca 10.30 \nPris 200 kr \nAnmäl till bankgiro senast 28/3
URL:https://www.klrk.se/event/ute-ritt-2/
END:VEVENT
BEGIN:VEVENT
DTSTART;TZID=Europe/Stockholm:20240401T090000
DTEND;TZID=Europe/Stockholm:20240401T100000
DTSTAMP:20260421T182500
CREATED:20240321T112921Z
LAST-MODIFIED:20240322T124106Z
UID:4848-1711962000-1711965600@www.klrk.se
SUMMARY:Uteritt - Häst
DESCRIPTION:Annandag påsk den 1 april \nSamling kl 8.30 i ridskolestallet \nHästgrupperna rider kl 9 \nPonnygrupperna rider ca 10.30 \nPris 200 kr \nAnmäl till bankgiro senast 28/3
URL:https://www.klrk.se/event/ute-ritt/
END:VEVENT
BEGIN:VEVENT
DTSTART;TZID=Europe/Stockholm:20240401T090000
DTEND;TZID=Europe/Stockholm:20240401T100000
DTSTAMP:20260421T182500
CREATED:20240129T120004Z
LAST-MODIFIED:20240321T113924Z
UID:4631-1711962000-1711965600@www.klrk.se
SUMMARY:Lingondressyr
DESCRIPTION:LINGONDRESSYR! \n Måndag 1/4\, Kl. 09.00–10.00 Max 8 startande! \nProgramridning för våra yngre ryttare.  Det blir gemensam framridning i en grupp. \nFörsta gruppen ska vara sadlade och klara kl. 09.00 och går upp till stora ridhuset gemensamt. \nDu kan välja mellan att rida RM:1\, 2\, 3 eller LC:1. \nRosett och protokoll delas ut efter sista startande för dagen när programmen är färdigräknade. \n Anmälan: till bankgiro 5939-9428 SENAST tisdagen den 29/3! \nAnge: Namn på ryttare\, vilket program och 3 alternativ på vilka ponnyer man önskar rida. ”Först till kvarn” gäller. \nKostnad/betalning: 200 kr för lektionsryttare och 150 kr för privatryttare. \nStartlistan: Publiceras på hemsidan under torsdagen och sätts då även upp på anslagstavlan i stallet.
URL:https://www.klrk.se/event/lingondressyr-7/
LOCATION:Karlskrona Lyckå Ridklubbs stora ridhus\, Afvelsgärdevägen 27\, Karlskrona
END:VEVENT
BEGIN:VEVENT
DTSTART;TZID=Europe/Stockholm:20240329T090000
DTEND;TZID=Europe/Stockholm:20240329T130000
DTSTAMP:20260421T182500
CREATED:20240129T115711Z
LAST-MODIFIED:20240321T114029Z
UID:4627-1711702800-1711717200@www.klrk.se
SUMMARY:Clear round
DESCRIPTION:Upptaget i båda ridhusen \nClear round \nLångfredagen 29 mars \nBanbyggnad kl: 09.00 \nFörsta start ca. 10.00 \n  \nAnmäl på bankgiro 5939-9428 \nSista anmälningsdag 26/3  \nBlir det fullt är det betalningsdag som gäller\, först till kvarn. \nPris: 200 kr/ lektionshäst \n150 kr/ privathäst \n200 kr/ ej medlem
URL:https://www.klrk.se/event/clear-round-8/
END:VEVENT
BEGIN:VEVENT
DTSTART;TZID=Europe/Stockholm:20240329T090000
DTEND;TZID=Europe/Stockholm:20240329T100000
DTSTAMP:20260421T182500
CREATED:20240321T113051Z
LAST-MODIFIED:20240321T113054Z
UID:4852-1711702800-1711706400@www.klrk.se
SUMMARY:Kavaletti träning
DESCRIPTION:
URL:https://www.klrk.se/event/kavaletti-traning-4/
LOCATION:Karlskrona Lyckå ridklubbs lilla ridhus\, Afvelsgärdevägen 27\, Karlskrona
END:VEVENT
BEGIN:VEVENT
DTSTART;TZID=Europe/Stockholm:20240324T180000
DTEND;TZID=Europe/Stockholm:20240324T190000
DTSTAMP:20260421T182500
CREATED:20240318T100445Z
LAST-MODIFIED:20240318T100445Z
UID:4817-1711303200-1711306800@www.klrk.se
SUMMARY:Arbetsgruppen för kommunikation\, samarbete och sponsring - arbetsmöte!
DESCRIPTION:Arbetsmöte för deltagare i arbetsgruppen. \nAlla som önskar delta i arbetsgruppen är varmt välkomna att anmäla intresse till info@klrk.se \nArbetsmöte dagordning\nKommande tävlingar\n\nHur kommunicerar vi inför\, under och efter.\nSamarbeten och sponsorer till tävlingarna.\nKommunikation inför\, under och efter till våra medlemmar som engagerar sig i tävlingarna\n\nVarumärket KLRK\n\nPlanering inför arbete med varumärket .\n\n 
URL:https://www.klrk.se/event/arbetsgruppen-for-kommunikation-samarbete-och-sponsring-arbetsmote/
LOCATION:Karlskrona Lyckå ridklubbs cafeteria\, KARLSKRONA\, 37163\, Sweden
ORGANIZER;CN="Arbetsgruppen f%C3%B6r kommunikation%2C samarbete och sponsring":MAILTO:info@klrk.se
END:VEVENT
BEGIN:VEVENT
DTSTART;TZID=Europe/Stockholm:20240322T080000
DTEND;TZID=Europe/Stockholm:20240322T170000
DTSTAMP:20260421T182500
CREATED:20240322T124558Z
LAST-MODIFIED:20240322T124624Z
UID:4873-1711094400-1711126800@www.klrk.se
SUMMARY:Dagläger tisdag-onsdag
DESCRIPTION:Lilla ridhuset är upptaget kl 14-16.\n\n\n\nPåsklovsläger \nUnder påsklovet har vi \ndagläger tisdag/onsdag \noch torsdag/fredag \n  \nVi kommer att ha häst och stallskötsel\, \nridning samt påskpyssel och äggjakt. \nLunch och frukt ingår. \n  \nTider 9-16 \nPris 800 kr
URL:https://www.klrk.se/event/daglager-tisdag-onsdag/
END:VEVENT
BEGIN:VEVENT
DTSTART;TZID=Europe/Stockholm:20240309T090000
DTEND;TZID=Europe/Stockholm:20240309T110000
DTSTAMP:20260421T182500
CREATED:20240129T115516Z
LAST-MODIFIED:20240129T115519Z
UID:4625-1709974800-1709982000@www.klrk.se
SUMMARY:Lingon dressyr
DESCRIPTION:
URL:https://www.klrk.se/event/lingon-dressyr/
LOCATION:Karlskrona Lyckå Ridklubbs stora ridhus\, Afvelsgärdevägen 27\, Karlskrona
END:VEVENT
BEGIN:VEVENT
DTSTART;TZID=Europe/Stockholm:20240308T100000
DTEND;TZID=Europe/Stockholm:20240308T110000
DTSTAMP:20260421T182500
CREATED:20240308T081611Z
LAST-MODIFIED:20240308T081614Z
UID:4773-1709892000-1709895600@www.klrk.se
SUMMARY:Ridlärare träning
DESCRIPTION:
URL:https://www.klrk.se/event/ridlarare-traning-2/
LOCATION:Karlskrona Lyckå Ridklubbs stora ridhus\, Afvelsgärdevägen 27\, Karlskrona
END:VEVENT
BEGIN:VEVENT
DTSTART;TZID=Europe/Stockholm:20240302T140000
DTEND;TZID=Europe/Stockholm:20240302T200000
DTSTAMP:20260421T182500
CREATED:20231219T113130Z
LAST-MODIFIED:20231219T113132Z
UID:4356-1709388000-1709409600@www.klrk.se
SUMMARY:Nina träning
DESCRIPTION:
URL:https://www.klrk.se/event/nina-traning-6/
LOCATION:Karlskrona Lyckå Ridklubbs stora ridhus\, Afvelsgärdevägen 27\, Karlskrona
END:VEVENT
BEGIN:VEVENT
DTSTART;TZID=Europe/Stockholm:20240302T110000
DTEND;TZID=Europe/Stockholm:20240302T140000
DTSTAMP:20260421T182500
CREATED:20240129T114830Z
LAST-MODIFIED:20240129T115300Z
UID:4621-1709377200-1709388000@www.klrk.se
SUMMARY:Blåbärshoppning
DESCRIPTION:Banbyggnad i stora ridhuset kl 11.10
URL:https://www.klrk.se/event/blabarshoppning-5/
LOCATION:Karlskrona Lyckå Ridklubbs stora ridhus\, Afvelsgärdevägen 27\, Karlskrona
END:VEVENT
BEGIN:VEVENT
DTSTART;TZID=Europe/Stockholm:20240227T170000
DTEND;TZID=Europe/Stockholm:20240227T203000
DTSTAMP:20260421T182500
CREATED:20240129T114627Z
LAST-MODIFIED:20240213T113922Z
UID:4619-1709053200-1709065800@www.klrk.se
SUMMARY:Clear round
DESCRIPTION:Banbyggnad kl 17 i stora ridhuset\, banhoppning kl 18 upptaget till ca 20.30 \nFramridning kl 18 i lilla ridhuset upptaget till ca 20
URL:https://www.klrk.se/event/clear-round-7/
END:VEVENT
BEGIN:VEVENT
DTSTART;TZID=Europe/Stockholm:20240225T140000
DTEND;TZID=Europe/Stockholm:20240225T190000
DTSTAMP:20260421T182500
CREATED:20240122T150026Z
LAST-MODIFIED:20240219T114645Z
UID:4588-1708869600-1708887600@www.klrk.se
SUMMARY:Programridning för Alette
DESCRIPTION:Programmet rids i stora ridhuset\, framridning i lilla ridhuset.
URL:https://www.klrk.se/event/programridning-for-alette/
LOCATION:Karlskrona Lyckå Ridklubbs stora ridhus\, Afvelsgärdevägen 27\, Karlskrona
END:VEVENT
BEGIN:VEVENT
DTSTART;TZID=Europe/Stockholm:20240225T100000
DTEND;TZID=Europe/Stockholm:20240225T143000
DTSTAMP:20260421T182500
CREATED:20240219T165342Z
LAST-MODIFIED:20240219T165342Z
UID:4710-1708855200-1708871400@www.klrk.se
SUMMARY:Öppen staketträning
DESCRIPTION:Vi bygger staketet kl.10\, därefter erbjuder vi öppen staketträning fram till 14.30.
URL:https://www.klrk.se/event/oppen-stakettraning/
LOCATION:Karlskrona Lyckå Ridklubbs stora ridhus\, Afvelsgärdevägen 27\, Karlskrona
END:VEVENT
BEGIN:VEVENT
DTSTART;TZID=Europe/Stockholm:20240224T150000
DTEND;TZID=Europe/Stockholm:20240224T190000
DTSTAMP:20260421T182500
CREATED:20240219T165135Z
LAST-MODIFIED:20240219T165135Z
UID:4708-1708786800-1708801200@www.klrk.se
SUMMARY:Hoppning har företräde
DESCRIPTION:Med anledning av söndagens staketträning och programridning har hoppning företräde.
URL:https://www.klrk.se/event/hoppning-har-foretrade/
LOCATION:Karlskrona Lyckå Ridklubbs stora ridhus\, Afvelsgärdevägen 27\, Karlskrona
END:VEVENT
BEGIN:VEVENT
DTSTART;TZID=Europe/Stockholm:20240223T140000
DTEND;TZID=Europe/Stockholm:20240223T160000
DTSTAMP:20260421T182500
CREATED:20240129T113844Z
LAST-MODIFIED:20240129T113847Z
UID:4617-1708696800-1708704000@www.klrk.se
SUMMARY:Prova på ridning
DESCRIPTION:
URL:https://www.klrk.se/event/prova-pa-ridning-2/
LOCATION:Karlskrona Lyckå ridklubbs lilla ridhus\, Afvelsgärdevägen 27\, Karlskrona
END:VEVENT
BEGIN:VEVENT
DTSTART;TZID=Europe/Stockholm:20240222T130000
DTEND;TZID=Europe/Stockholm:20240222T140000
DTSTAMP:20260421T182500
CREATED:20240221T175052Z
LAST-MODIFIED:20240221T175054Z
UID:4717-1708606800-1708610400@www.klrk.se
SUMMARY:Jenny träning
DESCRIPTION:
URL:https://www.klrk.se/event/jenny-traning/
LOCATION:Karlskrona Lyckå ridklubbs lilla ridhus\, Afvelsgärdevägen 27\, Karlskrona
END:VEVENT
BEGIN:VEVENT
DTSTART;TZID=Europe/Stockholm:20240222T090000
DTEND;TZID=Europe/Stockholm:20240222T160000
DTSTAMP:20260421T182500
CREATED:20240129T113721Z
LAST-MODIFIED:20240129T113725Z
UID:4615-1708592400-1708617600@www.klrk.se
SUMMARY:Sportlovsläger
DESCRIPTION:Läger  ridning i lilla ridhuset 14-16.
URL:https://www.klrk.se/event/sportlovslager-2/
END:VEVENT
BEGIN:VEVENT
DTSTART;TZID=Europe/Stockholm:20240221T110000
DTEND;TZID=Europe/Stockholm:20240221T123000
DTSTAMP:20260421T182500
CREATED:20240219T090613Z
LAST-MODIFIED:20240219T090618Z
UID:4696-1708513200-1708518600@www.klrk.se
SUMMARY:Hoppning för div 1 laget ponny
DESCRIPTION:
URL:https://www.klrk.se/event/hoppning-for-div-1-laget-ponny/
LOCATION:Karlskrona Lyckå Ridklubbs stora ridhus\, Afvelsgärdevägen 27\, Karlskrona
END:VEVENT
BEGIN:VEVENT
DTSTART;TZID=Europe/Stockholm:20240221T090000
DTEND;TZID=Europe/Stockholm:20240221T160000
DTSTAMP:20260421T182500
CREATED:20240129T113645Z
LAST-MODIFIED:20240129T113649Z
UID:4613-1708506000-1708531200@www.klrk.se
SUMMARY:Sportlovsläger
DESCRIPTION:Läger  ridning i lilla ridhuset 14-16.
URL:https://www.klrk.se/event/sportlovslager/
END:VEVENT
BEGIN:VEVENT
DTSTART;TZID=Europe/Stockholm:20240220T090000
DTEND;TZID=Europe/Stockholm:20240220T160000
DTSTAMP:20260421T182500
CREATED:20240129T113430Z
LAST-MODIFIED:20240129T113433Z
UID:4610-1708419600-1708444800@www.klrk.se
SUMMARY:Sportlovs-läger
DESCRIPTION:Läger  ridning i lilla ridhuset 14-16.
URL:https://www.klrk.se/event/sportlovs-lager/
END:VEVENT
BEGIN:VEVENT
DTSTART;TZID=Europe/Stockholm:20240219T090000
DTEND;TZID=Europe/Stockholm:20240219T160000
DTSTAMP:20260421T182500
CREATED:20240129T113355Z
LAST-MODIFIED:20240129T113516Z
UID:4608-1708333200-1708358400@www.klrk.se
SUMMARY:Sportlovs-läger
DESCRIPTION:Läger  ridning i lilla ridhuset 14-16.
URL:https://www.klrk.se/event/lager/
END:VEVENT
BEGIN:VEVENT
DTSTART;TZID=Europe/Stockholm:20240218T080000
DTEND;TZID=Europe/Stockholm:20240218T133000
DTSTAMP:20260421T182500
CREATED:20240122T145522Z
LAST-MODIFIED:20240213T114021Z
UID:4586-1708243200-1708263000@www.klrk.se
SUMMARY:Löshoppning
DESCRIPTION:
URL:https://www.klrk.se/event/loshoppning-3/
LOCATION:Karlskrona Lyckå ridklubbs lilla ridhus\, Afvelsgärdevägen 27\, Karlskrona
END:VEVENT
BEGIN:VEVENT
DTSTART;TZID=Europe/Stockholm:20240217T120000
DTEND;TZID=Europe/Stockholm:20240217T150000
DTSTAMP:20260421T182500
CREATED:20240129T113229Z
LAST-MODIFIED:20240129T113233Z
UID:4606-1708171200-1708182000@www.klrk.se
SUMMARY:Programridning för Sandra
DESCRIPTION:
URL:https://www.klrk.se/event/programridning-for-sandra/
LOCATION:Karlskrona Lyckå Ridklubbs stora ridhus\, Afvelsgärdevägen 27\, Karlskrona
END:VEVENT
BEGIN:VEVENT
DTSTART;TZID=Europe/Stockholm:20240216T150000
DTEND;TZID=Europe/Stockholm:20240216T160000
DTSTAMP:20260421T182500
CREATED:20240208T195049Z
LAST-MODIFIED:20240208T195054Z
UID:4682-1708095600-1708099200@www.klrk.se
SUMMARY:Kavaletti träning
DESCRIPTION:Extra kavaletti träning för lektionsryttare.
URL:https://www.klrk.se/event/kavaletti-traning-3/
LOCATION:Karlskrona Lyckå Ridklubbs stora ridhus\, Afvelsgärdevägen 27\, Karlskrona
END:VEVENT
BEGIN:VEVENT
DTSTART;TZID=Europe/Stockholm:20240211T080000
DTEND;TZID=Europe/Stockholm:20240211T170000
DTSTAMP:20260421T182500
CREATED:20240119T124255Z
LAST-MODIFIED:20240123T210432Z
UID:4578-1707638400-1707670800@www.klrk.se
SUMMARY:Öppen bana
DESCRIPTION:Bokning  av bananvia följande länken: https://www.edibooking.com/karlskrona-lycka-ridklubb
URL:https://www.klrk.se/event/oppen-bana/
LOCATION:Karlskrona Lyckå Ridklubbs stora ridhus\, Afvelsgärdevägen 27\, Karlskrona
END:VEVENT
BEGIN:VEVENT
DTSTART;TZID=Europe/Stockholm:20240210T180000
DTEND;TZID=Europe/Stockholm:20240210T233000
DTSTAMP:20260421T182500
CREATED:20240207T191441Z
LAST-MODIFIED:20240207T191441Z
UID:4667-1707588000-1707607800@www.klrk.se
SUMMARY:Banbyggnad öppen bana
DESCRIPTION:När banan är byggd är det inte tillåtet att rida i stora ridhuset om du inte bokat tid.
URL:https://www.klrk.se/event/banbyggnad-oppen-bana/
LOCATION:Karlskrona Lyckå Ridklubbs stora ridhus\, Afvelsgärdevägen 27\, Karlskrona
END:VEVENT
BEGIN:VEVENT
DTSTART;TZID=Europe/Stockholm:20240210T160000
DTEND;TZID=Europe/Stockholm:20240210T180000
DTSTAMP:20260421T182500
CREATED:20231219T113043Z
LAST-MODIFIED:20240205T104125Z
UID:4354-1707580800-1707588000@www.klrk.se
SUMMARY:Nina träning
DESCRIPTION:
URL:https://www.klrk.se/event/nina-traning-5/
LOCATION:Karlskrona Lyckå Ridklubbs stora ridhus\, Afvelsgärdevägen 27\, Karlskrona
END:VEVENT
BEGIN:VEVENT
DTSTART;TZID=Europe/Stockholm:20240210T150000
DTEND;TZID=Europe/Stockholm:20240210T170000
DTSTAMP:20260421T182500
CREATED:20240119T145834Z
LAST-MODIFIED:20240120T155045Z
UID:4582-1707577200-1707584400@www.klrk.se
SUMMARY:Årsmöte
DESCRIPTION:Cafeterian
URL:https://www.klrk.se/event/arsmote/
END:VEVENT
BEGIN:VEVENT
DTSTART;TZID=Europe/Stockholm:20240210T130000
DTEND;TZID=Europe/Stockholm:20240210T190000
DTSTAMP:20260421T182500
CREATED:20240205T104339Z
LAST-MODIFIED:20240205T130847Z
UID:4654-1707570000-1707591600@www.klrk.se
SUMMARY:Nina träning
DESCRIPTION:Det är ledigt i lilla ridhuset mellan 16.00 till 17\,45 då är Nina träningen i stora ridhuset sedan går de tillbaka till lilla ridhuset.
URL:https://www.klrk.se/event/nina-traning-11/
LOCATION:Karlskrona Lyckå ridklubbs lilla ridhus\, Afvelsgärdevägen 27\, Karlskrona
END:VEVENT
END:VCALENDAR