BEGIN:VCALENDAR
VERSION:2.0
PRODID:-//Karlskrona Lyckå Ridklubb - ECPv6.15.12.2//NONSGML v1.0//EN
CALSCALE:GREGORIAN
METHOD:PUBLISH
X-ORIGINAL-URL:https://www.klrk.se
X-WR-CALDESC:Händelser för Karlskrona Lyckå Ridklubb
REFRESH-INTERVAL;VALUE=DURATION:PT1H
X-Robots-Tag:noindex
X-PUBLISHED-TTL:PT1H
BEGIN:VTIMEZONE
TZID:Europe/Stockholm
BEGIN:DAYLIGHT
TZOFFSETFROM:+0100
TZOFFSETTO:+0200
TZNAME:CEST
DTSTART:20220327T010000
END:DAYLIGHT
BEGIN:STANDARD
TZOFFSETFROM:+0200
TZOFFSETTO:+0100
TZNAME:CET
DTSTART:20221030T010000
END:STANDARD
BEGIN:DAYLIGHT
TZOFFSETFROM:+0100
TZOFFSETTO:+0200
TZNAME:CEST
DTSTART:20230326T010000
END:DAYLIGHT
BEGIN:STANDARD
TZOFFSETFROM:+0200
TZOFFSETTO:+0100
TZNAME:CET
DTSTART:20231029T010000
END:STANDARD
BEGIN:DAYLIGHT
TZOFFSETFROM:+0100
TZOFFSETTO:+0200
TZNAME:CEST
DTSTART:20240331T010000
END:DAYLIGHT
BEGIN:STANDARD
TZOFFSETFROM:+0200
TZOFFSETTO:+0100
TZNAME:CET
DTSTART:20241027T010000
END:STANDARD
END:VTIMEZONE
BEGIN:VEVENT
DTSTART;TZID=Europe/Stockholm:20231215T100000
DTEND;TZID=Europe/Stockholm:20231215T113000
DTSTAMP:20260422T233529
CREATED:20231212T103415Z
LAST-MODIFIED:20231212T103618Z
UID:4220-1702634400-1702639800@www.klrk.se
SUMMARY:Ridlärare-ridning
DESCRIPTION:
URL:https://www.klrk.se/event/ridlarare-ridning/
LOCATION:Karlskrona Lyckå Ridklubbs stora ridhus\, Afvelsgärdevägen 27\, Karlskrona
END:VEVENT
BEGIN:VEVENT
DTSTART;TZID=Europe/Stockholm:20231210T080000
DTEND;TZID=Europe/Stockholm:20231210T170000
DTSTAMP:20260422T233529
CREATED:20231109T212914Z
LAST-MODIFIED:20231109T212914Z
UID:4075-1702195200-1702227600@www.klrk.se
SUMMARY:Pay & jump - Julskuttet
DESCRIPTION:
URL:https://www.klrk.se/event/pay-jump-julskuttet-2/
LOCATION:Karlskrona Lyckå ridklubbs lilla ridhus\, Afvelsgärdevägen 27\, Karlskrona
END:VEVENT
BEGIN:VEVENT
DTSTART;VALUE=DATE:20231210
DTEND;VALUE=DATE:20231211
DTSTAMP:20260422T233529
CREATED:20231109T212820Z
LAST-MODIFIED:20231109T212820Z
UID:4073-1702166400-1702252799@www.klrk.se
SUMMARY:Pay & jump - Julskuttet
DESCRIPTION:
URL:https://www.klrk.se/event/pay-jump-julskuttet/
LOCATION:Karlskrona Lyckå Ridklubbs stora ridhus\, Afvelsgärdevägen 27\, Karlskrona
END:VEVENT
BEGIN:VEVENT
DTSTART;TZID=Europe/Stockholm:20231209T163000
DTEND;TZID=Europe/Stockholm:20231209T233000
DTSTAMP:20260422T233529
CREATED:20231204T122021Z
LAST-MODIFIED:20231204T122021Z
UID:4181-1702139400-1702164600@www.klrk.se
SUMMARY:Banbyggnad Julskuttet
DESCRIPTION:Vi bygger banan och pyntar ridhuset inför söndagens Pay & Jump. Alla som kan hjälpa till är välkomna\, ta gärna med lite juligt (och hästssäkert) pynt!
URL:https://www.klrk.se/event/banbyggnad-julskuttet/
LOCATION:Karlskrona Lyckå Ridklubbs stora ridhus\, Afvelsgärdevägen 27\, Karlskrona
END:VEVENT
BEGIN:VEVENT
DTSTART;TZID=Europe/Stockholm:20231203T080000
DTEND;TZID=Europe/Stockholm:20231203T140000
DTSTAMP:20260422T233529
CREATED:20231114T082531Z
LAST-MODIFIED:20231129T094728Z
UID:4085-1701590400-1701612000@www.klrk.se
SUMMARY:Löshoppning
DESCRIPTION:
URL:https://www.klrk.se/event/loshoppning-2/
LOCATION:Karlskrona Lyckå ridklubbs lilla ridhus\, Afvelsgärdevägen 27\, Karlskrona
END:VEVENT
BEGIN:VEVENT
DTSTART;TZID=Europe/Stockholm:20231202T123000
DTEND;TZID=Europe/Stockholm:20231202T153000
DTSTAMP:20260422T233529
CREATED:20231129T095009Z
LAST-MODIFIED:20231129T095753Z
UID:4169-1701520200-1701531000@www.klrk.se
SUMMARY:Cafeterian är uthyrd till Ponnykalas
DESCRIPTION:Cafeterian är uthyrd till Ponnykalas Lördag 2 dec kl 12.30-15.30. \nLilla ridhuset är upptaget 13.00-14.00
URL:https://www.klrk.se/event/cafeterian-ar-uthyrd-till-ponnykalas/
END:VEVENT
BEGIN:VEVENT
DTSTART;TZID=Europe/Stockholm:20231202T110000
DTEND;TZID=Europe/Stockholm:20231202T140000
DTSTAMP:20260422T233529
CREATED:20231009T092803Z
LAST-MODIFIED:20231129T094811Z
UID:3980-1701514800-1701525600@www.klrk.se
SUMMARY:Blåbärshoppning
DESCRIPTION:
URL:https://www.klrk.se/event/blabarshoppning-4/
LOCATION:Karlskrona Lyckå Ridklubbs stora ridhus\, Afvelsgärdevägen 27\, Karlskrona
END:VEVENT
BEGIN:VEVENT
DTSTART;TZID=Europe/Stockholm:20231126T090000
DTEND;TZID=Europe/Stockholm:20231126T140000
DTSTAMP:20260422T233529
CREATED:20231009T092554Z
LAST-MODIFIED:20231009T092558Z
UID:3976-1700989200-1701007200@www.klrk.se
SUMMARY:Mats-träning
DESCRIPTION:
URL:https://www.klrk.se/event/mats-traning-10/
LOCATION:Karlskrona Lyckå Ridklubbs stora ridhus\, Afvelsgärdevägen 27\, Karlskrona
END:VEVENT
BEGIN:VEVENT
DTSTART;TZID=Europe/Stockholm:20231125T130000
DTEND;TZID=Europe/Stockholm:20231125T200000
DTSTAMP:20260422T233529
CREATED:20231009T092646Z
LAST-MODIFIED:20231114T082409Z
UID:3978-1700917200-1700942400@www.klrk.se
SUMMARY:Nina-träning
DESCRIPTION:
URL:https://www.klrk.se/event/nina-traning-4/
LOCATION:Karlskrona Lyckå ridklubbs lilla ridhus\, Afvelsgärdevägen 27\, Karlskrona
END:VEVENT
BEGIN:VEVENT
DTSTART;TZID=Europe/Stockholm:20231125T130000
DTEND;TZID=Europe/Stockholm:20231125T190000
DTSTAMP:20260422T233529
CREATED:20231009T092427Z
LAST-MODIFIED:20231009T092431Z
UID:3974-1700917200-1700938800@www.klrk.se
SUMMARY:Mats-träning
DESCRIPTION:
URL:https://www.klrk.se/event/mats-traning-9/
LOCATION:Karlskrona Lyckå Ridklubbs stora ridhus\, Afvelsgärdevägen 27\, Karlskrona
END:VEVENT
BEGIN:VEVENT
DTSTART;TZID=Europe/Stockholm:20231125T090000
DTEND;TZID=Europe/Stockholm:20231125T110000
DTSTAMP:20260422T233529
CREATED:20231009T092336Z
LAST-MODIFIED:20231009T092341Z
UID:3972-1700902800-1700910000@www.klrk.se
SUMMARY:Lingondressyr
DESCRIPTION:
URL:https://www.klrk.se/event/lingondressyr-5/
END:VEVENT
BEGIN:VEVENT
DTSTART;TZID=Europe/Stockholm:20231112T080000
DTEND;TZID=Europe/Stockholm:20231112T170000
DTSTAMP:20260422T233529
CREATED:20231009T092042Z
LAST-MODIFIED:20231009T092046Z
UID:3970-1699776000-1699808400@www.klrk.se
SUMMARY:Dressyrtävling
DESCRIPTION:Tävling för både häst och ponny.
URL:https://www.klrk.se/event/dressyrtavling-3/
END:VEVENT
BEGIN:VEVENT
DTSTART;TZID=Europe/Stockholm:20231110T100000
DTEND;TZID=Europe/Stockholm:20231110T110000
DTSTAMP:20260422T233529
CREATED:20231110T081219Z
LAST-MODIFIED:20231110T081223Z
UID:4077-1699610400-1699614000@www.klrk.se
SUMMARY:Ridlärarträning
DESCRIPTION:
URL:https://www.klrk.se/event/ridlarartraning/
LOCATION:Karlskrona Lyckå Ridklubbs stora ridhus\, Afvelsgärdevägen 27\, Karlskrona
END:VEVENT
BEGIN:VEVENT
DTSTART;TZID=Europe/Stockholm:20231105T080000
DTEND;TZID=Europe/Stockholm:20231105T170000
DTSTAMP:20260422T233529
CREATED:20231024T151502Z
LAST-MODIFIED:20231024T151502Z
UID:4028-1699171200-1699203600@www.klrk.se
SUMMARY:WE-tävling
DESCRIPTION:
URL:https://www.klrk.se/event/we-tavling-2/
LOCATION:Karlskrona Lyckå ridklubbs lilla ridhus\, Afvelsgärdevägen 27\, Karlskrona
CATEGORIES:Tävling
END:VEVENT
BEGIN:VEVENT
DTSTART;VALUE=DATE:20231105
DTEND;VALUE=DATE:20231106
DTSTAMP:20260422T233529
CREATED:20230919T172025Z
LAST-MODIFIED:20230919T172025Z
UID:3926-1699142400-1699228799@www.klrk.se
SUMMARY:WE Tävling
DESCRIPTION:
URL:https://www.klrk.se/event/we-tavling/
LOCATION:Karlskrona Lyckå Ridklubbs stora ridhus\, Afvelsgärdevägen 27\, Karlskrona
CATEGORIES:Tävling
END:VEVENT
BEGIN:VEVENT
DTSTART;TZID=Europe/Stockholm:20231104T180000
DTEND;TZID=Europe/Stockholm:20231104T233000
DTSTAMP:20260422T233529
CREATED:20231031T202215Z
LAST-MODIFIED:20231031T202215Z
UID:4060-1699120800-1699140600@www.klrk.se
SUMMARY:Banbyggnad WE
DESCRIPTION:
URL:https://www.klrk.se/event/banbyggnad-we/
LOCATION:Karlskrona Lyckå Ridklubbs stora ridhus\, Afvelsgärdevägen 27\, Karlskrona
CATEGORIES:Tävling
END:VEVENT
BEGIN:VEVENT
DTSTART;TZID=Europe/Stockholm:20231104T110000
DTEND;TZID=Europe/Stockholm:20231104T140000
DTSTAMP:20260422T233529
CREATED:20231009T091939Z
LAST-MODIFIED:20231009T091942Z
UID:3968-1699095600-1699106400@www.klrk.se
SUMMARY:Programridning
DESCRIPTION:
URL:https://www.klrk.se/event/programridning-5/
END:VEVENT
BEGIN:VEVENT
DTSTART;TZID=Europe/Stockholm:20231102T090000
DTEND;TZID=Europe/Stockholm:20231102T160000
DTSTAMP:20260422T233529
CREATED:20231009T091747Z
LAST-MODIFIED:20231009T091801Z
UID:3966-1698915600-1698940800@www.klrk.se
SUMMARY:Dagläger onsdag-torsdag
DESCRIPTION:Höstlovsläger \nUnder höstlovet har vi dagläger måndag/tisdag \nsamt onsdag /torsdag. \nTider 9-16.  Pris 800 kr \n  \nVi kommer att ha häst och stallskötsel\, \nsamt ridning. \nLunch och frukt ingår. \n  \nAnmäl till bankgiro 5939-9428 \nDet finns 14 platser/läger\, först till kvarn.
URL:https://www.klrk.se/event/daglager-onsdag-torsdag-2/
END:VEVENT
BEGIN:VEVENT
DTSTART;TZID=Europe/Stockholm:20231101T090000
DTEND;TZID=Europe/Stockholm:20231101T160000
DTSTAMP:20260422T233529
CREATED:20231009T091711Z
LAST-MODIFIED:20231009T091715Z
UID:3964-1698829200-1698854400@www.klrk.se
SUMMARY:Dagläger onsdag-torsdag
DESCRIPTION:Höstlovsläger \nUnder höstlovet har vi dagläger måndag/tisdag \nsamt onsdag /torsdag. \nTider 9-16.  Pris 800 kr \n  \nVi kommer att ha häst och stallskötsel\, \nsamt ridning. \nLunch och frukt ingår. \n  \nAnmäl till bankgiro 5939-9428 \nDet finns 14 platser/läger\, först till kvarn.
URL:https://www.klrk.se/event/daglager-onsdag-torsdag/
END:VEVENT
BEGIN:VEVENT
DTSTART;TZID=Europe/Stockholm:20231031T090000
DTEND;TZID=Europe/Stockholm:20231031T160000
DTSTAMP:20260422T233529
CREATED:20231009T091620Z
LAST-MODIFIED:20231009T091624Z
UID:3962-1698742800-1698768000@www.klrk.se
SUMMARY:Dagläger måndag-tisdag
DESCRIPTION:Höstlovsläger \nUnder höstlovet har vi dagläger måndag/tisdag \nsamt onsdag /torsdag. \nTider 9-16.  Pris 800 kr \n  \nVi kommer att ha häst och stallskötsel\, \nsamt ridning. \nLunch och frukt ingår. \n  \nAnmäl till bankgiro 5939-9428 \nDet finns 14 platser/läger\, först till kvarn.
URL:https://www.klrk.se/event/daglager-mandag-tisdag-2/
END:VEVENT
BEGIN:VEVENT
DTSTART;TZID=Europe/Stockholm:20231030T090000
DTEND;TZID=Europe/Stockholm:20231030T160000
DTSTAMP:20260422T233529
CREATED:20231009T091534Z
LAST-MODIFIED:20231009T091540Z
UID:3960-1698656400-1698681600@www.klrk.se
SUMMARY:Dagläger måndag-tisdag
DESCRIPTION:Höstlovsläger \nUnder höstlovet har vi dagläger måndag/tisdag \nsamt onsdag /torsdag. \nTider 9-16.  Pris 800 kr \n  \nVi kommer att ha häst och stallskötsel\, \nsamt ridning. \nLunch och frukt ingår. \n  \nAnmäl till bankgiro 5939-9428 \nDet finns 14 platser/läger\, först till kvarn.
URL:https://www.klrk.se/event/daglager-mandag-tisdag/
END:VEVENT
BEGIN:VEVENT
DTSTART;TZID=Europe/Stockholm:20231027T180000
DTEND;TZID=Europe/Stockholm:20231027T203000
DTSTAMP:20260422T233529
CREATED:20231009T091325Z
LAST-MODIFIED:20231009T091328Z
UID:3958-1698429600-1698438600@www.klrk.se
SUMMARY:Clear round
DESCRIPTION:
URL:https://www.klrk.se/event/clear-round-5/
LOCATION:Karlskrona Lyckå Ridklubbs stora ridhus\, Afvelsgärdevägen 27\, Karlskrona
END:VEVENT
BEGIN:VEVENT
DTSTART;TZID=Europe/Stockholm:20231027T100000
DTEND;TZID=Europe/Stockholm:20231027T113000
DTSTAMP:20260422T233529
CREATED:20231026T085448Z
LAST-MODIFIED:20231026T085453Z
UID:4035-1698400800-1698406200@www.klrk.se
SUMMARY:Träning för ridlärarna
DESCRIPTION:
URL:https://www.klrk.se/event/traning-for-ridlararna/
END:VEVENT
BEGIN:VEVENT
DTSTART;TZID=Europe/Stockholm:20231015T130000
DTEND;TZID=Europe/Stockholm:20231015T190000
DTSTAMP:20260422T233529
CREATED:20230912T103643Z
LAST-MODIFIED:20231004T110551Z
UID:3903-1697374800-1697396400@www.klrk.se
SUMMARY:Nina Träning
DESCRIPTION:
URL:https://www.klrk.se/event/nina-traning-3/
LOCATION:Karlskrona Lyckå ridklubbs lilla ridhus\, Afvelsgärdevägen 27\, Karlskrona
END:VEVENT
BEGIN:VEVENT
DTSTART;TZID=Europe/Stockholm:20231008T090000
DTEND;TZID=Europe/Stockholm:20231008T153000
DTSTAMP:20260422T233529
CREATED:20230912T103533Z
LAST-MODIFIED:20230912T103550Z
UID:3901-1696755600-1696779000@www.klrk.se
SUMMARY:Ridskoleserien
DESCRIPTION:Dressyr i Lilla ridhuset\, Hoppning i stora ridhuset och samling samt kunskapstest i cafeterian.
URL:https://www.klrk.se/event/ridskoleserien-2/
END:VEVENT
BEGIN:VEVENT
DTSTART;TZID=Europe/Stockholm:20231001T133000
DTEND;TZID=Europe/Stockholm:20231001T180000
DTSTAMP:20260422T233529
CREATED:20230811T084214Z
LAST-MODIFIED:20230912T103246Z
UID:3793-1696167000-1696183200@www.klrk.se
SUMMARY:Nina träning
DESCRIPTION:Lilla ridhuset
URL:https://www.klrk.se/event/nina-traning-2/
END:VEVENT
BEGIN:VEVENT
DTSTART;TZID=Europe/Stockholm:20230930T090000
DTEND;TZID=Europe/Stockholm:20230930T110000
DTSTAMP:20260422T233529
CREATED:20230811T082707Z
LAST-MODIFIED:20230811T082711Z
UID:3791-1696064400-1696071600@www.klrk.se
SUMMARY:Lingondressyr
DESCRIPTION:
URL:https://www.klrk.se/event/lingondressyr-4/
LOCATION:Karlskrona Lyckå Ridklubbs stora ridhus\, Afvelsgärdevägen 27\, Karlskrona
END:VEVENT
BEGIN:VEVENT
DTSTART;TZID=Europe/Stockholm:20230927T070000
DTEND;TZID=Europe/Stockholm:20230927T160000
DTSTAMP:20260422T233529
CREATED:20230816T195039Z
LAST-MODIFIED:20230817T113054Z
UID:3806-1695798000-1695830400@www.klrk.se
SUMMARY:Arbete med trädfällning runtomkring båda ridhusen
DESCRIPTION:Under dagen kommer det pågå arbete med trädfällning runtomkring båda ridhusen. De fällda träden samt ris och grenar som ligger på anläggningen sedan tidigare kommer därefter att flisas. Träflisen kommer under hösten att användas på anläggningen för att förbättra underlagen. \nBåde fällning och flisning innebär oväsen och begränsad framkomlighet mellan cirka 07.00-16.00.
URL:https://www.klrk.se/event/arbete-med-tradfallning-runtomkring-bada-ridhusen/
END:VEVENT
BEGIN:VEVENT
DTSTART;TZID=Europe/Stockholm:20230923T110000
DTEND;TZID=Europe/Stockholm:20230923T140000
DTSTAMP:20260422T233529
CREATED:20230811T082627Z
LAST-MODIFIED:20230811T082627Z
UID:3789-1695466800-1695477600@www.klrk.se
SUMMARY:Blåbärshoppning
DESCRIPTION:
URL:https://www.klrk.se/event/blabarshoppning-3/
LOCATION:Karlskrona Lyckå Ridklubbs stora ridhus\, Afvelsgärdevägen 27\, Karlskrona
END:VEVENT
BEGIN:VEVENT
DTSTART;TZID=Europe/Stockholm:20230917T080000
DTEND;TZID=Europe/Stockholm:20230917T170000
DTSTAMP:20260422T233529
CREATED:20230823T084457Z
LAST-MODIFIED:20230823T084501Z
UID:3854-1694937600-1694970000@www.klrk.se
SUMMARY:Mats träning
DESCRIPTION:
URL:https://www.klrk.se/event/mats-traning-8/
LOCATION:Karlskrona Lyckå Ridklubbs stora ridhus\, Afvelsgärdevägen 27\, Karlskrona
END:VEVENT
END:VCALENDAR