BEGIN:VCALENDAR
VERSION:2.0
PRODID:-//Karlskrona Lyckå Ridklubb - ECPv6.15.12.2//NONSGML v1.0//EN
CALSCALE:GREGORIAN
METHOD:PUBLISH
X-ORIGINAL-URL:https://www.klrk.se
X-WR-CALDESC:Händelser för Karlskrona Lyckå Ridklubb
REFRESH-INTERVAL;VALUE=DURATION:PT1H
X-Robots-Tag:noindex
X-PUBLISHED-TTL:PT1H
BEGIN:VTIMEZONE
TZID:Europe/Stockholm
BEGIN:DAYLIGHT
TZOFFSETFROM:+0100
TZOFFSETTO:+0200
TZNAME:CEST
DTSTART:20210328T010000
END:DAYLIGHT
BEGIN:STANDARD
TZOFFSETFROM:+0200
TZOFFSETTO:+0100
TZNAME:CET
DTSTART:20211031T010000
END:STANDARD
BEGIN:DAYLIGHT
TZOFFSETFROM:+0100
TZOFFSETTO:+0200
TZNAME:CEST
DTSTART:20220327T010000
END:DAYLIGHT
BEGIN:STANDARD
TZOFFSETFROM:+0200
TZOFFSETTO:+0100
TZNAME:CET
DTSTART:20221030T010000
END:STANDARD
BEGIN:DAYLIGHT
TZOFFSETFROM:+0100
TZOFFSETTO:+0200
TZNAME:CEST
DTSTART:20230326T010000
END:DAYLIGHT
BEGIN:STANDARD
TZOFFSETFROM:+0200
TZOFFSETTO:+0100
TZNAME:CET
DTSTART:20231029T010000
END:STANDARD
END:VTIMEZONE
BEGIN:VEVENT
DTSTART;TZID=Europe/Stockholm:20221227T090000
DTEND;TZID=Europe/Stockholm:20221227T160000
DTSTAMP:20260424T093728
CREATED:20221209T122053Z
LAST-MODIFIED:20221215T102652Z
UID:2789-1672131600-1672156800@www.klrk.se
SUMMARY:Dagridläger
DESCRIPTION:Dagridläger. Nivå 2. Pris 1000 kr. \nRidning i stora ridhuset kl. 14.00-15.00 \nLilla delen är ledig
URL:https://www.klrk.se/event/dagridlager/
CATEGORIES:Läger,Ridskola
END:VEVENT
BEGIN:VEVENT
DTSTART;TZID=Europe/Stockholm:20221223T100000
DTEND;TZID=Europe/Stockholm:20221223T110000
DTSTAMP:20260424T093728
CREATED:20221209T121739Z
LAST-MODIFIED:20221222T123009Z
UID:2785-1671789600-1671793200@www.klrk.se
SUMMARY:Ridlektion/ridpass
DESCRIPTION:Pris 250 kr junior\, 300 kr senior \nKl 09.00-10.00 i Lilla ridhuset \n 
URL:https://www.klrk.se/event/ridlektion-julaktivitet/
LOCATION:Karlskrona Lyckå ridklubbs lilla ridhus\, Afvelsgärdevägen 27\, Karlskrona
CATEGORIES:Ridskola
END:VEVENT
BEGIN:VEVENT
DTSTART;TZID=Europe/Stockholm:20221223T090000
DTEND;TZID=Europe/Stockholm:20221223T120000
DTSTAMP:20260424T093728
CREATED:20221209T121352Z
LAST-MODIFIED:20221215T102814Z
UID:2783-1671786000-1671796800@www.klrk.se
SUMMARY:Blåbärshoppning
DESCRIPTION:Banbyggnad i stora ridhuset kl 09.00-09.30 \nHoppningen  börjar kl 09.30
URL:https://www.klrk.se/event/blabarshoppning/
LOCATION:Karlskrona Lyckå Ridklubbs stora ridhus\, Afvelsgärdevägen 27\, Karlskrona
CATEGORIES:Tävling
END:VEVENT
BEGIN:VEVENT
DTSTART;TZID=Europe/Stockholm:20221222T090000
DTEND;TZID=Europe/Stockholm:20221222T120000
DTSTAMP:20260424T093728
CREATED:20221220T123445Z
LAST-MODIFIED:20221220T123451Z
UID:2890-1671699600-1671710400@www.klrk.se
SUMMARY:Löshoppning lilla ridhuset
DESCRIPTION:
URL:https://www.klrk.se/event/loshoppning-lilla-ridhuset/
LOCATION:Karlskrona Lyckå ridklubbs lilla ridhus\, Afvelsgärdevägen 27\, Karlskrona
END:VEVENT
BEGIN:VEVENT
DTSTART;TZID=Europe/Stockholm:20221218T090000
DTEND;TZID=Europe/Stockholm:20221218T150000
DTSTAMP:20260424T093728
CREATED:20221209T120240Z
LAST-MODIFIED:20221215T093759Z
UID:2781-1671354000-1671375600@www.klrk.se
SUMMARY:Johanna träning
DESCRIPTION:09:00–15:00\nJohanna träning
URL:https://www.klrk.se/event/johanna-traning-2/
LOCATION:Karlskrona Lyckå ridklubbs lilla ridhus\, Afvelsgärdevägen 27\, Karlskrona
CATEGORIES:Träning
END:VEVENT
BEGIN:VEVENT
DTSTART;TZID=Europe/Stockholm:20221218T090000
DTEND;TZID=Europe/Stockholm:20221218T140000
DTSTAMP:20260424T093728
CREATED:20221215T094012Z
LAST-MODIFIED:20221215T094135Z
UID:2834-1671354000-1671372000@www.klrk.se
SUMMARY:Mats träning
DESCRIPTION:Stora ridhuset
URL:https://www.klrk.se/event/mats-traning-2/
END:VEVENT
BEGIN:VEVENT
DTSTART;TZID=Europe/Stockholm:20221217T130000
DTEND;TZID=Europe/Stockholm:20221217T190000
DTSTAMP:20260424T093728
CREATED:20221215T093923Z
LAST-MODIFIED:20221215T094203Z
UID:2832-1671282000-1671303600@www.klrk.se
SUMMARY:Mats träning
DESCRIPTION:Stora ridhuset
URL:https://www.klrk.se/event/mats-traning/
END:VEVENT
BEGIN:VEVENT
DTSTART;TZID=Europe/Stockholm:20221217T130000
DTEND;TZID=Europe/Stockholm:20221217T190000
DTSTAMP:20260424T093728
CREATED:20221209T115844Z
LAST-MODIFIED:20221215T093727Z
UID:2778-1671282000-1671303600@www.klrk.se
SUMMARY:Johanna träning
DESCRIPTION:13:00–19:00\nJohanna träning anmäl till fb gruppen Johannaträning KLRK
URL:https://www.klrk.se/event/johanna-traning/
LOCATION:Karlskrona Lyckå ridklubbs lilla ridhus\, Afvelsgärdevägen 27\, Karlskrona
CATEGORIES:Träning
END:VEVENT
BEGIN:VEVENT
DTSTART;TZID=Europe/Stockholm:20221215T190000
DTEND;TZID=Europe/Stockholm:20221215T213000
DTSTAMP:20260424T093728
CREATED:20221209T115712Z
LAST-MODIFIED:20221215T093555Z
UID:2776-1671130800-1671139800@www.klrk.se
SUMMARY:Tina träning
DESCRIPTION:Grupp 1: 19:00–20:15 \nGrupp 2: 20:15–21:30
URL:https://www.klrk.se/event/tina-traning/
LOCATION:Karlskrona Lyckå Ridklubbs stora ridhus\, Afvelsgärdevägen 27\, Karlskrona
CATEGORIES:Träning
END:VEVENT
BEGIN:VEVENT
DTSTART;TZID=Europe/Stockholm:20221214T180000
DTEND;TZID=Europe/Stockholm:20221214T211500
DTSTAMP:20260424T093728
CREATED:20221209T115526Z
LAST-MODIFIED:20221209T120434Z
UID:2774-1671040800-1671052500@www.klrk.se
SUMMARY:Katta träning
DESCRIPTION:Grupp 1: 18:00–19:15 \nGrupp 2: 19:15–20:15 \nGrupp 3: 20:15–21:15
URL:https://www.klrk.se/event/katta-traning/
LOCATION:Karlskrona Lyckå Ridklubbs stora ridhus\, Afvelsgärdevägen 27\, Karlskrona
CATEGORIES:Träning
END:VEVENT
BEGIN:VEVENT
DTSTART;TZID=Europe/Stockholm:20221213T180000
DTEND;TZID=Europe/Stockholm:20221213T210000
DTSTAMP:20260424T093728
CREATED:20221209T115324Z
LAST-MODIFIED:20221209T115324Z
UID:2772-1670954400-1670965200@www.klrk.se
SUMMARY:Angelika träning
DESCRIPTION:
URL:https://www.klrk.se/event/angelika-traning-2/
LOCATION:Karlskrona Lyckå ridklubbs lilla ridhus\, Afvelsgärdevägen 27\, Karlskrona
CATEGORIES:Träning
END:VEVENT
BEGIN:VEVENT
DTSTART;TZID=Europe/Stockholm:20221213T170000
DTEND;TZID=Europe/Stockholm:20221213T180000
DTSTAMP:20260424T093728
CREATED:20221209T115111Z
LAST-MODIFIED:20221209T120812Z
UID:2770-1670950800-1670954400@www.klrk.se
SUMMARY:Angelika träning
DESCRIPTION:Lilla delen\, stora ridhuset
URL:https://www.klrk.se/event/angelika-traning/
LOCATION:Karlskrona Lyckå Ridklubbs stora ridhus\, Afvelsgärdevägen 27\, Karlskrona
CATEGORIES:Träning
END:VEVENT
BEGIN:VEVENT
DTSTART;TZID=Europe/Stockholm:20221212T190000
DTEND;TZID=Europe/Stockholm:20221212T200000
DTSTAMP:20260424T093728
CREATED:20221209T114947Z
LAST-MODIFIED:20221210T201217Z
UID:2768-1670871600-1670875200@www.klrk.se
SUMMARY:Jenny träning
DESCRIPTION:
URL:https://www.klrk.se/event/jennytraning/
LOCATION:Karlskrona Lyckå ridklubbs lilla ridhus\, Afvelsgärdevägen 27\, Karlskrona
CATEGORIES:Träning
END:VEVENT
BEGIN:VEVENT
DTSTART;TZID=Europe/Stockholm:20221211T140000
DTEND;TZID=Europe/Stockholm:20221211T150000
DTSTAMP:20260424T093728
CREATED:20221209T112224Z
LAST-MODIFIED:20221209T120739Z
UID:2756-1670767200-1670770800@www.klrk.se
SUMMARY:Julshow 2022
DESCRIPTION:Karlskrona Lyckå Ridklubbs Ungdomssektionen välkomnar er till årets julshow den 11 december klockan 14.00- ca 15.00. \nI år får ni följa med på en spännande resa med bovar och nissar! Vi avslöjar också årets häst och ponny och annat som vi vill uppmärksamma. \nEntré: vuxna 50 kronor och barn 25 kronor. Pengarna går till Ungdomssektionens verksamhet. \nFörsäljning av varm dryck\, fika och godis finns på plats. \nVarmt välkommen!
URL:https://www.klrk.se/event/julshow/
LOCATION:Karlskrona Lyckå Ridklubbs stora ridhus\, Afvelsgärdevägen 27\, Karlskrona
END:VEVENT
BEGIN:VEVENT
DTSTART;TZID=Europe/Stockholm:20221211T130000
DTEND;TZID=Europe/Stockholm:20221211T170000
DTSTAMP:20260424T093728
CREATED:20221209T114751Z
LAST-MODIFIED:20221209T120713Z
UID:2765-1670763600-1670778000@www.klrk.se
SUMMARY:Ridhusbokning julshow
DESCRIPTION:
URL:https://www.klrk.se/event/ridhusbokning-julshow-2/
LOCATION:Karlskrona Lyckå ridklubbs lilla ridhus\, Afvelsgärdevägen 27\, Karlskrona
END:VEVENT
BEGIN:VEVENT
DTSTART;TZID=Europe/Stockholm:20221211T080000
DTEND;TZID=Europe/Stockholm:20221211T180000
DTSTAMP:20260424T093728
CREATED:20221209T114602Z
LAST-MODIFIED:20221209T120646Z
UID:2763-1670745600-1670781600@www.klrk.se
SUMMARY:Ridhusbokning julshow
DESCRIPTION:
URL:https://www.klrk.se/event/ridhusbokning-julshow/
LOCATION:Karlskrona Lyckå Ridklubbs stora ridhus\, Afvelsgärdevägen 27\, Karlskrona
END:VEVENT
END:VCALENDAR