BEGIN:VCALENDAR
VERSION:2.0
PRODID:-//Karlskrona Lyckå Ridklubb - ECPv6.15.12.2//NONSGML v1.0//EN
CALSCALE:GREGORIAN
METHOD:PUBLISH
X-ORIGINAL-URL:https://www.klrk.se
X-WR-CALDESC:Händelser för Karlskrona Lyckå Ridklubb
REFRESH-INTERVAL;VALUE=DURATION:PT1H
X-Robots-Tag:noindex
X-PUBLISHED-TTL:PT1H
BEGIN:VTIMEZONE
TZID:Europe/Stockholm
BEGIN:DAYLIGHT
TZOFFSETFROM:+0100
TZOFFSETTO:+0200
TZNAME:CEST
DTSTART:20220327T010000
END:DAYLIGHT
BEGIN:STANDARD
TZOFFSETFROM:+0200
TZOFFSETTO:+0100
TZNAME:CET
DTSTART:20221030T010000
END:STANDARD
BEGIN:DAYLIGHT
TZOFFSETFROM:+0100
TZOFFSETTO:+0200
TZNAME:CEST
DTSTART:20230326T010000
END:DAYLIGHT
BEGIN:STANDARD
TZOFFSETFROM:+0200
TZOFFSETTO:+0100
TZNAME:CET
DTSTART:20231029T010000
END:STANDARD
BEGIN:DAYLIGHT
TZOFFSETFROM:+0100
TZOFFSETTO:+0200
TZNAME:CEST
DTSTART:20240331T010000
END:DAYLIGHT
BEGIN:STANDARD
TZOFFSETFROM:+0200
TZOFFSETTO:+0100
TZNAME:CET
DTSTART:20241027T010000
END:STANDARD
END:VTIMEZONE
BEGIN:VEVENT
DTSTART;TZID=Europe/Stockholm:20230102T160000
DTEND;TZID=Europe/Stockholm:20230102T180000
DTSTAMP:20260424T013223
CREATED:20221210T195345Z
LAST-MODIFIED:20221215T152217Z
UID:2808-1672675200-1672682400@www.klrk.se
SUMMARY:Dressyr/kavaletti
DESCRIPTION:Dressyr/Kavaletti Pris 600 kr \nLilla ridhuset kl 16.00-17.00 och 17.00-18.00
URL:https://www.klrk.se/event/dressyr-kavalettipass/
LOCATION:Karlskrona Lyckå ridklubbs lilla ridhus\, Afvelsgärdevägen 27\, Karlskrona
CATEGORIES:Kurs,Ridskola
END:VEVENT
BEGIN:VEVENT
DTSTART;TZID=Europe/Stockholm:20230102T160000
DTEND;TZID=Europe/Stockholm:20230102T183000
DTSTAMP:20260424T013223
CREATED:20221210T195131Z
LAST-MODIFIED:20221215T100625Z
UID:2805-1672675200-1672684200@www.klrk.se
SUMMARY:Hoppkurs
DESCRIPTION:Hoppkurs. Pris 800 kr \nStora ridhuset \nPonny grupp kl 16.00-17.15 \nHästgrupp 17.15-18.30
URL:https://www.klrk.se/event/hoppkurs/
LOCATION:Karlskrona Lyckå Ridklubbs stora ridhus\, Afvelsgärdevägen 27\, Karlskrona
CATEGORIES:Kurs,Ridskola
END:VEVENT
BEGIN:VEVENT
DTSTART;TZID=Europe/Stockholm:20230103T160000
DTEND;TZID=Europe/Stockholm:20230103T183000
DTSTAMP:20260424T013223
CREATED:20221215T100727Z
LAST-MODIFIED:20221215T100727Z
UID:2853-1672761600-1672770600@www.klrk.se
SUMMARY:Hoppkurs
DESCRIPTION:Hoppkurs. Pris 800 kr \nStora ridhuset \nPonny grupp kl 16.00-17.15 \nHästgrupp 17.15-18.30
URL:https://www.klrk.se/event/hoppkurs-2/
END:VEVENT
BEGIN:VEVENT
DTSTART;TZID=Europe/Stockholm:20230103T160000
DTEND;TZID=Europe/Stockholm:20230103T183000
DTSTAMP:20260424T013223
CREATED:20221215T101134Z
LAST-MODIFIED:20221215T152126Z
UID:2857-1672761600-1672770600@www.klrk.se
SUMMARY:Dressyr/Kavaletti
DESCRIPTION:Dressyr/Kavaletti Pris 600 kr \nLilla ridhuset kl 16.00-17.15 och 17.15-18.30
URL:https://www.klrk.se/event/dressyr-kavaletti/
LOCATION:Karlskrona Lyckå ridklubbs lilla ridhus\, Afvelsgärdevägen 27\, Karlskrona
END:VEVENT
BEGIN:VEVENT
DTSTART;TZID=Europe/Stockholm:20230103T170000
DTEND;TZID=Europe/Stockholm:20230103T180000
DTSTAMP:20260424T013223
CREATED:20221215T101339Z
LAST-MODIFIED:20221215T101339Z
UID:2859-1672765200-1672768800@www.klrk.se
SUMMARY:Kavaletti
DESCRIPTION:Kavaletti träning för privathästar \nLilla ridhuset kl. 18.00-19.00
URL:https://www.klrk.se/event/kavaletti/
LOCATION:Karlskrona Lyckå ridklubbs lilla ridhus\, Afvelsgärdevägen 27\, Karlskrona
END:VEVENT
BEGIN:VEVENT
DTSTART;TZID=Europe/Stockholm:20230104T090000
DTEND;TZID=Europe/Stockholm:20230104T160000
DTSTAMP:20260424T013223
CREATED:20221210T200000Z
LAST-MODIFIED:20221215T100151Z
UID:2814-1672822800-1672848000@www.klrk.se
SUMMARY:Dagridläger
DESCRIPTION:Dagridläger. Nivå 1. Pris 1000 kr \nkl 9-16 \nRidning i Stora ridhuset kl 14.00-15.00 \nLilla delen är ledig
URL:https://www.klrk.se/event/dagridlager-2/
CATEGORIES:Läger
END:VEVENT
BEGIN:VEVENT
DTSTART;TZID=Europe/Stockholm:20230104T170000
DTEND;TZID=Europe/Stockholm:20230104T190000
DTSTAMP:20260424T013223
CREATED:20221210T195532Z
LAST-MODIFIED:20221215T152039Z
UID:2810-1672851600-1672858800@www.klrk.se
SUMMARY:Dressyrkurs
DESCRIPTION:Dressyrkurs. Pris 800 kr \nkl 17.00-18.00 och 18.00-19.00
URL:https://www.klrk.se/event/dressyrkurs/
LOCATION:Karlskrona Lyckå Ridklubbs stora ridhus\, Afvelsgärdevägen 27\, Karlskrona
CATEGORIES:Kurs,Ridskola
END:VEVENT
BEGIN:VEVENT
DTSTART;TZID=Europe/Stockholm:20230105T080000
DTEND;TZID=Europe/Stockholm:20230105T130000
DTSTAMP:20260424T013223
CREATED:20221220T123659Z
LAST-MODIFIED:20230103T164745Z
UID:2894-1672905600-1672923600@www.klrk.se
SUMMARY:Löshoppning lilla ridhuset
DESCRIPTION:
URL:https://www.klrk.se/event/loshoppning-lilla-ridhuset-3/
LOCATION:Karlskrona Lyckå ridklubbs lilla ridhus\, Afvelsgärdevägen 27\, Karlskrona
END:VEVENT
BEGIN:VEVENT
DTSTART;TZID=Europe/Stockholm:20230105T080000
DTEND;TZID=Europe/Stockholm:20230105T160000
DTSTAMP:20260424T013223
CREATED:20221215T100301Z
LAST-MODIFIED:20221215T100301Z
UID:2849-1672905600-1672934400@www.klrk.se
SUMMARY:Dagridläger
DESCRIPTION:kl 9-16 \nRidning i Stora ridhuset kl 14.00-15.00 \nLilla delen är ledig
URL:https://www.klrk.se/event/dagridlager-3/
END:VEVENT
BEGIN:VEVENT
DTSTART;TZID=Europe/Stockholm:20230105T170000
DTEND;TZID=Europe/Stockholm:20230105T190000
DTSTAMP:20260424T013223
CREATED:20221215T095519Z
LAST-MODIFIED:20221215T152016Z
UID:2844-1672938000-1672945200@www.klrk.se
SUMMARY:Dressyrkurs
DESCRIPTION:Stora ridhuset \nkl 17.00-18.00 och 18.00-19.00
URL:https://www.klrk.se/event/dressyrkurs-2/
END:VEVENT
BEGIN:VEVENT
DTSTART;TZID=Europe/Stockholm:20230106T090000
DTEND;TZID=Europe/Stockholm:20230106T110000
DTSTAMP:20260424T013223
CREATED:20221210T200226Z
LAST-MODIFIED:20221215T094408Z
UID:2818-1672995600-1673002800@www.klrk.se
SUMMARY:Lingondressyr
DESCRIPTION:Lingondressyr. Pris 180 kr \nStora ridhuset
URL:https://www.klrk.se/event/lingondressyr/
CATEGORIES:Tävling
END:VEVENT
BEGIN:VEVENT
DTSTART;TZID=Europe/Stockholm:20230106T100000
DTEND;TZID=Europe/Stockholm:20230106T130000
DTSTAMP:20260424T013223
CREATED:20221210T200105Z
LAST-MODIFIED:20221215T094601Z
UID:2816-1672999200-1673010000@www.klrk.se
SUMMARY:Programridning
DESCRIPTION:Programridning. Pris 200 kr \nFramridning i lilla ridhuset  kl 10 \nProgramridning i Stora ridhuset ca kl 11
URL:https://www.klrk.se/event/programridning/
LOCATION:Karlskrona Lyckå Ridklubbs stora ridhus\, Afvelsgärdevägen 27\, Karlskrona
CATEGORIES:Tävling
END:VEVENT
BEGIN:VEVENT
DTSTART;TZID=Europe/Stockholm:20230107T090000
DTEND;TZID=Europe/Stockholm:20230107T130000
DTSTAMP:20260424T013223
CREATED:20221210T200334Z
LAST-MODIFIED:20221210T200334Z
UID:2820-1673082000-1673096400@www.klrk.se
SUMMARY:Ridskoleterminen börjar
DESCRIPTION:
URL:https://www.klrk.se/event/ridskoleterminen-borjar/
CATEGORIES:Ridskola
END:VEVENT
BEGIN:VEVENT
DTSTART;TZID=Europe/Stockholm:20230114T130000
DTEND;TZID=Europe/Stockholm:20230114T190000
DTSTAMP:20260424T013223
CREATED:20221220T125424Z
LAST-MODIFIED:20221220T125427Z
UID:2902-1673701200-1673722800@www.klrk.se
SUMMARY:Johanna träning lilla ridhuset
DESCRIPTION:
URL:https://www.klrk.se/event/johanna-traning-lilla-ridhuset/
LOCATION:Karlskrona Lyckå Ridklubbs stora ridhus\, Afvelsgärdevägen 27\, Karlskrona
END:VEVENT
BEGIN:VEVENT
DTSTART;TZID=Europe/Stockholm:20230115T080000
DTEND;TZID=Europe/Stockholm:20230115T140000
DTSTAMP:20260424T013223
CREATED:20221220T125502Z
LAST-MODIFIED:20221220T125505Z
UID:2904-1673769600-1673791200@www.klrk.se
SUMMARY:Johanna träning lilla ridhuset
DESCRIPTION:
URL:https://www.klrk.se/event/johanna-traning-lilla-ridhuset-2/
LOCATION:Karlskrona Lyckå ridklubbs lilla ridhus\, Afvelsgärdevägen 27\, Karlskrona
END:VEVENT
BEGIN:VEVENT
DTSTART;TZID=Europe/Stockholm:20230122T080000
DTEND;TZID=Europe/Stockholm:20230122T143000
DTSTAMP:20260424T013223
CREATED:20221220T124052Z
LAST-MODIFIED:20230110T102241Z
UID:2896-1674374400-1674397800@www.klrk.se
SUMMARY:WE-träning stora ridhuset
DESCRIPTION:Marlene Jönsson som ska bygga bana och döma på vår Pay & WE lördag vecka 7 kommer och håller en \nWE-träning söndag förmiddag den 22 januari . Anmäl till Karin Falkbrink. \nVi har skapat en öppen grupp på Facebook som vi döpt till: KLRK träningar i Working Equitation\, WE. som ni som är intresserade kan gå med i.\n\nFör att slippa massa mail med anmälningar och frågor kring träningar\, lägger vi upp inlägg och så anmäler man sig under inlägget. Tider och grupper publiceras i FB-gruppen. Det blir lättare att nå ut med information snabbt till intresserade.
URL:https://www.klrk.se/event/we-traning-stora-ridhuset/
LOCATION:Karlskrona Lyckå Ridklubbs stora ridhus\, Afvelsgärdevägen 27\, Karlskrona
END:VEVENT
BEGIN:VEVENT
DTSTART;TZID=Europe/Stockholm:20230128T130000
DTEND;TZID=Europe/Stockholm:20230128T190000
DTSTAMP:20260424T013223
CREATED:20221220T125148Z
LAST-MODIFIED:20221220T125150Z
UID:2898-1674910800-1674932400@www.klrk.se
SUMMARY:Mats träning stora ridhuset
DESCRIPTION:
URL:https://www.klrk.se/event/mats-traning-stora-ridhuset/
LOCATION:Karlskrona Lyckå Ridklubbs stora ridhus\, Afvelsgärdevägen 27\, Karlskrona
END:VEVENT
BEGIN:VEVENT
DTSTART;TZID=Europe/Stockholm:20230129T080000
DTEND;TZID=Europe/Stockholm:20230129T140000
DTSTAMP:20260424T013223
CREATED:20221220T125242Z
LAST-MODIFIED:20221220T125245Z
UID:2900-1674979200-1675000800@www.klrk.se
SUMMARY:Mats träning stora ridhuset
DESCRIPTION:
URL:https://www.klrk.se/event/mats-traning-stora-ridhuset-2/
LOCATION:Karlskrona Lyckå Ridklubbs stora ridhus\, Afvelsgärdevägen 27\, Karlskrona
END:VEVENT
BEGIN:VEVENT
DTSTART;TZID=Europe/Stockholm:20230129T153000
DTEND;TZID=Europe/Stockholm:20230129T170000
DTSTAMP:20260424T013223
CREATED:20230110T103358Z
LAST-MODIFIED:20230129T084358Z
UID:2959-1675006200-1675011600@www.klrk.se
SUMMARY:Pimp my pony
DESCRIPTION:Ridskolestallet
URL:https://www.klrk.se/event/pimp-my-pony/
END:VEVENT
END:VCALENDAR