BEGIN:VCALENDAR
VERSION:2.0
PRODID:-//Karlskrona Lyckå Ridklubb - ECPv6.15.12.2//NONSGML v1.0//EN
CALSCALE:GREGORIAN
METHOD:PUBLISH
X-WR-CALNAME:Karlskrona Lyckå Ridklubb
X-ORIGINAL-URL:https://www.klrk.se
X-WR-CALDESC:Händelser för Karlskrona Lyckå Ridklubb
REFRESH-INTERVAL;VALUE=DURATION:PT1H
X-Robots-Tag:noindex
X-PUBLISHED-TTL:PT1H
BEGIN:VTIMEZONE
TZID:Europe/Stockholm
BEGIN:DAYLIGHT
TZOFFSETFROM:+0100
TZOFFSETTO:+0200
TZNAME:CEST
DTSTART:20220327T010000
END:DAYLIGHT
BEGIN:STANDARD
TZOFFSETFROM:+0200
TZOFFSETTO:+0100
TZNAME:CET
DTSTART:20221030T010000
END:STANDARD
BEGIN:DAYLIGHT
TZOFFSETFROM:+0100
TZOFFSETTO:+0200
TZNAME:CEST
DTSTART:20230326T010000
END:DAYLIGHT
BEGIN:STANDARD
TZOFFSETFROM:+0200
TZOFFSETTO:+0100
TZNAME:CET
DTSTART:20231029T010000
END:STANDARD
BEGIN:DAYLIGHT
TZOFFSETFROM:+0100
TZOFFSETTO:+0200
TZNAME:CEST
DTSTART:20240331T010000
END:DAYLIGHT
BEGIN:STANDARD
TZOFFSETFROM:+0200
TZOFFSETTO:+0100
TZNAME:CET
DTSTART:20241027T010000
END:STANDARD
END:VTIMEZONE
BEGIN:VEVENT
DTSTART;TZID=Europe/Stockholm:20230204T160000
DTEND;TZID=Europe/Stockholm:20230204T170000
DTSTAMP:20260423T221029
CREATED:20230124T112346Z
LAST-MODIFIED:20230124T112349Z
UID:2990-1675526400-1675530000@www.klrk.se
SUMMARY:Årsmöte ungdomssektionen
DESCRIPTION:Cafeterian
URL:https://www.klrk.se/event/arsmote-ungdomssektionen/
END:VEVENT
BEGIN:VEVENT
DTSTART;TZID=Europe/Stockholm:20230204T160000
DTEND;TZID=Europe/Stockholm:20230204T190000
DTSTAMP:20260423T221029
CREATED:20230125T095841Z
LAST-MODIFIED:20230125T095845Z
UID:3007-1675526400-1675537200@www.klrk.se
SUMMARY:Banbyggnad inför P&J
DESCRIPTION:
URL:https://www.klrk.se/event/banbyggnad-infor-pj/
LOCATION:Karlskrona Lyckå Ridklubbs stora ridhus\, Afvelsgärdevägen 27\, Karlskrona
END:VEVENT
BEGIN:VEVENT
DTSTART;TZID=Europe/Stockholm:20230205T080000
DTEND;TZID=Europe/Stockholm:20230205T170000
DTSTAMP:20260423T221029
CREATED:20230125T100103Z
LAST-MODIFIED:20230125T100108Z
UID:3009-1675584000-1675616400@www.klrk.se
SUMMARY:Pay and jump
DESCRIPTION:Pay and jump i stora ridhuset och framhoppning i lilla ridhuset.
URL:https://www.klrk.se/event/pay-and-jump/
LOCATION:Karlskrona Lyckå Ridklubbs stora ridhus\, Afvelsgärdevägen 27\, Karlskrona
END:VEVENT
BEGIN:VEVENT
DTSTART;TZID=Europe/Stockholm:20230211T130000
DTEND;TZID=Europe/Stockholm:20230211T190000
DTSTAMP:20260423T221029
CREATED:20221220T125601Z
LAST-MODIFIED:20221220T125604Z
UID:2906-1676120400-1676142000@www.klrk.se
SUMMARY:Johanna träning lilla ridhuset
DESCRIPTION:
URL:https://www.klrk.se/event/johanna-traning-lilla-ridhuset-3/
LOCATION:Karlskrona Lyckå ridklubbs lilla ridhus\, Afvelsgärdevägen 27\, Karlskrona
END:VEVENT
BEGIN:VEVENT
DTSTART;TZID=Europe/Stockholm:20230211T150000
DTEND;TZID=Europe/Stockholm:20230211T160000
DTSTAMP:20260423T221029
CREATED:20230124T111313Z
LAST-MODIFIED:20230210T171705Z
UID:2988-1676127600-1676131200@www.klrk.se
SUMMARY:Årsmöte i cafeterian
DESCRIPTION:Alla medlemmar i klubben är välkomna på årsmöte och vi serverar fika till de som deltar på plats. Vill du delta på mötet digitalt går det utmärkt att anmäla sig via mail till ridskolan@klrk.se så skickas möteslänk ut till dig.  \nPå årsmötet kommer vi bland fastställa verksamhetsplaneringen och budgeten för året\, välja styrelse och uppmärksamma våra klubbmästare och mycket mer. \nVälkommen!
URL:https://www.klrk.se/event/arsmote-i-cafeterian/
END:VEVENT
BEGIN:VEVENT
DTSTART;TZID=Europe/Stockholm:20230212T080000
DTEND;TZID=Europe/Stockholm:20230212T140000
DTSTAMP:20260423T221029
CREATED:20221220T125651Z
LAST-MODIFIED:20221220T125654Z
UID:2908-1676188800-1676210400@www.klrk.se
SUMMARY:Johanna träning lilla ridhuset
DESCRIPTION:
URL:https://www.klrk.se/event/johanna-traning-lilla-ridhuset-4/
LOCATION:Karlskrona Lyckå ridklubbs lilla ridhus\, Afvelsgärdevägen 27\, Karlskrona
END:VEVENT
BEGIN:VEVENT
DTSTART;TZID=Europe/Stockholm:20230218T130000
DTEND;TZID=Europe/Stockholm:20230218T180000
DTSTAMP:20260423T221029
CREATED:20230210T121010Z
LAST-MODIFIED:20230210T121015Z
UID:3130-1676725200-1676743200@www.klrk.se
SUMMARY:Pay and WE
DESCRIPTION:Båda ridhusen
URL:https://www.klrk.se/event/pay-and-we/
END:VEVENT
BEGIN:VEVENT
DTSTART;TZID=Europe/Stockholm:20230219T080000
DTEND;TZID=Europe/Stockholm:20230219T130000
DTSTAMP:20260423T221029
CREATED:20230206T132853Z
LAST-MODIFIED:20230206T132856Z
UID:3100-1676793600-1676811600@www.klrk.se
SUMMARY:Löshoppning
DESCRIPTION:Lilla ridhuset
URL:https://www.klrk.se/event/loshoppning/
LOCATION:Karlskrona Lyckå ridklubbs lilla ridhus\, Afvelsgärdevägen 27\, Karlskrona
END:VEVENT
BEGIN:VEVENT
DTSTART;TZID=Europe/Stockholm:20230219T170000
DTEND;TZID=Europe/Stockholm:20230219T190000
DTSTAMP:20260423T221029
CREATED:20230206T101502Z
LAST-MODIFIED:20230206T101505Z
UID:3072-1676826000-1676833200@www.klrk.se
SUMMARY:Dressyrträning inför Div 3
DESCRIPTION:Lilla ridhuset
URL:https://www.klrk.se/event/dressyrtraning-infor-div-3/
LOCATION:Karlskrona Lyckå ridklubbs lilla ridhus\, Afvelsgärdevägen 27\, Karlskrona
END:VEVENT
BEGIN:VEVENT
DTSTART;TZID=Europe/Stockholm:20230220T093000
DTEND;TZID=Europe/Stockholm:20230220T123000
DTSTAMP:20260423T221029
CREATED:20230202T121940Z
LAST-MODIFIED:20230202T121943Z
UID:3043-1676885400-1676896200@www.klrk.se
SUMMARY:Prova på ridning
DESCRIPTION:Ridning\, Häst och stallskötsel \nRidskolestallet
URL:https://www.klrk.se/event/prova-pa-ridning/
END:VEVENT
BEGIN:VEVENT
DTSTART;TZID=Europe/Stockholm:20230221T093000
DTEND;TZID=Europe/Stockholm:20230221T113000
DTSTAMP:20260423T221029
CREATED:20230202T121453Z
LAST-MODIFIED:20230220T134739Z
UID:3039-1676971800-1676979000@www.klrk.se
SUMMARY:Prova på ridning
DESCRIPTION:Ridning\, häst och stall skötsel \nRidskolestallet
URL:https://www.klrk.se/event/pay-and-we-18-februari/
LOCATION:Karlskrona Lyckå Ridklubbs stora ridhus\, Afvelsgärdevägen 27\, Karlskrona
END:VEVENT
BEGIN:VEVENT
DTSTART;TZID=Europe/Stockholm:20230222T143000
DTEND;TZID=Europe/Stockholm:20230222T160000
DTSTAMP:20260423T221029
CREATED:20230202T122309Z
LAST-MODIFIED:20230202T122321Z
UID:3045-1677076200-1677081600@www.klrk.se
SUMMARY:Sportlovsläger onsdag-torsdag
DESCRIPTION:9-16 på ridskolan\, \nRidning i lilla ridhuset 14.30-16.00 \n 
URL:https://www.klrk.se/event/sportlovslager-onsdag-torsdag/
LOCATION:Karlskrona Lyckå ridklubbs lilla ridhus\, Afvelsgärdevägen 27\, Karlskrona
END:VEVENT
BEGIN:VEVENT
DTSTART;TZID=Europe/Stockholm:20230223T090000
DTEND;TZID=Europe/Stockholm:20230223T160000
DTSTAMP:20260423T221029
CREATED:20230202T122755Z
LAST-MODIFIED:20230202T122800Z
UID:3049-1677142800-1677168000@www.klrk.se
SUMMARY:Sportlovs läger onsdag-torsdag
DESCRIPTION:09.00-16.00 på ridskolan \n14.30-16.00 Ridning i lilla ridhuset
URL:https://www.klrk.se/event/sportlovs-lager-onsdag-torsdag/
END:VEVENT
BEGIN:VEVENT
DTSTART;TZID=Europe/Stockholm:20230225T120000
DTEND;TZID=Europe/Stockholm:20230225T140000
DTSTAMP:20260423T221029
CREATED:20230202T123041Z
LAST-MODIFIED:20230202T123044Z
UID:3051-1677326400-1677333600@www.klrk.se
SUMMARY:Programridning 25 februari
DESCRIPTION:
URL:https://www.klrk.se/event/programridning-25-februari/
LOCATION:Karlskrona Lyckå Ridklubbs stora ridhus\, Afvelsgärdevägen 27\, Karlskrona
END:VEVENT
BEGIN:VEVENT
DTSTART;TZID=Europe/Stockholm:20230226T140000
DTEND;TZID=Europe/Stockholm:20230226T170000
DTSTAMP:20260423T221029
CREATED:20230202T121248Z
LAST-MODIFIED:20230202T121252Z
UID:3037-1677420000-1677430800@www.klrk.se
SUMMARY:Miljöträning den 26/2
DESCRIPTION:
URL:https://www.klrk.se/event/miljotraning-den-26-2/
LOCATION:Karlskrona Lyckå ridklubbs lilla ridhus\, Afvelsgärdevägen 27\, Karlskrona
END:VEVENT
END:VCALENDAR