BEGIN:VCALENDAR
VERSION:2.0
PRODID:-//Karlskrona Lyckå Ridklubb - ECPv6.15.12.2//NONSGML v1.0//EN
CALSCALE:GREGORIAN
METHOD:PUBLISH
X-ORIGINAL-URL:https://www.klrk.se
X-WR-CALDESC:Händelser för Karlskrona Lyckå Ridklubb
REFRESH-INTERVAL;VALUE=DURATION:PT1H
X-Robots-Tag:noindex
X-PUBLISHED-TTL:PT1H
BEGIN:VTIMEZONE
TZID:Europe/Stockholm
BEGIN:DAYLIGHT
TZOFFSETFROM:+0100
TZOFFSETTO:+0200
TZNAME:CEST
DTSTART:20220327T010000
END:DAYLIGHT
BEGIN:STANDARD
TZOFFSETFROM:+0200
TZOFFSETTO:+0100
TZNAME:CET
DTSTART:20221030T010000
END:STANDARD
BEGIN:DAYLIGHT
TZOFFSETFROM:+0100
TZOFFSETTO:+0200
TZNAME:CEST
DTSTART:20230326T010000
END:DAYLIGHT
BEGIN:STANDARD
TZOFFSETFROM:+0200
TZOFFSETTO:+0100
TZNAME:CET
DTSTART:20231029T010000
END:STANDARD
BEGIN:DAYLIGHT
TZOFFSETFROM:+0100
TZOFFSETTO:+0200
TZNAME:CEST
DTSTART:20240331T010000
END:DAYLIGHT
BEGIN:STANDARD
TZOFFSETFROM:+0200
TZOFFSETTO:+0100
TZNAME:CET
DTSTART:20241027T010000
END:STANDARD
END:VTIMEZONE
BEGIN:VEVENT
DTSTART;TZID=Europe/Stockholm:20230401T123000
DTEND;TZID=Europe/Stockholm:20230401T170000
DTSTAMP:20260423T144220
CREATED:20230315T121409Z
LAST-MODIFIED:20230315T122031Z
UID:3248-1680352200-1680368400@www.klrk.se
SUMMARY:Ponny kalas
DESCRIPTION:Bokat i Stora ridhuset 12.50-13.30 och cafeterian 12.30-15.00
URL:https://www.klrk.se/event/ponny-kalas/
END:VEVENT
BEGIN:VEVENT
DTSTART;TZID=Europe/Stockholm:20230401T130000
DTEND;TZID=Europe/Stockholm:20230401T190000
DTSTAMP:20260423T144220
CREATED:20230315T121751Z
LAST-MODIFIED:20230315T121755Z
UID:3250-1680354000-1680375600@www.klrk.se
SUMMARY:Johanna träning
DESCRIPTION:Lilla ridhuset
URL:https://www.klrk.se/event/johanna-traning-5/
END:VEVENT
BEGIN:VEVENT
DTSTART;TZID=Europe/Stockholm:20230402T090000
DTEND;TZID=Europe/Stockholm:20230402T150000
DTSTAMP:20260423T144220
CREATED:20230315T121844Z
LAST-MODIFIED:20230315T121904Z
UID:3252-1680426000-1680447600@www.klrk.se
SUMMARY:Johanna träning
DESCRIPTION:Lilla ridhuset
URL:https://www.klrk.se/event/johanna-traning-6/
END:VEVENT
BEGIN:VEVENT
DTSTART;TZID=Europe/Stockholm:20230407T080000
DTEND;TZID=Europe/Stockholm:20230407T123000
DTSTAMP:20260423T144220
CREATED:20230315T122251Z
LAST-MODIFIED:20230315T122254Z
UID:3255-1680854400-1680870600@www.klrk.se
SUMMARY:Clear round
DESCRIPTION:Båda ridhusen
URL:https://www.klrk.se/event/clear-round-2/
END:VEVENT
BEGIN:VEVENT
DTSTART;TZID=Europe/Stockholm:20230408T080000
DTEND;TZID=Europe/Stockholm:20230408T113000
DTSTAMP:20260423T144220
CREATED:20230315T122506Z
LAST-MODIFIED:20230406T101453Z
UID:3257-1680940800-1680953400@www.klrk.se
SUMMARY:Programridning
DESCRIPTION:Inställt \nBåda ridhusen är lediga
URL:https://www.klrk.se/event/programridning-2/
END:VEVENT
BEGIN:VEVENT
DTSTART;TZID=Europe/Stockholm:20230408T083000
DTEND;TZID=Europe/Stockholm:20230408T100000
DTSTAMP:20260423T144220
CREATED:20230329T110904Z
LAST-MODIFIED:20230406T101413Z
UID:3341-1680942600-1680948000@www.klrk.se
SUMMARY:Lingondressyr på påskafton
DESCRIPTION:Inställt \nRidhusen är lediga
URL:https://www.klrk.se/event/lingondressyr-pa-paskafton/
LOCATION:Karlskrona Lyckå Ridklubbs stora ridhus\, Afvelsgärdevägen 27\, Karlskrona
END:VEVENT
BEGIN:VEVENT
DTSTART;TZID=Europe/Stockholm:20230410T090000
DTEND;TZID=Europe/Stockholm:20230410T130000
DTSTAMP:20260423T144220
CREATED:20230315T122657Z
LAST-MODIFIED:20230315T122701Z
UID:3259-1681117200-1681131600@www.klrk.se
SUMMARY:Lektionsridning
DESCRIPTION:Båda ridhusen
URL:https://www.klrk.se/event/lektionsridning/
END:VEVENT
BEGIN:VEVENT
DTSTART;TZID=Europe/Stockholm:20230411T090000
DTEND;TZID=Europe/Stockholm:20230411T160000
DTSTAMP:20260423T144220
CREATED:20230315T122807Z
LAST-MODIFIED:20230315T122810Z
UID:3261-1681203600-1681228800@www.klrk.se
SUMMARY:Påsklovsläger nivå 1-2
DESCRIPTION:Lilla ridhuset är bokat 14.30-16.00
URL:https://www.klrk.se/event/pasklovslager-niva-1-2/
END:VEVENT
BEGIN:VEVENT
DTSTART;TZID=Europe/Stockholm:20230412T090000
DTEND;TZID=Europe/Stockholm:20230412T160000
DTSTAMP:20260423T144220
CREATED:20230315T122933Z
LAST-MODIFIED:20230315T122937Z
UID:3263-1681290000-1681315200@www.klrk.se
SUMMARY:Påsklovs läger nivå 1-2
DESCRIPTION:Lilla ridhuset är bokat 14.30-16.00
URL:https://www.klrk.se/event/pasklovs-lager-niva-1-2/
END:VEVENT
BEGIN:VEVENT
DTSTART;TZID=Europe/Stockholm:20230413T090000
DTEND;TZID=Europe/Stockholm:20230413T160000
DTSTAMP:20260423T144220
CREATED:20230315T123307Z
LAST-MODIFIED:20230315T123312Z
UID:3265-1681376400-1681401600@www.klrk.se
SUMMARY:Påsklovs läger nivå 2\,5-3
DESCRIPTION:Lilla ridhuset är bokat 14.30-16.00
URL:https://www.klrk.se/event/pasklovs-lager-niva-25-3/
END:VEVENT
BEGIN:VEVENT
DTSTART;TZID=Europe/Stockholm:20230414T090000
DTEND;TZID=Europe/Stockholm:20230414T160000
DTSTAMP:20260423T144220
CREATED:20230315T123426Z
LAST-MODIFIED:20230315T123435Z
UID:3267-1681462800-1681488000@www.klrk.se
SUMMARY:Påsklovs läger nivå 2\,5-3
DESCRIPTION:Lilla ridhuset är bokat 14.30-16.00
URL:https://www.klrk.se/event/pasklovs-lager-niva-25-3-2/
END:VEVENT
BEGIN:VEVENT
DTSTART;TZID=Europe/Stockholm:20230415T110000
DTEND;TZID=Europe/Stockholm:20230415T140000
DTSTAMP:20260423T144220
CREATED:20230315T123538Z
LAST-MODIFIED:20230315T123732Z
UID:3269-1681556400-1681567200@www.klrk.se
SUMMARY:Blåbärs hoppning
DESCRIPTION:Stora ridhuset 11.10-14.00
URL:https://www.klrk.se/event/blabars-hoppning/
END:VEVENT
BEGIN:VEVENT
DTSTART;TZID=Europe/Stockholm:20230417T160000
DTEND;TZID=Europe/Stockholm:20230417T170000
DTSTAMP:20260423T144220
CREATED:20230329T111133Z
LAST-MODIFIED:20230329T111135Z
UID:3343-1681747200-1681750800@www.klrk.se
SUMMARY:Träning Ridskoleserien
DESCRIPTION:Dressyrprogrammet
URL:https://www.klrk.se/event/traning-ridskoleserien/
LOCATION:Karlskrona Lyckå ridklubbs lilla ridhus\, Afvelsgärdevägen 27\, Karlskrona
END:VEVENT
BEGIN:VEVENT
DTSTART;TZID=Europe/Stockholm:20230422T080000
DTEND;TZID=Europe/Stockholm:20230422T183000
DTSTAMP:20260423T144220
CREATED:20230417T135027Z
LAST-MODIFIED:20230417T135027Z
UID:3393-1682150400-1682188200@www.klrk.se
SUMMARY:Öppen bana - Hoppning
DESCRIPTION:
URL:https://www.klrk.se/event/oppen-bana-hoppning/
LOCATION:Karlskrona Lyckå Ridklubbs stora utebana
END:VEVENT
BEGIN:VEVENT
DTSTART;TZID=Europe/Stockholm:20230423T080000
DTEND;TZID=Europe/Stockholm:20230423T170000
DTSTAMP:20260423T144221
CREATED:20230315T123836Z
LAST-MODIFIED:20230315T123918Z
UID:3271-1682236800-1682269200@www.klrk.se
SUMMARY:WE
DESCRIPTION:
URL:https://www.klrk.se/event/we/
LOCATION:Karlskrona Lyckå Ridklubbs stora ridhus\, Afvelsgärdevägen 27\, Karlskrona
END:VEVENT
BEGIN:VEVENT
DTSTART;TZID=Europe/Stockholm:20230423T090000
DTEND;TZID=Europe/Stockholm:20230423T150000
DTSTAMP:20260423T144221
CREATED:20230329T111255Z
LAST-MODIFIED:20230329T111308Z
UID:3345-1682240400-1682262000@www.klrk.se
SUMMARY:Ridskoleserien Sölvesborg
DESCRIPTION:Samling på parkeringen
URL:https://www.klrk.se/event/ridskoleserien-solvesborg/
END:VEVENT
BEGIN:VEVENT
DTSTART;TZID=Europe/Stockholm:20230423T090000
DTEND;TZID=Europe/Stockholm:20230423T153000
DTSTAMP:20260423T144221
CREATED:20230417T135116Z
LAST-MODIFIED:20230417T135116Z
UID:3397-1682240400-1682263800@www.klrk.se
SUMMARY:Öppen bana - Hoppning
DESCRIPTION:
URL:https://www.klrk.se/event/oppen-bana-hoppning-2/
LOCATION:Karlskrona Lyckå Ridklubbs stora utebana
END:VEVENT
BEGIN:VEVENT
DTSTART;TZID=Europe/Stockholm:20230430T080000
DTEND;TZID=Europe/Stockholm:20230430T170000
DTSTAMP:20260423T144221
CREATED:20230329T111403Z
LAST-MODIFIED:20230329T111411Z
UID:3347-1682841600-1682874000@www.klrk.se
SUMMARY:Ponny tävling hoppning
DESCRIPTION:Hela anläggningen
URL:https://www.klrk.se/event/ponny-tavling-hoppning/
END:VEVENT
END:VCALENDAR