BEGIN:VCALENDAR
VERSION:2.0
PRODID:-//Karlskrona Lyckå Ridklubb - ECPv6.15.12.2//NONSGML v1.0//EN
CALSCALE:GREGORIAN
METHOD:PUBLISH
X-WR-CALNAME:Karlskrona Lyckå Ridklubb
X-ORIGINAL-URL:https://www.klrk.se
X-WR-CALDESC:Händelser för Karlskrona Lyckå Ridklubb
REFRESH-INTERVAL;VALUE=DURATION:PT1H
X-Robots-Tag:noindex
X-PUBLISHED-TTL:PT1H
BEGIN:VTIMEZONE
TZID:Europe/Stockholm
BEGIN:DAYLIGHT
TZOFFSETFROM:+0100
TZOFFSETTO:+0200
TZNAME:CEST
DTSTART:20220327T010000
END:DAYLIGHT
BEGIN:STANDARD
TZOFFSETFROM:+0200
TZOFFSETTO:+0100
TZNAME:CET
DTSTART:20221030T010000
END:STANDARD
BEGIN:DAYLIGHT
TZOFFSETFROM:+0100
TZOFFSETTO:+0200
TZNAME:CEST
DTSTART:20230326T010000
END:DAYLIGHT
BEGIN:STANDARD
TZOFFSETFROM:+0200
TZOFFSETTO:+0100
TZNAME:CET
DTSTART:20231029T010000
END:STANDARD
BEGIN:DAYLIGHT
TZOFFSETFROM:+0100
TZOFFSETTO:+0200
TZNAME:CEST
DTSTART:20240331T010000
END:DAYLIGHT
BEGIN:STANDARD
TZOFFSETFROM:+0200
TZOFFSETTO:+0100
TZNAME:CET
DTSTART:20241027T010000
END:STANDARD
END:VTIMEZONE
BEGIN:VEVENT
DTSTART;TZID=Europe/Stockholm:20230501T080000
DTEND;TZID=Europe/Stockholm:20230501T170000
DTSTAMP:20260423T103037
CREATED:20230329T111446Z
LAST-MODIFIED:20230329T111449Z
UID:3349-1682928000-1682960400@www.klrk.se
SUMMARY:Ponny tävling hoppning
DESCRIPTION:Hela anläggningen
URL:https://www.klrk.se/event/ponny-tavling-hoppning-2/
END:VEVENT
BEGIN:VEVENT
DTSTART;TZID=Europe/Stockholm:20230506T120000
DTEND;TZID=Europe/Stockholm:20230506T140000
DTSTAMP:20260423T103037
CREATED:20230421T102935Z
LAST-MODIFIED:20230421T102939Z
UID:3409-1683374400-1683381600@www.klrk.se
SUMMARY:Programridning
DESCRIPTION:
URL:https://www.klrk.se/event/programridning-3/
LOCATION:Karlskrona Lyckå Ridklubbs stora ridhus\, Afvelsgärdevägen 27\, Karlskrona
END:VEVENT
BEGIN:VEVENT
DTSTART;TZID=Europe/Stockholm:20230507T090000
DTEND;TZID=Europe/Stockholm:20230507T150000
DTSTAMP:20260423T103037
CREATED:20230427T173104Z
LAST-MODIFIED:20230427T173104Z
UID:3441-1683450000-1683471600@www.klrk.se
SUMMARY:Öppen bana dressyr
DESCRIPTION:
URL:https://www.klrk.se/event/oppen-bana-dressyr/
LOCATION:Karlskrona Lyckå Ridklubbs stora utebana
END:VEVENT
BEGIN:VEVENT
DTSTART;TZID=Europe/Stockholm:20230513T083000
DTEND;TZID=Europe/Stockholm:20230513T103000
DTSTAMP:20260423T103037
CREATED:20230421T103048Z
LAST-MODIFIED:20230421T103052Z
UID:3411-1683966600-1683973800@www.klrk.se
SUMMARY:Lingondressyr
DESCRIPTION:
URL:https://www.klrk.se/event/lingondressyr-3/
LOCATION:Karlskrona Lyckå ridklubbs lilla ridhus\, Afvelsgärdevägen 27\, Karlskrona
END:VEVENT
BEGIN:VEVENT
DTSTART;TZID=Europe/Stockholm:20230514T080000
DTEND;TZID=Europe/Stockholm:20230514T170000
DTSTAMP:20260423T103037
CREATED:20230421T103244Z
LAST-MODIFIED:20230421T103247Z
UID:3413-1684051200-1684083600@www.klrk.se
SUMMARY:Dressyrtävling
DESCRIPTION:Framridning på lilla banan och tävling på stora banan.
URL:https://www.klrk.se/event/dressyrtavling/
LOCATION:Karlskrona Lyckå Ridklubbs stora utebana
END:VEVENT
BEGIN:VEVENT
DTSTART;TZID=Europe/Stockholm:20230515T180000
DTEND;TZID=Europe/Stockholm:20230515T190000
DTSTAMP:20260423T103037
CREATED:20230421T103645Z
LAST-MODIFIED:20230421T103655Z
UID:3419-1684173600-1684177200@www.klrk.se
SUMMARY:Träning ridskoleserien
DESCRIPTION:
URL:https://www.klrk.se/event/traning-ridskoleserien-2/
LOCATION:Karlskrona Lyckå ridklubbs lilla ridhus\, Afvelsgärdevägen 27\, Karlskrona
END:VEVENT
BEGIN:VEVENT
DTSTART;TZID=Europe/Stockholm:20230520T130000
DTEND;TZID=Europe/Stockholm:20230520T180000
DTSTAMP:20260423T103037
CREATED:20230421T103352Z
LAST-MODIFIED:20230421T103356Z
UID:3415-1684587600-1684605600@www.klrk.se
SUMMARY:Johanna träning
DESCRIPTION:
URL:https://www.klrk.se/event/johanna-traning-7/
LOCATION:Karlskrona Lyckå ridklubbs lilla ridhus\, Afvelsgärdevägen 27\, Karlskrona
END:VEVENT
BEGIN:VEVENT
DTSTART;TZID=Europe/Stockholm:20230521T090000
DTEND;TZID=Europe/Stockholm:20230521T140000
DTSTAMP:20260423T103037
CREATED:20230421T103519Z
LAST-MODIFIED:20230421T103523Z
UID:3417-1684659600-1684677600@www.klrk.se
SUMMARY:Johanna träning
DESCRIPTION:
URL:https://www.klrk.se/event/johanna-traning-8/
LOCATION:Karlskrona Lyckå ridklubbs lilla ridhus\, Afvelsgärdevägen 27\, Karlskrona
END:VEVENT
BEGIN:VEVENT
DTSTART;TZID=Europe/Stockholm:20230521T090000
DTEND;TZID=Europe/Stockholm:20230521T160000
DTSTAMP:20260423T103037
CREATED:20230421T103754Z
LAST-MODIFIED:20230421T103758Z
UID:3421-1684659600-1684684800@www.klrk.se
SUMMARY:Ridskoleserien
DESCRIPTION:Ronneby
URL:https://www.klrk.se/event/ridskoleserien/
END:VEVENT
BEGIN:VEVENT
DTSTART;TZID=Europe/Stockholm:20230526T170000
DTEND;TZID=Europe/Stockholm:20230526T200000
DTSTAMP:20260423T103037
CREATED:20230421T104000Z
LAST-MODIFIED:20230421T104007Z
UID:3423-1685120400-1685131200@www.klrk.se
SUMMARY:Clear round
DESCRIPTION:Framridning på lilla banan\, banhoppning på stora.
URL:https://www.klrk.se/event/clear-round-3/
LOCATION:Karlskrona Lyckå Ridklubbs stora utebana
END:VEVENT
END:VCALENDAR