BEGIN:VCALENDAR
VERSION:2.0
PRODID:-//Karlskrona Lyckå Ridklubb - ECPv6.15.12.2//NONSGML v1.0//EN
CALSCALE:GREGORIAN
METHOD:PUBLISH
X-WR-CALNAME:Karlskrona Lyckå Ridklubb
X-ORIGINAL-URL:https://www.klrk.se
X-WR-CALDESC:Händelser för Karlskrona Lyckå Ridklubb
REFRESH-INTERVAL;VALUE=DURATION:PT1H
X-Robots-Tag:noindex
X-PUBLISHED-TTL:PT1H
BEGIN:VTIMEZONE
TZID:Europe/Stockholm
BEGIN:DAYLIGHT
TZOFFSETFROM:+0100
TZOFFSETTO:+0200
TZNAME:CEST
DTSTART:20220327T010000
END:DAYLIGHT
BEGIN:STANDARD
TZOFFSETFROM:+0200
TZOFFSETTO:+0100
TZNAME:CET
DTSTART:20221030T010000
END:STANDARD
BEGIN:DAYLIGHT
TZOFFSETFROM:+0100
TZOFFSETTO:+0200
TZNAME:CEST
DTSTART:20230326T010000
END:DAYLIGHT
BEGIN:STANDARD
TZOFFSETFROM:+0200
TZOFFSETTO:+0100
TZNAME:CET
DTSTART:20231029T010000
END:STANDARD
BEGIN:DAYLIGHT
TZOFFSETFROM:+0100
TZOFFSETTO:+0200
TZNAME:CEST
DTSTART:20240331T010000
END:DAYLIGHT
BEGIN:STANDARD
TZOFFSETFROM:+0200
TZOFFSETTO:+0100
TZNAME:CET
DTSTART:20241027T010000
END:STANDARD
END:VTIMEZONE
BEGIN:VEVENT
DTSTART;TZID=Europe/Stockholm:20230603T080000
DTEND;TZID=Europe/Stockholm:20230606T170000
DTSTAMP:20260423T063711
CREATED:20230523T135412Z
LAST-MODIFIED:20230523T135416Z
UID:3498-1685779200-1686070800@www.klrk.se
SUMMARY:Hopptävling
DESCRIPTION:Hela anläggning är upptagen \nLektionshästarna har semester
URL:https://www.klrk.se/event/hopptavling/
END:VEVENT
BEGIN:VEVENT
DTSTART;TZID=Europe/Stockholm:20230610T130000
DTEND;TZID=Europe/Stockholm:20230610T180000
DTSTAMP:20260423T063711
CREATED:20230523T135905Z
LAST-MODIFIED:20230523T135907Z
UID:3502-1686402000-1686420000@www.klrk.se
SUMMARY:Johanna träning
DESCRIPTION:
URL:https://www.klrk.se/event/johanna-traning-9/
LOCATION:Karlskrona Lyckå ridklubbs lilla ridhus\, Afvelsgärdevägen 27\, Karlskrona
END:VEVENT
BEGIN:VEVENT
DTSTART;TZID=Europe/Stockholm:20230610T160000
DTEND;TZID=Europe/Stockholm:20230611T103000
DTSTAMP:20260423T063711
CREATED:20230607T082644Z
LAST-MODIFIED:20230607T082656Z
UID:3616-1686412800-1686479400@www.klrk.se
SUMMARY:US-aktiviteter i stora ridhuset
DESCRIPTION:US-aktiviteter i stora ridhuset med övernattning
URL:https://www.klrk.se/event/us-aktiviteter-i-stora-ridhuset/
LOCATION:Karlskrona Lyckå Ridklubbs stora ridhus\, Afvelsgärdevägen 27\, Karlskrona
END:VEVENT
BEGIN:VEVENT
DTSTART;TZID=Europe/Stockholm:20230611T080000
DTEND;TZID=Europe/Stockholm:20230611T140000
DTSTAMP:20260423T063711
CREATED:20230530T152551Z
LAST-MODIFIED:20230530T152556Z
UID:3574-1686470400-1686492000@www.klrk.se
SUMMARY:WE-träning
DESCRIPTION:Lilla paddocken
URL:https://www.klrk.se/event/we-traning-2/
END:VEVENT
BEGIN:VEVENT
DTSTART;TZID=Europe/Stockholm:20230611T090000
DTEND;TZID=Europe/Stockholm:20230611T140000
DTSTAMP:20260423T063711
CREATED:20230523T135945Z
LAST-MODIFIED:20230523T135948Z
UID:3504-1686474000-1686492000@www.klrk.se
SUMMARY:Johanna träning
DESCRIPTION:
URL:https://www.klrk.se/event/johanna-traning-10/
LOCATION:Karlskrona Lyckå ridklubbs lilla ridhus\, Afvelsgärdevägen 27\, Karlskrona
END:VEVENT
BEGIN:VEVENT
DTSTART;TZID=Europe/Stockholm:20230611T120000
DTEND;TZID=Europe/Stockholm:20230611T140000
DTSTAMP:20260423T063711
CREATED:20230523T140109Z
LAST-MODIFIED:20230523T140112Z
UID:3506-1686484800-1686492000@www.klrk.se
SUMMARY:Häst och ryttare projektet
DESCRIPTION:Föreläsning om hästens foder och hull. \nVi träffas i cafeterian
URL:https://www.klrk.se/event/hast-och-ryttare-projektet/
END:VEVENT
BEGIN:VEVENT
DTSTART;TZID=Europe/Stockholm:20230617T080000
DTEND;TZID=Europe/Stockholm:20230617T170000
DTSTAMP:20260423T063711
CREATED:20230530T152728Z
LAST-MODIFIED:20230530T152731Z
UID:3576-1686988800-1687021200@www.klrk.se
SUMMARY:Pay and WE
DESCRIPTION:Lilla Paddocken 08.00-16.00 \nHalva stora ridhuset 13.00-16.00
URL:https://www.klrk.se/event/pay-and-we-2/
END:VEVENT
BEGIN:VEVENT
DTSTART;TZID=Europe/Stockholm:20230617T123000
DTEND;TZID=Europe/Stockholm:20230617T203000
DTSTAMP:20260423T063711
CREATED:20230523T140615Z
LAST-MODIFIED:20230613T141517Z
UID:3508-1687005000-1687033800@www.klrk.se
SUMMARY:Mats träning
DESCRIPTION:
URL:https://www.klrk.se/event/mats-traning-5/
LOCATION:Karlskrona Lyckå Ridklubbs stora utebana
END:VEVENT
BEGIN:VEVENT
DTSTART;TZID=Europe/Stockholm:20230618T090000
DTEND;TZID=Europe/Stockholm:20230618T160000
DTSTAMP:20260423T063711
CREATED:20230523T140653Z
LAST-MODIFIED:20230613T141423Z
UID:3510-1687078800-1687104000@www.klrk.se
SUMMARY:Mats träning
DESCRIPTION:
URL:https://www.klrk.se/event/mats-traning-6/
LOCATION:Karlskrona Lyckå Ridklubbs stora utebana
END:VEVENT
BEGIN:VEVENT
DTSTART;TZID=Europe/Stockholm:20230619T080000
DTEND;TZID=Europe/Stockholm:20230622T160000
DTSTAMP:20260423T063711
CREATED:20230524T114033Z
LAST-MODIFIED:20230524T114036Z
UID:3519-1687161600-1687449600@www.klrk.se
SUMMARY:Ridläger nivå 1-2
DESCRIPTION:Läger på ridskolan fyra dagar en kvälls aktivitet. En häst/elev. Ridning ca 3 tim/dag\, teori\, stall- och hästskötsel under ledning av ridlärare.
URL:https://www.klrk.se/event/ridlager-niva-1-2/
END:VEVENT
BEGIN:VEVENT
DTSTART;TZID=Europe/Stockholm:20230619T160000
DTEND;TZID=Europe/Stockholm:20230621T190000
DTSTAMP:20260423T063711
CREATED:20230524T114157Z
LAST-MODIFIED:20230524T114203Z
UID:3521-1687190400-1687374000@www.klrk.se
SUMMARY:Dressyrkurs
DESCRIPTION:Dressyrkurs med programridning
URL:https://www.klrk.se/event/dressyrkurs-3/
END:VEVENT
BEGIN:VEVENT
DTSTART;TZID=Europe/Stockholm:20230626T080000
DTEND;TZID=Europe/Stockholm:20230629T160000
DTSTAMP:20260423T063711
CREATED:20230524T114317Z
LAST-MODIFIED:20230524T114415Z
UID:3523-1687766400-1688054400@www.klrk.se
SUMMARY:Ridläger nivå 2\,5-3\, det finns några platser kvar.
DESCRIPTION:Läger på ridskolan fyra dagar en kvälls aktivitet. En häst/elev. Ridning ca 3 tim/dag\, teori\, stall- och hästskötsel under ledning av ridlärare.
URL:https://www.klrk.se/event/ridlager-niva-25-3/
END:VEVENT
BEGIN:VEVENT
DTSTART;TZID=Europe/Stockholm:20230626T160000
DTEND;TZID=Europe/Stockholm:20230627T173000
DTSTAMP:20260423T063711
CREATED:20230524T114723Z
LAST-MODIFIED:20230524T114726Z
UID:3526-1687795200-1687887000@www.klrk.se
SUMMARY:Hoppkurs häst
DESCRIPTION:(det finns plats kvar)
URL:https://www.klrk.se/event/hoppkurs-hast/
END:VEVENT
BEGIN:VEVENT
DTSTART;TZID=Europe/Stockholm:20230628T160000
DTEND;TZID=Europe/Stockholm:20230629T180000
DTSTAMP:20260423T063711
CREATED:20230524T114941Z
LAST-MODIFIED:20230524T114945Z
UID:3528-1687968000-1688061600@www.klrk.se
SUMMARY:Dressyr och kavaletti
DESCRIPTION:Vi har ändrat WE kurs till dressyr-kavaletti. Det finns platser kvar
URL:https://www.klrk.se/event/dressyr-och-kavaletti/
END:VEVENT
BEGIN:VEVENT
DTSTART;VALUE=DATE:20230630
DTEND;VALUE=DATE:20230704
DTSTAMP:20260423T063711
CREATED:20230524T115233Z
LAST-MODIFIED:20230524T115446Z
UID:3532-1688083200-1688428799@www.klrk.se
SUMMARY:Ridläger nivå 3-4
DESCRIPTION:
URL:https://www.klrk.se/event/ridlager-niva-3/
END:VEVENT
BEGIN:VEVENT
DTSTART;TZID=Europe/Stockholm:20230630T090000
DTEND;TZID=Europe/Stockholm:20230701T113000
DTSTAMP:20260423T063711
CREATED:20230524T115056Z
LAST-MODIFIED:20230524T115126Z
UID:3530-1688115600-1688211000@www.klrk.se
SUMMARY:Hoppkurs ponny
DESCRIPTION:
URL:https://www.klrk.se/event/hoppkurs-ponny/
LOCATION:Karlskrona Lyckå Ridklubbs stora utebana
END:VEVENT
END:VCALENDAR