BEGIN:VCALENDAR
VERSION:2.0
PRODID:-//Karlskrona Lyckå Ridklubb - ECPv6.15.12.2//NONSGML v1.0//EN
CALSCALE:GREGORIAN
METHOD:PUBLISH
X-ORIGINAL-URL:https://www.klrk.se
X-WR-CALDESC:Händelser för Karlskrona Lyckå Ridklubb
REFRESH-INTERVAL;VALUE=DURATION:PT1H
X-Robots-Tag:noindex
X-PUBLISHED-TTL:PT1H
BEGIN:VTIMEZONE
TZID:Europe/Stockholm
BEGIN:DAYLIGHT
TZOFFSETFROM:+0100
TZOFFSETTO:+0200
TZNAME:CEST
DTSTART:20220327T010000
END:DAYLIGHT
BEGIN:STANDARD
TZOFFSETFROM:+0200
TZOFFSETTO:+0100
TZNAME:CET
DTSTART:20221030T010000
END:STANDARD
BEGIN:DAYLIGHT
TZOFFSETFROM:+0100
TZOFFSETTO:+0200
TZNAME:CEST
DTSTART:20230326T010000
END:DAYLIGHT
BEGIN:STANDARD
TZOFFSETFROM:+0200
TZOFFSETTO:+0100
TZNAME:CET
DTSTART:20231029T010000
END:STANDARD
BEGIN:DAYLIGHT
TZOFFSETFROM:+0100
TZOFFSETTO:+0200
TZNAME:CEST
DTSTART:20240331T010000
END:DAYLIGHT
BEGIN:STANDARD
TZOFFSETFROM:+0200
TZOFFSETTO:+0100
TZNAME:CET
DTSTART:20241027T010000
END:STANDARD
END:VTIMEZONE
BEGIN:VEVENT
DTSTART;TZID=Europe/Stockholm:20230803T080000
DTEND;TZID=Europe/Stockholm:20230806T153000
DTSTAMP:20260422T225946
CREATED:20230726T131347Z
LAST-MODIFIED:20230726T131347Z
UID:3734-1691049600-1691335800@www.klrk.se
SUMMARY:Öppen bana - hoppning
DESCRIPTION:Här hittar du bokningssidan: https://www.edibooking.com/karlskrona-lycka-ridklubb
URL:https://www.klrk.se/event/oppen-bana-hoppning-3/
LOCATION:Karlskrona Lyckå Ridklubbs stora utebana
END:VEVENT
BEGIN:VEVENT
DTSTART;TZID=Europe/Stockholm:20230808T090000
DTEND;TZID=Europe/Stockholm:20230811T160000
DTSTAMP:20260422T225946
CREATED:20230524T115921Z
LAST-MODIFIED:20230524T115926Z
UID:3541-1691485200-1691769600@www.klrk.se
SUMMARY:Ridläger nivå 1-2
DESCRIPTION:Läger på ridskolan fyra dagar. En häst/elev. Ridning ca 3 tim/dag\, teori\, stall- och hästskötsel under ledning av ridlärare
URL:https://www.klrk.se/event/ridlager-niva-1-2-2/
END:VEVENT
BEGIN:VEVENT
DTSTART;TZID=Europe/Stockholm:20230808T160000
DTEND;TZID=Europe/Stockholm:20230809T190000
DTSTAMP:20260422T225946
CREATED:20230524T120123Z
LAST-MODIFIED:20230524T120126Z
UID:3543-1691510400-1691607600@www.klrk.se
SUMMARY:Kvällsläger
DESCRIPTION:Kvällsläger på ridskolan\, Dressyr\, Uteritt\, grillning första kvällen
URL:https://www.klrk.se/event/kvallslager/
END:VEVENT
BEGIN:VEVENT
DTSTART;TZID=Europe/Stockholm:20230810T160000
DTEND;TZID=Europe/Stockholm:20230811T190000
DTSTAMP:20260422T225946
CREATED:20230524T120205Z
LAST-MODIFIED:20230524T120253Z
UID:3546-1691683200-1691780400@www.klrk.se
SUMMARY:Kvällsläger
DESCRIPTION:Kvällsläger på ridskolan\, Dressyr\, Uteritt\, grillning första kvällen
URL:https://www.klrk.se/event/kvallslager-2/
END:VEVENT
BEGIN:VEVENT
DTSTART;TZID=Europe/Stockholm:20230814T160000
DTEND;TZID=Europe/Stockholm:20230814T210000
DTSTAMP:20260422T225946
CREATED:20230811T081624Z
LAST-MODIFIED:20230811T081628Z
UID:3778-1692028800-1692046800@www.klrk.se
SUMMARY:Terminstart för lektionsridningen
DESCRIPTION:
URL:https://www.klrk.se/event/terminstart-for-lektionsridningen/
END:VEVENT
BEGIN:VEVENT
DTSTART;TZID=Europe/Stockholm:20230818T160000
DTEND;TZID=Europe/Stockholm:20230818T233000
DTSTAMP:20260422T225946
CREATED:20230808T172814Z
LAST-MODIFIED:20230808T172814Z
UID:3756-1692374400-1692401400@www.klrk.se
SUMMARY:Banbyggnad - dressyr
DESCRIPTION:
URL:https://www.klrk.se/event/banbyggnad-dressyr/
LOCATION:Karlskrona Lyckå Ridklubbs stora utebana
END:VEVENT
BEGIN:VEVENT
DTSTART;VALUE=DATE:20230819
DTEND;VALUE=DATE:20230820
DTSTAMP:20260422T225946
CREATED:20230808T172542Z
LAST-MODIFIED:20230808T172542Z
UID:3750-1692403200-1692489599@www.klrk.se
SUMMARY:Öppen bana - Dressyr
DESCRIPTION:
URL:https://www.klrk.se/event/oppen-bana-dressyr-2/
LOCATION:Karlskrona Lyckå Ridklubbs stora utebana
END:VEVENT
BEGIN:VEVENT
DTSTART;TZID=Europe/Stockholm:20230819T133000
DTEND;TZID=Europe/Stockholm:20230819T203000
DTSTAMP:20260422T225946
CREATED:20230808T174034Z
LAST-MODIFIED:20230808T174034Z
UID:3764-1692451800-1692477000@www.klrk.se
SUMMARY:Nina-träning
DESCRIPTION:
URL:https://www.klrk.se/event/nina-traning/
LOCATION:Karlskrona Lyckå ridklubbs lilla ridhus\, Afvelsgärdevägen 27\, Karlskrona
END:VEVENT
BEGIN:VEVENT
DTSTART;VALUE=DATE:20230820
DTEND;VALUE=DATE:20230821
DTSTAMP:20260422T225946
CREATED:20230808T172619Z
LAST-MODIFIED:20230808T172619Z
UID:3752-1692489600-1692575999@www.klrk.se
SUMMARY:Dressyrtävling
DESCRIPTION:
URL:https://www.klrk.se/event/dressyrtavling-2/
LOCATION:Karlskrona Lyckå Ridklubbs stora utebana
END:VEVENT
BEGIN:VEVENT
DTSTART;TZID=Europe/Stockholm:20230827T080000
DTEND;TZID=Europe/Stockholm:20230827T170000
DTSTAMP:20260422T225946
CREATED:20230814T074333Z
LAST-MODIFIED:20230814T074335Z
UID:3796-1693123200-1693155600@www.klrk.se
SUMMARY:Båda ridhusen är stängda
DESCRIPTION:Båda ridhusen ska hyvlas och jämnas.
URL:https://www.klrk.se/event/bada-ridhusen-ar-stangda/
END:VEVENT
BEGIN:VEVENT
DTSTART;TZID=Europe/Stockholm:20230831T170000
DTEND;TZID=Europe/Stockholm:20230831T190000
DTSTAMP:20260422T225946
CREATED:20230811T082022Z
LAST-MODIFIED:20230811T082024Z
UID:3782-1693501200-1693508400@www.klrk.se
SUMMARY:Clinic med André Brandt
DESCRIPTION:Clinic med André Brandt på stora utebanan.
URL:https://www.klrk.se/event/clinic-med-andre-brandt/
LOCATION:Karlskrona Lyckå Ridklubbs stora utebana
END:VEVENT
END:VCALENDAR