BEGIN:VCALENDAR
VERSION:2.0
PRODID:-//Karlskrona Lyckå Ridklubb - ECPv6.15.12.2//NONSGML v1.0//EN
CALSCALE:GREGORIAN
METHOD:PUBLISH
X-WR-CALNAME:Karlskrona Lyckå Ridklubb
X-ORIGINAL-URL:https://www.klrk.se
X-WR-CALDESC:Händelser för Karlskrona Lyckå Ridklubb
REFRESH-INTERVAL;VALUE=DURATION:PT1H
X-Robots-Tag:noindex
X-PUBLISHED-TTL:PT1H
BEGIN:VTIMEZONE
TZID:Europe/Stockholm
BEGIN:DAYLIGHT
TZOFFSETFROM:+0100
TZOFFSETTO:+0200
TZNAME:CEST
DTSTART:20230326T010000
END:DAYLIGHT
BEGIN:STANDARD
TZOFFSETFROM:+0200
TZOFFSETTO:+0100
TZNAME:CET
DTSTART:20231029T010000
END:STANDARD
BEGIN:DAYLIGHT
TZOFFSETFROM:+0100
TZOFFSETTO:+0200
TZNAME:CEST
DTSTART:20240331T010000
END:DAYLIGHT
BEGIN:STANDARD
TZOFFSETFROM:+0200
TZOFFSETTO:+0100
TZNAME:CET
DTSTART:20241027T010000
END:STANDARD
BEGIN:DAYLIGHT
TZOFFSETFROM:+0100
TZOFFSETTO:+0200
TZNAME:CEST
DTSTART:20250330T010000
END:DAYLIGHT
BEGIN:STANDARD
TZOFFSETFROM:+0200
TZOFFSETTO:+0100
TZNAME:CET
DTSTART:20251026T010000
END:STANDARD
END:VTIMEZONE
BEGIN:VEVENT
DTSTART;TZID=Europe/Stockholm:20240501T080000
DTEND;TZID=Europe/Stockholm:20240501T170000
DTSTAMP:20260421T034932
CREATED:20240318T091021Z
LAST-MODIFIED:20240318T091021Z
UID:4800-1714550400-1714582800@www.klrk.se
SUMMARY:Hopptävling Ponny
DESCRIPTION:
URL:https://www.klrk.se/event/hopptavling-ponny-2/
END:VEVENT
BEGIN:VEVENT
DTSTART;TZID=Europe/Stockholm:20240503T080000
DTEND;TZID=Europe/Stockholm:20240503T100000
DTSTAMP:20260421T034932
CREATED:20240502T132324Z
LAST-MODIFIED:20240502T132725Z
UID:4997-1714723200-1714730400@www.klrk.se
SUMMARY:Löshoppning i lilla ridhuset
DESCRIPTION:
URL:https://www.klrk.se/event/loshoppning-i-lilla-ridhuset/
LOCATION:Karlskrona Lyckå ridklubbs lilla ridhus\, Afvelsgärdevägen 27\, Karlskrona
END:VEVENT
BEGIN:VEVENT
DTSTART;TZID=Europe/Stockholm:20240503T170000
DTEND;TZID=Europe/Stockholm:20240503T233000
DTSTAMP:20260421T034932
CREATED:20240425T141535Z
LAST-MODIFIED:20240502T135047Z
UID:4975-1714755600-1714779000@www.klrk.se
SUMMARY:Staketbygge öppen bana
DESCRIPTION:Vi träffas kl.19 för att ställa iordning banan inför den öppna banan. \nNär bana är byggd är det inte tillåtet att beträda den med häst om du inte har bokat och betalat för en tid\, vänligen respektera detta.
URL:https://www.klrk.se/event/staketbygge-oppen-bana/
LOCATION:Karlskrona Lyckå Ridklubbs stora utebana
END:VEVENT
BEGIN:VEVENT
DTSTART;TZID=Europe/Stockholm:20240504T000000
DTEND;TZID=Europe/Stockholm:20240505T120000
DTSTAMP:20260421T034932
CREATED:20240425T141404Z
LAST-MODIFIED:20240502T135143Z
UID:4973-1714780800-1714910400@www.klrk.se
SUMMARY:Öppen bana – dressyr
DESCRIPTION:Välkommen på Öppen bana! \nDen 4–5/5 hälsar vi alla ryttare\, stora som små\, varmt välkomna till vår fina utebana. Ett utmärkt tillfälle att komma iväg och träna dressyr på bana av tävlingskaraktär. \nKostnad per ryttare är 150 kr för medlem och 200 kr för icke medlem\, då har du tillgång till banan i 30 min. Samma ryttare får rida olika hästar under sin bokade tid. Använder flera ekipage banan under samma tid betalar varje ryttare150 kr alternativt 200 kr. \nAnmälning sker via bokningslänken nedan. Betalning görs via Swish till 1 230 450 569 senast den dag då du har din bokade tid\, märk betalningen med ”Öppen bana + ditt namn”. Skicka också en skärmdump på genomförd betalning till Malin\, 0739-77 21 17. Bokad och betald tid återbetalas ej! \nMöjlighet till framridning finns utomhus i den lilla paddocken alternativt i ridhus. \nAll ridning sker på egen risk\, glöm inte att mocka efter er häst. Justering av banans längd sköter man själv\, markeringar för korrekt bokstavsplacering finns på staketet. \nVid frågor kontakta Malin Valdenäs\, 0739-77 21 17 \nHoppas du och din häst får en trevlig stund hos oss! \nHär hittar du bokningssidan: https://www.edibooking.com/karlskrona-lycka-ridklubb
URL:https://www.klrk.se/event/oppen-bana-dressyr-3/
LOCATION:Karlskrona Lyckå Ridklubbs stora utebana
END:VEVENT
BEGIN:VEVENT
DTSTART;TZID=Europe/Stockholm:20240504T130000
DTEND;TZID=Europe/Stockholm:20240504T190000
DTSTAMP:20260421T034932
CREATED:20231219T113255Z
LAST-MODIFIED:20231219T113258Z
UID:4360-1714827600-1714849200@www.klrk.se
SUMMARY:Nina träning
DESCRIPTION:
URL:https://www.klrk.se/event/nina-traning-8/
LOCATION:Karlskrona Lyckå Ridklubbs stora ridhus\, Afvelsgärdevägen 27\, Karlskrona
END:VEVENT
BEGIN:VEVENT
DTSTART;TZID=Europe/Stockholm:20240511T100000
DTEND;TZID=Europe/Stockholm:20240511T150000
DTSTAMP:20260421T034932
CREATED:20240320T125506Z
LAST-MODIFIED:20240505T194637Z
UID:4838-1715421600-1715439600@www.klrk.se
SUMMARY:Karlskrona Lyckå ridklubbs Vårdag 2024
DESCRIPTION:Varmt välkommen till Karlskrona Lyckå ridklubbs Vårdag den 11 maj klockan 10.00-15.00! Våra ungdomsledare bjuder in till en dag med öppet hus och massor av aktiviteter för både barn och vuxna\, medlem eller ej. På programmet står ponnyridning\, prova på-ridning för ungdom/vuxen\, loppis\, tipsrunda\, ansiktsmålning\, pysselstuga\, brännboll och käpphästhoppning med mera.\nVårt café är öppet med fika och grillad korv. \nFri entré\, aktiviteterna du väljer att delta i betalas på plats. \nKlubbkläder\nVår leverantör av klubbkläder – Sommare Group – kommer på besök med hela kollektionen. Se och prova och ställ frågor inför beställning i vår webbshop! \nKäpphästhoppning\nKäpphästhoppningen sker på bana varje timme och deltagare anmäler sig på plats\, alla får pris. Käpphästar finns att låna men ta gärna med din egen! \n \nLoppis\nVill du vara med och sälja på loppisen bokar du en plats för 50 kronor som betalas på plats\, genom att maila us@klrk.se – ett perfekt tillfälle att vårstäda i skåpen i stallet! \n \nInsamling till organisationen Majblomman\nSamtidigt som vi har roligt passar vi på att samla in pengar till Majblomman i Karlskrona! Karlskrona Lyckå ridklubb har en egen Majblommebössa där pengarna går till organisationen Majblomman lokalt i Karlskrona. \nLänk till vår majblommebössa \n \nMajblomman – Barndom fri från fattigdom \nMajblomman är en ideell barnrättsorganisation som delar ut ekonomiskt stöd\, påverkar beslut och finansierar forskning för att motverka barnfattigdomen i Sverige. \nPå vår webbplats längst ner på sidan avgifter finns information om möjligheterna att vid behov söka stöd från organisationen Majblomman till sin fritidsaktivitet om behovet: Avgifter – Karlskrona Lyckå Ridklubb (klrk.se)
URL:https://www.klrk.se/event/karlskrona-lycka-ridklubbs-vardag-2024/
END:VEVENT
BEGIN:VEVENT
DTSTART;TZID=Europe/Stockholm:20240511T120000
DTEND;TZID=Europe/Stockholm:20240511T143000
DTSTAMP:20260421T034932
CREATED:20240318T091133Z
LAST-MODIFIED:20240318T091136Z
UID:4802-1715428800-1715437800@www.klrk.se
SUMMARY:Programridning
DESCRIPTION:
URL:https://www.klrk.se/event/programridning-7/
LOCATION:Karlskrona Lyckå Ridklubbs stora ridhus\, Afvelsgärdevägen 27\, Karlskrona
END:VEVENT
BEGIN:VEVENT
DTSTART;TZID=Europe/Stockholm:20240512T080000
DTEND;TZID=Europe/Stockholm:20240512T170000
DTSTAMP:20260421T034932
CREATED:20240318T091224Z
LAST-MODIFIED:20240318T091227Z
UID:4804-1715500800-1715533200@www.klrk.se
SUMMARY:Dressyrtävling
DESCRIPTION:
URL:https://www.klrk.se/event/dressyrtavling-4/
END:VEVENT
BEGIN:VEVENT
DTSTART;TZID=Europe/Stockholm:20240517T170000
DTEND;TZID=Europe/Stockholm:20240517T200000
DTSTAMP:20260421T034933
CREATED:20240318T091321Z
LAST-MODIFIED:20240318T091324Z
UID:4806-1715965200-1715976000@www.klrk.se
SUMMARY:Clear round
DESCRIPTION:
URL:https://www.klrk.se/event/clear-round-9/
LOCATION:Karlskrona Lyckå Ridklubbs stora utebana
END:VEVENT
BEGIN:VEVENT
DTSTART;TZID=Europe/Stockholm:20240525T110000
DTEND;TZID=Europe/Stockholm:20240525T140000
DTSTAMP:20260421T034933
CREATED:20240318T091425Z
LAST-MODIFIED:20240318T091428Z
UID:4808-1716634800-1716645600@www.klrk.se
SUMMARY:Blåbärshoppning
DESCRIPTION:
URL:https://www.klrk.se/event/blabarshoppning-7/
LOCATION:Karlskrona Lyckå Ridklubbs stora utebana
END:VEVENT
BEGIN:VEVENT
DTSTART;TZID=Europe/Stockholm:20240526T080000
DTEND;TZID=Europe/Stockholm:20240526T170000
DTSTAMP:20260421T034933
CREATED:20240318T091812Z
LAST-MODIFIED:20240411T194823Z
UID:4810-1716710400-1716742800@www.klrk.se
SUMMARY:WE-tävling
DESCRIPTION:
URL:https://www.klrk.se/event/we-tavling-3/
LOCATION:Karlskrona Lyckå Ridklubbs stora utebana
ORGANIZER;CN="Styrelsen":MAILTO:styrelsen@klrk.se
END:VEVENT
END:VCALENDAR