BEGIN:VCALENDAR
VERSION:2.0
PRODID:-//Karlskrona Lyckå Ridklubb - ECPv6.15.12.2//NONSGML v1.0//EN
CALSCALE:GREGORIAN
METHOD:PUBLISH
X-ORIGINAL-URL:https://www.klrk.se
X-WR-CALDESC:Händelser för Karlskrona Lyckå Ridklubb
REFRESH-INTERVAL;VALUE=DURATION:PT1H
X-Robots-Tag:noindex
X-PUBLISHED-TTL:PT1H
BEGIN:VTIMEZONE
TZID:Europe/Stockholm
BEGIN:DAYLIGHT
TZOFFSETFROM:+0100
TZOFFSETTO:+0200
TZNAME:CEST
DTSTART:20230326T010000
END:DAYLIGHT
BEGIN:STANDARD
TZOFFSETFROM:+0200
TZOFFSETTO:+0100
TZNAME:CET
DTSTART:20231029T010000
END:STANDARD
BEGIN:DAYLIGHT
TZOFFSETFROM:+0100
TZOFFSETTO:+0200
TZNAME:CEST
DTSTART:20240331T010000
END:DAYLIGHT
BEGIN:STANDARD
TZOFFSETFROM:+0200
TZOFFSETTO:+0100
TZNAME:CET
DTSTART:20241027T010000
END:STANDARD
BEGIN:DAYLIGHT
TZOFFSETFROM:+0100
TZOFFSETTO:+0200
TZNAME:CEST
DTSTART:20250330T010000
END:DAYLIGHT
BEGIN:STANDARD
TZOFFSETFROM:+0200
TZOFFSETTO:+0100
TZNAME:CET
DTSTART:20251026T010000
END:STANDARD
END:VTIMEZONE
BEGIN:VEVENT
DTSTART;TZID=Europe/Stockholm:20240701T100000
DTEND;TZID=Europe/Stockholm:20240701T110000
DTSTAMP:20260420T205505
CREATED:20240527T103954Z
LAST-MODIFIED:20240527T103958Z
UID:5126-1719828000-1719831600@www.klrk.se
SUMMARY:Para ridläger
DESCRIPTION:Ridlägret pågår mellan 9-14. Lunch i cafeterian vid 12-tiden. \nVi rider på del av stora banan kl 10 12 vid 13 rider vi ut en runda.
URL:https://www.klrk.se/event/para-ridlager-2/
LOCATION:Karlskrona Lyckå Ridklubbs stora utebana
END:VEVENT
BEGIN:VEVENT
DTSTART;TZID=Europe/Stockholm:20240701T150000
DTEND;TZID=Europe/Stockholm:20240701T210000
DTSTAMP:20260420T205505
CREATED:20240701T145110Z
LAST-MODIFIED:20240701T145304Z
UID:5205-1719846000-1719867600@www.klrk.se
SUMMARY:Niklas Haking träning
DESCRIPTION:
URL:https://www.klrk.se/event/niklas-haking-traning-3/
LOCATION:Karlskrona Lyckå Ridklubbs stora utebana
END:VEVENT
BEGIN:VEVENT
DTSTART;TZID=Europe/Stockholm:20240702T100000
DTEND;TZID=Europe/Stockholm:20240702T110000
DTSTAMP:20260420T205505
CREATED:20240527T104045Z
LAST-MODIFIED:20240527T104050Z
UID:5128-1719914400-1719918000@www.klrk.se
SUMMARY:Para ridläger
DESCRIPTION:Ridlägret pågår mellan 9-14. Lunch i cafeterian vid 12-tiden. \nVi rider på del av stora banan kl 10 12 vid 13 rider vi ut en runda.
URL:https://www.klrk.se/event/para-ridlager-3/
LOCATION:Karlskrona Lyckå Ridklubbs stora utebana
END:VEVENT
BEGIN:VEVENT
DTSTART;TZID=Europe/Stockholm:20240703T100000
DTEND;TZID=Europe/Stockholm:20240703T120000
DTSTAMP:20260420T205505
CREATED:20240527T092150Z
LAST-MODIFIED:20240527T092154Z
UID:5117-1720000800-1720008000@www.klrk.se
SUMMARY:Ridläger
DESCRIPTION:Ridlägret pågår mellan 9-21 vid ca 12.30 är det lunch i cafeterian. \nVi räknar med att ha ridning ute på del av stora banan kl 10-12 \nEftermiddagen rider vi ut. \n 
URL:https://www.klrk.se/event/ridlager-7/
LOCATION:Karlskrona Lyckå Ridklubbs stora utebana
END:VEVENT
BEGIN:VEVENT
DTSTART;TZID=Europe/Stockholm:20240704T100000
DTEND;TZID=Europe/Stockholm:20240704T120000
DTSTAMP:20260420T205505
CREATED:20240527T091911Z
LAST-MODIFIED:20240527T091911Z
UID:5113-1720087200-1720094400@www.klrk.se
SUMMARY:Ridläger
DESCRIPTION:Ridlägret pågår mellan 9-21 vid ca 12.30 är det lunch i cafeterian. \nVi räknar med att ha ridning ute på del av stora banan kl 10-12 \nEftermiddagen rider vi ut. \nPå kvällen har vi lekar och kanske bad i vattenspridarna om vädret tillåter\, vi fixar mat tillsammans grillar eller något annat gott.
URL:https://www.klrk.se/event/ridlager-5/
LOCATION:Karlskrona Lyckå Ridklubbs stora utebana
END:VEVENT
BEGIN:VEVENT
DTSTART;TZID=Europe/Stockholm:20240705T140000
DTEND;TZID=Europe/Stockholm:20240705T160000
DTSTAMP:20260420T205505
CREATED:20240527T092500Z
LAST-MODIFIED:20240527T092512Z
UID:5121-1720188000-1720195200@www.klrk.se
SUMMARY:Ridläger
DESCRIPTION:Ridlägret pågår mellan 9-21 vid ca 12.30 är det lunch i cafeterian. \nVi räknar med att ha ridning ute på del av stora banan kl 14-16 \nPå förmiddagen rider vi ut. \n 
URL:https://www.klrk.se/event/ridlager-9/
LOCATION:Karlskrona Lyckå Ridklubbs stora utebana
END:VEVENT
BEGIN:VEVENT
DTSTART;TZID=Europe/Stockholm:20240713T130000
DTEND;TZID=Europe/Stockholm:20240713T190000
DTSTAMP:20260420T205506
CREATED:20231219T113423Z
LAST-MODIFIED:20231219T113425Z
UID:4364-1720875600-1720897200@www.klrk.se
SUMMARY:Nina träning
DESCRIPTION:
URL:https://www.klrk.se/event/nina-traning-10/
LOCATION:Karlskrona Lyckå Ridklubbs stora ridhus\, Afvelsgärdevägen 27\, Karlskrona
END:VEVENT
BEGIN:VEVENT
DTSTART;TZID=Europe/Stockholm:20240715T150000
DTEND;TZID=Europe/Stockholm:20240715T210000
DTSTAMP:20260420T205506
CREATED:20240701T145359Z
LAST-MODIFIED:20240701T145406Z
UID:5207-1721055600-1721077200@www.klrk.se
SUMMARY:Niklas Haking Träning
DESCRIPTION:
URL:https://www.klrk.se/event/niklas-haking-traning-4/
LOCATION:Karlskrona Lyckå Ridklubbs stora utebana
END:VEVENT
BEGIN:VEVENT
DTSTART;TZID=Europe/Stockholm:20240729T150000
DTEND;TZID=Europe/Stockholm:20240729T210000
DTSTAMP:20260420T205506
CREATED:20240701T145451Z
LAST-MODIFIED:20240701T145458Z
UID:5209-1722265200-1722286800@www.klrk.se
SUMMARY:Niklas Haking träning
DESCRIPTION:
URL:https://www.klrk.se/event/niklas-haking-traning-5/
LOCATION:Karlskrona Lyckå Ridklubbs stora utebana
END:VEVENT
END:VCALENDAR