BEGIN:VCALENDAR
VERSION:2.0
PRODID:-//Karlskrona Lyckå Ridklubb - ECPv6.15.12.2//NONSGML v1.0//EN
CALSCALE:GREGORIAN
METHOD:PUBLISH
X-WR-CALNAME:Karlskrona Lyckå Ridklubb
X-ORIGINAL-URL:https://www.klrk.se
X-WR-CALDESC:Händelser för Karlskrona Lyckå Ridklubb
REFRESH-INTERVAL;VALUE=DURATION:PT1H
X-Robots-Tag:noindex
X-PUBLISHED-TTL:PT1H
BEGIN:VTIMEZONE
TZID:Europe/Stockholm
BEGIN:DAYLIGHT
TZOFFSETFROM:+0100
TZOFFSETTO:+0200
TZNAME:CEST
DTSTART:20230326T010000
END:DAYLIGHT
BEGIN:STANDARD
TZOFFSETFROM:+0200
TZOFFSETTO:+0100
TZNAME:CET
DTSTART:20231029T010000
END:STANDARD
BEGIN:DAYLIGHT
TZOFFSETFROM:+0100
TZOFFSETTO:+0200
TZNAME:CEST
DTSTART:20240331T010000
END:DAYLIGHT
BEGIN:STANDARD
TZOFFSETFROM:+0200
TZOFFSETTO:+0100
TZNAME:CET
DTSTART:20241027T010000
END:STANDARD
BEGIN:DAYLIGHT
TZOFFSETFROM:+0100
TZOFFSETTO:+0200
TZNAME:CEST
DTSTART:20250330T010000
END:DAYLIGHT
BEGIN:STANDARD
TZOFFSETFROM:+0200
TZOFFSETTO:+0100
TZNAME:CET
DTSTART:20251026T010000
END:STANDARD
END:VTIMEZONE
BEGIN:VEVENT
DTSTART;TZID=Europe/Stockholm:20241005T110000
DTEND;TZID=Europe/Stockholm:20241005T140000
DTSTAMP:20260420T102404
CREATED:20240829T100016Z
LAST-MODIFIED:20240829T100206Z
UID:5294-1728126000-1728136800@www.klrk.se
SUMMARY:Programridning Dressyr
DESCRIPTION:
URL:https://www.klrk.se/event/programridning-dressyr/
LOCATION:Karlskrona Lyckå Ridklubbs stora ridhus\, Afvelsgärdevägen 27\, Karlskrona
END:VEVENT
BEGIN:VEVENT
DTSTART;TZID=Europe/Stockholm:20241011T090000
DTEND;TZID=Europe/Stockholm:20241011T130000
DTSTAMP:20260420T102404
CREATED:20241007T174542Z
LAST-MODIFIED:20241007T174549Z
UID:5439-1728637200-1728651600@www.klrk.se
SUMMARY:Alette träning
DESCRIPTION:
URL:https://www.klrk.se/event/alette-traning/
LOCATION:Karlskrona Lyckå Ridklubbs stora ridhus\, Afvelsgärdevägen 27\, Karlskrona
END:VEVENT
BEGIN:VEVENT
DTSTART;TZID=Europe/Stockholm:20241012T120000
DTEND;TZID=Europe/Stockholm:20241012T150000
DTSTAMP:20260420T102404
CREATED:20240829T100418Z
LAST-MODIFIED:20240829T100422Z
UID:5298-1728734400-1728745200@www.klrk.se
SUMMARY:Dressyr träning Nina
DESCRIPTION:
URL:https://www.klrk.se/event/dressyr-traning-nina/
END:VEVENT
BEGIN:VEVENT
DTSTART;TZID=Europe/Stockholm:20241012T150000
DTEND;TZID=Europe/Stockholm:20241012T200000
DTSTAMP:20260420T102404
CREATED:20240829T100513Z
LAST-MODIFIED:20240829T100549Z
UID:5300-1728745200-1728763200@www.klrk.se
SUMMARY:Dressyr träning Nina
DESCRIPTION:
URL:https://www.klrk.se/event/dressyr-traning-nina-2/
LOCATION:Karlskrona Lyckå ridklubbs lilla ridhus\, Afvelsgärdevägen 27\, Karlskrona
END:VEVENT
BEGIN:VEVENT
DTSTART;TZID=Europe/Stockholm:20241019T090000
DTEND;TZID=Europe/Stockholm:20241019T120000
DTSTAMP:20260420T102404
CREATED:20241012T191027Z
LAST-MODIFIED:20241012T191937Z
UID:5463-1729328400-1729339200@www.klrk.se
SUMMARY:Arbetsdag 1 av 2
DESCRIPTION:Nu är det dags för höstterminens arbetsdagar. Eller som vår arbetsledare Håkan säger – Arbetsläger! Du kan välja att delta ena eller båda dagarna!\nArbetslista Lördag 09.00-12.00\nSamling 09.00 vid sandlådan. Avslut 12.00 då det serveras varm korv med dryck och kaffe i kafeterian.\n\nHandikapprampen i lilla ridhuset ska färdigställas: här behövs snickarkunniga med verktyg.\nFönstren på kafeterian etc behöver putsas: här behövs inga förkunskaper\, ta med putsmaterial.\nRöjning av växtlighet kring ridhusen och paddockarna: här behövs inga förkunskaper. Ta med utrustning för detta tex sekatör\, häcksax\, såg och skyddshandskar.\nRivning av staketet vid trähästarna och såga till nytt samt måla dessa: här behövs snickarkunniga med verktyg samt några noggranna som vill måla.\n\nArbetsledare Håkan finns på plats och ser till att det finns uppgifter som passar alla. Både barn och vuxna kan hjälpa till men barnen behöver ha någon vuxen med sig.\n\nSom vi påminde om inför arbetsdagen förra terminen så har vår klubb satt som mål att vi medlemmar INTE ska behöva sälja kakor\, bingolotter\, chips och strumpor. Istället lägger vi ett par timmar var och utför det arbete vi annars skulle köpt arbetskraft för med pengarna vi samlat in. Förutom att vår gemensamma anläggning blir fin så lär vi känna varandra och skapar en trivsam och trygg miljö att spendera vår fritid tillsammans med hästarna i!
URL:https://www.klrk.se/event/arbetsdag-1-av-2/
LOCATION:Karlskrona Lyckå Ridklubb\, Afvelsgärdevägen 27\, Karlskrona\, Sweden
ORGANIZER;CN="Karlskrona Lyck%C3%A5 Ridklubbs anl%C3%A4ggningsgrupp":MAILTO:styrelsen
END:VEVENT
BEGIN:VEVENT
DTSTART;TZID=Europe/Stockholm:20241020T090000
DTEND;TZID=Europe/Stockholm:20241020T110000
DTSTAMP:20260420T102404
CREATED:20241012T191813Z
LAST-MODIFIED:20241012T191852Z
UID:5470-1729414800-1729422000@www.klrk.se
SUMMARY:Arbetsdag 2 av 2
DESCRIPTION:Nu är det dags för höstterminens arbetsdagar. Eller som vår arbetsledare Håkan säger – Arbetsläger!  Du kan välja att delta ena eller båda dagarna!\n\n\n\n\n\n\n\nArbetslista Söndag 09.00-11.00\n\nStäda toaletter och omklädningsrum: här behövs inga förkunskaper. Tag med städgrejor du vill använda tex handskar och bra trasor och hinkar osv.\nSätta upp staketet vid trähästarna: här behövs snickarkunniga med verktyg.\nRöja stigar och passager mellan hyrstallen och ridhusen samt längs bilvägen där hästar passerar. Här behövs inga förkunskaper. Ta med lämplig utrustning.\n\nArbetsledare Håkan finns på plats och ser till att det finns uppgifter som passar alla. Både barn och vuxna kan hjälpa till men barnen behöver ha någon vuxen med sig. \n\n\n\nSom vi påminde om inför arbetsdagen förra terminen så har vår klubb satt som mål att vi medlemmar INTE ska behöva sälja kakor\, bingolotter\, chips och strumpor. Istället lägger vi ett par timmar var och utför det arbete vi annars skulle köpt arbetskraft för med pengarna vi samlat in. Förutom att vår gemensamma anläggning blir fin så lär vi känna varandra och skapar en trivsam och trygg miljö att spendera vår fritid tillsammans med hästarna i!
URL:https://www.klrk.se/event/arbetsdag-2-av-2/
LOCATION:Karlskrona Lyckå Ridklubb\, Afvelsgärdevägen 27\, Karlskrona\, Sweden
ORGANIZER;CN="Karlskrona Lyck%C3%A5 Ridklubbs anl%C3%A4ggningsgrupp":MAILTO:styrelsen
END:VEVENT
BEGIN:VEVENT
DTSTART;TZID=Europe/Stockholm:20241026T123000
DTEND;TZID=Europe/Stockholm:20241026T180000
DTSTAMP:20260420T102404
CREATED:20241003T112557Z
LAST-MODIFIED:20241003T112557Z
UID:5403-1729945800-1729965600@www.klrk.se
SUMMARY:WE-träning
DESCRIPTION:
URL:https://www.klrk.se/event/we-traning-4/
LOCATION:Karlskrona Lyckå Ridklubbs stora ridhus\, Afvelsgärdevägen 27\, Karlskrona
END:VEVENT
BEGIN:VEVENT
DTSTART;TZID=Europe/Stockholm:20241026T173000
DTEND;TZID=Europe/Stockholm:20241026T203000
DTSTAMP:20260420T102404
CREATED:20241021T082016Z
LAST-MODIFIED:20241021T090538Z
UID:5511-1729963800-1729974600@www.klrk.se
SUMMARY:Halloweenkväll med spökrunda
DESCRIPTION:Välkommen på US årliga halloweenkväll med spökrunda. Vi samlas i cafeterian för att starta kvällen och kommer sedan bland annat att lyssna på spökhistorier\, äta korv och bröd och förbereda oss för att vandra iväg ut i mörkret på spökrunda.  \nTänk på att spörundan hålls utomhus – så kläder efter väder\, men du är varmt välkommen att komma som spöke\, häxa eller monster – bara du inte är för tunt klädd. \nDet är ingen åldersgräns på denna aktivitet men du kan själv bestämma om du vill gå rundan med lite ”snällare” spöken eller den senare där inga spöken spar på krutet. \nDu måste anmäla dig för att delta: us@klrk.se \nAvgift: 50 kr\, betalas med swish till US på plats! \n 
URL:https://www.klrk.se/event/halloweenkvall-med-spokrunda/
LOCATION:Karlskrona Lyckå ridklubbs cafeteria\, KARLSKRONA\, 37163\, Sweden
ORGANIZER;CN="Karlskrona Lyck%C3%A5 Ridklubbs Ungdomsstyrelse US":MAILTO:us@klrk.se
END:VEVENT
BEGIN:VEVENT
DTSTART;TZID=Europe/Stockholm:20241028T090000
DTEND;TZID=Europe/Stockholm:20241028T160000
DTSTAMP:20260420T102404
CREATED:20241007T172534Z
LAST-MODIFIED:20241007T172603Z
UID:5412-1730106000-1730131200@www.klrk.se
SUMMARY:Dagridläger 9-16
DESCRIPTION:Ridning i lilla ridhuset kl 14-15.30
URL:https://www.klrk.se/event/dagridlager-4/
END:VEVENT
BEGIN:VEVENT
DTSTART;TZID=Europe/Stockholm:20241029T090000
DTEND;TZID=Europe/Stockholm:20241029T160000
DTSTAMP:20260420T102404
CREATED:20241007T172714Z
LAST-MODIFIED:20241007T172721Z
UID:5415-1730192400-1730217600@www.klrk.se
SUMMARY:Dagridläger kl 9-16
DESCRIPTION:Ridning i lilla ridhuset kl 14-15.30
URL:https://www.klrk.se/event/dagridlager-kl-9-16/
END:VEVENT
BEGIN:VEVENT
DTSTART;TZID=Europe/Stockholm:20241030T090000
DTEND;TZID=Europe/Stockholm:20241030T160000
DTSTAMP:20260420T102404
CREATED:20241007T172854Z
LAST-MODIFIED:20241007T172902Z
UID:5417-1730278800-1730304000@www.klrk.se
SUMMARY:Dagridläger kl 9-16
DESCRIPTION:Ridning i lilla ridhuset kl 14-15.30
URL:https://www.klrk.se/event/dagridlager-kl-9-16-2/
END:VEVENT
BEGIN:VEVENT
DTSTART;TZID=Europe/Stockholm:20241031T090000
DTEND;TZID=Europe/Stockholm:20241031T160000
DTSTAMP:20260420T102404
CREATED:20241007T173003Z
LAST-MODIFIED:20241007T173010Z
UID:5419-1730365200-1730390400@www.klrk.se
SUMMARY:Dagridläger 9-16
DESCRIPTION:Ridning i lilla ridhuset kl 14-15.30
URL:https://www.klrk.se/event/dagridlager-9-16/
END:VEVENT
END:VCALENDAR