BEGIN:VCALENDAR
VERSION:2.0
PRODID:-//Karlskrona Lyckå Ridklubb - ECPv6.15.12.2//NONSGML v1.0//EN
CALSCALE:GREGORIAN
METHOD:PUBLISH
X-ORIGINAL-URL:https://www.klrk.se
X-WR-CALDESC:Händelser för Karlskrona Lyckå Ridklubb
REFRESH-INTERVAL;VALUE=DURATION:PT1H
X-Robots-Tag:noindex
X-PUBLISHED-TTL:PT1H
BEGIN:VTIMEZONE
TZID:Europe/Stockholm
BEGIN:DAYLIGHT
TZOFFSETFROM:+0100
TZOFFSETTO:+0200
TZNAME:CEST
DTSTART:20230326T010000
END:DAYLIGHT
BEGIN:STANDARD
TZOFFSETFROM:+0200
TZOFFSETTO:+0100
TZNAME:CET
DTSTART:20231029T010000
END:STANDARD
BEGIN:DAYLIGHT
TZOFFSETFROM:+0100
TZOFFSETTO:+0200
TZNAME:CEST
DTSTART:20240331T010000
END:DAYLIGHT
BEGIN:STANDARD
TZOFFSETFROM:+0200
TZOFFSETTO:+0100
TZNAME:CET
DTSTART:20241027T010000
END:STANDARD
BEGIN:DAYLIGHT
TZOFFSETFROM:+0100
TZOFFSETTO:+0200
TZNAME:CEST
DTSTART:20250330T010000
END:DAYLIGHT
BEGIN:STANDARD
TZOFFSETFROM:+0200
TZOFFSETTO:+0100
TZNAME:CET
DTSTART:20251026T010000
END:STANDARD
END:VTIMEZONE
BEGIN:VEVENT
DTSTART;TZID=Europe/Stockholm:20241101T170000
DTEND;TZID=Europe/Stockholm:20241101T203000
DTSTAMP:20260420T071950
CREATED:20240829T100300Z
LAST-MODIFIED:20241007T173259Z
UID:5296-1730480400-1730493000@www.klrk.se
SUMMARY:Clear round hoppning
DESCRIPTION:Banbyggnad kl 17 i stora ridhuset \nFramhoppning i lilla ridhuset kl 18-20
URL:https://www.klrk.se/event/clear-round-hoppning-2/
LOCATION:Karlskrona Lyckå Ridklubbs stora ridhus\, Afvelsgärdevägen 27\, Karlskrona
END:VEVENT
BEGIN:VEVENT
DTSTART;TZID=Europe/Stockholm:20241109T170000
DTEND;TZID=Europe/Stockholm:20241109T233000
DTSTAMP:20260420T071950
CREATED:20241105T105928Z
LAST-MODIFIED:20241105T105952Z
UID:5609-1731171600-1731195000@www.klrk.se
SUMMARY:Banbyggnad WE-tävling
DESCRIPTION:Ridhuset är stängt från kl 17.
URL:https://www.klrk.se/event/banbyggnad-we-tavling/
LOCATION:Karlskrona Lyckå Ridklubbs stora ridhus\, Afvelsgärdevägen 27\, Karlskrona
END:VEVENT
BEGIN:VEVENT
DTSTART;TZID=Europe/Stockholm:20241110T080000
DTEND;TZID=Europe/Stockholm:20241110T170000
DTSTAMP:20260420T071950
CREATED:20241007T173554Z
LAST-MODIFIED:20241007T173601Z
UID:5423-1731225600-1731258000@www.klrk.se
SUMMARY:WE-tävling
DESCRIPTION:Framridning i lilla ridhuset
URL:https://www.klrk.se/event/we-tavling-4/
LOCATION:Karlskrona Lyckå Ridklubbs stora ridhus\, Afvelsgärdevägen 27\, Karlskrona
END:VEVENT
BEGIN:VEVENT
DTSTART;TZID=Europe/Stockholm:20241116T140000
DTEND;TZID=Europe/Stockholm:20241116T150000
DTSTAMP:20260420T071950
CREATED:20241112T211806Z
LAST-MODIFIED:20241112T212056Z
UID:5661-1731765600-1731769200@www.klrk.se
SUMMARY:Staketbygge
DESCRIPTION:Vi träffas kl.14 för att bygga staketet och iordningställa ridhuset inför söndagens dressyrtävling.
URL:https://www.klrk.se/event/staketbygge/
LOCATION:Karlskrona Lyckå Ridklubbs stora ridhus\, Afvelsgärdevägen 27\, Karlskrona
END:VEVENT
BEGIN:VEVENT
DTSTART;TZID=Europe/Stockholm:20241116T150000
DTEND;TZID=Europe/Stockholm:20241116T233000
DTSTAMP:20260420T071950
CREATED:20241112T212006Z
LAST-MODIFIED:20241112T212006Z
UID:5663-1731769200-1731799800@www.klrk.se
SUMMARY:Öppen bana i dressyr
DESCRIPTION:Här hittar du mer information om den öppna banan.
URL:https://www.klrk.se/event/oppen-bana-i-dressyr/
LOCATION:Karlskrona Lyckå Ridklubbs stora ridhus\, Afvelsgärdevägen 27\, Karlskrona
END:VEVENT
BEGIN:VEVENT
DTSTART;TZID=Europe/Stockholm:20241117T080000
DTEND;TZID=Europe/Stockholm:20241117T170000
DTSTAMP:20260420T071950
CREATED:20241007T173652Z
LAST-MODIFIED:20241007T173658Z
UID:5425-1731830400-1731862800@www.klrk.se
SUMMARY:Dressyrtävling
DESCRIPTION:Framridning i lilla ridhuset
URL:https://www.klrk.se/event/dressyrtavling-5/
LOCATION:Karlskrona Lyckå Ridklubbs stora ridhus\, Afvelsgärdevägen 27\, Karlskrona
END:VEVENT
BEGIN:VEVENT
DTSTART;TZID=Europe/Stockholm:20241130T150000
DTEND;TZID=Europe/Stockholm:20241130T233000
DTSTAMP:20260420T071950
CREATED:20241104T072550Z
LAST-MODIFIED:20241104T072557Z
UID:5576-1732978800-1733009400@www.klrk.se
SUMMARY:US-övernattning i cafeterian
DESCRIPTION:
URL:https://www.klrk.se/event/us-overnattning-i-cafeterian/
LOCATION:Karlskrona Lyckå ridklubbs cafeteria\, KARLSKRONA\, 37163\, Sweden
END:VEVENT
END:VCALENDAR