BEGIN:VCALENDAR
VERSION:2.0
PRODID:-//Karlskrona Lyckå Ridklubb - ECPv6.15.12.2//NONSGML v1.0//EN
CALSCALE:GREGORIAN
METHOD:PUBLISH
X-WR-CALNAME:Karlskrona Lyckå Ridklubb
X-ORIGINAL-URL:https://www.klrk.se
X-WR-CALDESC:Händelser för Karlskrona Lyckå Ridklubb
REFRESH-INTERVAL;VALUE=DURATION:PT1H
X-Robots-Tag:noindex
X-PUBLISHED-TTL:PT1H
BEGIN:VTIMEZONE
TZID:Europe/Stockholm
BEGIN:DAYLIGHT
TZOFFSETFROM:+0100
TZOFFSETTO:+0200
TZNAME:CEST
DTSTART:20230326T010000
END:DAYLIGHT
BEGIN:STANDARD
TZOFFSETFROM:+0200
TZOFFSETTO:+0100
TZNAME:CET
DTSTART:20231029T010000
END:STANDARD
BEGIN:DAYLIGHT
TZOFFSETFROM:+0100
TZOFFSETTO:+0200
TZNAME:CEST
DTSTART:20240331T010000
END:DAYLIGHT
BEGIN:STANDARD
TZOFFSETFROM:+0200
TZOFFSETTO:+0100
TZNAME:CET
DTSTART:20241027T010000
END:STANDARD
BEGIN:DAYLIGHT
TZOFFSETFROM:+0100
TZOFFSETTO:+0200
TZNAME:CEST
DTSTART:20250330T010000
END:DAYLIGHT
BEGIN:STANDARD
TZOFFSETFROM:+0200
TZOFFSETTO:+0100
TZNAME:CET
DTSTART:20251026T010000
END:STANDARD
END:VTIMEZONE
BEGIN:VEVENT
DTSTART;TZID=Europe/Stockholm:20241201T000000
DTEND;TZID=Europe/Stockholm:20241201T120000
DTSTAMP:20260420T034737
CREATED:20241104T072701Z
LAST-MODIFIED:20241104T072703Z
UID:5578-1733011200-1733054400@www.klrk.se
SUMMARY:US-övernattning i cafeterian
DESCRIPTION:
URL:https://www.klrk.se/event/us-overnattning-i-cafeterian-2/
LOCATION:Karlskrona Lyckå ridklubbs cafeteria\, KARLSKRONA\, 37163\, Sweden
END:VEVENT
BEGIN:VEVENT
DTSTART;TZID=Europe/Stockholm:20241207T080000
DTEND;TZID=Europe/Stockholm:20241207T170000
DTSTAMP:20260420T034737
CREATED:20241007T173924Z
LAST-MODIFIED:20241007T173946Z
UID:5427-1733558400-1733590800@www.klrk.se
SUMMARY:KLRK-Specialen
DESCRIPTION:Dressyr\, båda ridhusen upptagna från kl 13
URL:https://www.klrk.se/event/klrk-specialen/
LOCATION:Båda ridhusen
END:VEVENT
BEGIN:VEVENT
DTSTART;TZID=Europe/Stockholm:20241208T080000
DTEND;TZID=Europe/Stockholm:20241208T170000
DTSTAMP:20260420T034737
CREATED:20241007T174044Z
LAST-MODIFIED:20241007T174111Z
UID:5431-1733644800-1733677200@www.klrk.se
SUMMARY:KLRK Specialen
DESCRIPTION:Hoppning
URL:https://www.klrk.se/event/klrk-specialen-2/
LOCATION:Båda ridhusen
END:VEVENT
BEGIN:VEVENT
DTSTART;TZID=Europe/Stockholm:20241214T130000
DTEND;TZID=Europe/Stockholm:20241214T170000
DTSTAMP:20260420T034737
CREATED:20241007T174228Z
LAST-MODIFIED:20241007T174237Z
UID:5434-1734181200-1734195600@www.klrk.se
SUMMARY:Träning inför Jul showen
DESCRIPTION:
URL:https://www.klrk.se/event/traning-infor-jul-showen/
LOCATION:Båda ridhusen
END:VEVENT
BEGIN:VEVENT
DTSTART;TZID=Europe/Stockholm:20241214T130000
DTEND;TZID=Europe/Stockholm:20241215T170000
DTSTAMP:20260420T034737
CREATED:20241203T134227Z
LAST-MODIFIED:20241214T123648Z
UID:5719-1734181200-1734282000@www.klrk.se
SUMMARY:Bokning stora ridhuset pga julshow
DESCRIPTION:Förberedelser i stora ridhuset inför julshow från 13.00 lördag 14 december. \nJulshow i stora ridhuset söndag 15 december. Städning efter showens slut – bokningen kan därför vara svår att planera då det kan dra ut på tiden alternativt gå fortare än tänkt beroende på hur många som hjälper till.
URL:https://www.klrk.se/event/bokade-ridhus-for-julshowforberedelser-och-undanplockning-efterat/
LOCATION:Karlskrona Lyckå Ridklubbs stora ridhus\, Afvelsgärdevägen 27\, Karlskrona
ORGANIZER;CN="Karlskrona Lyck%C3%A5 Ridklubbs Ungdomsstyrelse US":MAILTO:us@klrk.se
END:VEVENT
BEGIN:VEVENT
DTSTART;TZID=Europe/Stockholm:20241215T130000
DTEND;TZID=Europe/Stockholm:20241215T160000
DTSTAMP:20260420T034737
CREATED:20241214T123532Z
LAST-MODIFIED:20241214T123532Z
UID:5780-1734267600-1734278400@www.klrk.se
SUMMARY:Bokning lilla ridhuset pga julshow
DESCRIPTION:
URL:https://www.klrk.se/event/bokning-lilla-ridhuset-pga-julshow/
LOCATION:Karlskrona Lyckå ridklubbs lilla ridhus\, Afvelsgärdevägen 27\, Karlskrona
ORGANIZER;CN="Karlskrona Lyck%C3%A5 Ridklubbs Ungdomsstyrelse US":MAILTO:us@klrk.se
END:VEVENT
BEGIN:VEVENT
DTSTART;TZID=Europe/Stockholm:20241215T140000
DTEND;TZID=Europe/Stockholm:20241215T150000
DTSTAMP:20260420T034737
CREATED:20241007T174333Z
LAST-MODIFIED:20241203T134011Z
UID:5436-1734271200-1734274800@www.klrk.se
SUMMARY:US årliga julshow
DESCRIPTION:Välkommen till US årliga julshow med ridande luciatåg\, uppträde\, årets häst och årets ponny presenteras samt vår nya hästar och ponnys i verksamheten. US prisar den eldsjäl och den stöttepelare som de utsett och det avslutas med godisregn. \nPå plats finns servering med julfika och annat gotte och avslutningsvis ponnyridning. \nObservera att julshowen med kort varsel kan komma att ställas in eller flyttas på grund av kvarkasmittan. Du som besökare behöver vara noga med att inte besöka stallarna på området utan enbart vistas på utsedda platser (parkering och ridhus) för att minimera smittrisk. \n 
URL:https://www.klrk.se/event/julshow-3/
LOCATION:Karlskrona Lyckå Ridklubbs stora ridhus\, Afvelsgärdevägen 27\, Karlskrona
ORGANIZER;CN="Karlskrona Lyck%C3%A5 Ridklubbs Ungdomsstyrelse US":MAILTO:us@klrk.se
END:VEVENT
BEGIN:VEVENT
DTSTART;TZID=Europe/Stockholm:20241222T080000
DTEND;TZID=Europe/Stockholm:20241222T130000
DTSTAMP:20260420T034737
CREATED:20241216T084316Z
LAST-MODIFIED:20241216T084320Z
UID:5788-1734854400-1734872400@www.klrk.se
SUMMARY:Löshoppning
DESCRIPTION:
URL:https://www.klrk.se/event/loshoppning-4/
LOCATION:Karlskrona Lyckå ridklubbs lilla ridhus\, Afvelsgärdevägen 27\, Karlskrona
END:VEVENT
BEGIN:VEVENT
DTSTART;TZID=Europe/Stockholm:20241226T090000
DTEND;TZID=Europe/Stockholm:20241226T120000
DTSTAMP:20260420T034737
CREATED:20241212T135830Z
LAST-MODIFIED:20241212T135830Z
UID:5751-1735203600-1735214400@www.klrk.se
SUMMARY:Dressyrkurs.
DESCRIPTION:
URL:https://www.klrk.se/event/dressyrkurs-7/
LOCATION:Karlskrona Lyckå Ridklubbs stora ridhus\, Afvelsgärdevägen 27\, Karlskrona
END:VEVENT
BEGIN:VEVENT
DTSTART;TZID=Europe/Stockholm:20241226T133000
DTEND;TZID=Europe/Stockholm:20241226T153000
DTSTAMP:20260420T034737
CREATED:20241212T140319Z
LAST-MODIFIED:20241212T140322Z
UID:5755-1735219800-1735227000@www.klrk.se
SUMMARY:Dagridläger 9.00-16.00
DESCRIPTION:Ridning 13.30-15.30
URL:https://www.klrk.se/event/dagridlager-9-00-16-00/
LOCATION:Karlskrona Lyckå ridklubbs lilla ridhus\, Afvelsgärdevägen 27\, Karlskrona
END:VEVENT
BEGIN:VEVENT
DTSTART;TZID=Europe/Stockholm:20241227T133000
DTEND;TZID=Europe/Stockholm:20241227T153000
DTSTAMP:20260420T034737
CREATED:20241212T140417Z
LAST-MODIFIED:20241212T143108Z
UID:5757-1735306200-1735313400@www.klrk.se
SUMMARY:Dagridläger 9.00-16.00
DESCRIPTION:Ridning 13.30-15.30
URL:https://www.klrk.se/event/dagridlager-9-00-16-00-2/
LOCATION:Karlskrona Lyckå ridklubbs lilla ridhus\, Afvelsgärdevägen 27\, Karlskrona
END:VEVENT
BEGIN:VEVENT
DTSTART;TZID=Europe/Stockholm:20241227T160000
DTEND;TZID=Europe/Stockholm:20241227T190000
DTSTAMP:20260420T034737
CREATED:20241212T135924Z
LAST-MODIFIED:20241212T135928Z
UID:5753-1735315200-1735326000@www.klrk.se
SUMMARY:Dressyrkurs
DESCRIPTION:
URL:https://www.klrk.se/event/dressyrkurs-8/
LOCATION:Karlskrona Lyckå Ridklubbs stora ridhus\, Afvelsgärdevägen 27\, Karlskrona
END:VEVENT
BEGIN:VEVENT
DTSTART;TZID=Europe/Stockholm:20241228T090000
DTEND;TZID=Europe/Stockholm:20241228T110000
DTSTAMP:20260420T034737
CREATED:20241212T143257Z
LAST-MODIFIED:20241212T143257Z
UID:5759-1735376400-1735383600@www.klrk.se
SUMMARY:Lingondressyr
DESCRIPTION:
URL:https://www.klrk.se/event/lingondressyr-9/
LOCATION:Karlskrona Lyckå Ridklubbs stora ridhus\, Afvelsgärdevägen 27\, Karlskrona
END:VEVENT
BEGIN:VEVENT
DTSTART;TZID=Europe/Stockholm:20241228T110000
DTEND;TZID=Europe/Stockholm:20241228T120000
DTSTAMP:20260420T034737
CREATED:20241212T143550Z
LAST-MODIFIED:20241213T085038Z
UID:5761-1735383600-1735387200@www.klrk.se
SUMMARY:Para dag 10.00-14.00
DESCRIPTION:
URL:https://www.klrk.se/event/para-ridning/
LOCATION:Karlskrona Lyckå ridklubbs lilla ridhus\, Afvelsgärdevägen 27\, Karlskrona
END:VEVENT
BEGIN:VEVENT
DTSTART;TZID=Europe/Stockholm:20241230T170000
DTEND;TZID=Europe/Stockholm:20241230T190000
DTSTAMP:20260420T034737
CREATED:20241213T084330Z
LAST-MODIFIED:20241213T084836Z
UID:5766-1735578000-1735585200@www.klrk.se
SUMMARY:Ridlektion
DESCRIPTION:
URL:https://www.klrk.se/event/ridlektion-2/
LOCATION:Karlskrona Lyckå Ridklubbs stora ridhus\, Afvelsgärdevägen 27\, Karlskrona
END:VEVENT
END:VCALENDAR