BEGIN:VCALENDAR
VERSION:2.0
PRODID:-//Karlskrona Lyckå Ridklubb - ECPv6.15.12.2//NONSGML v1.0//EN
CALSCALE:GREGORIAN
METHOD:PUBLISH
X-ORIGINAL-URL:https://www.klrk.se
X-WR-CALDESC:Händelser för Karlskrona Lyckå Ridklubb
REFRESH-INTERVAL;VALUE=DURATION:PT1H
X-Robots-Tag:noindex
X-PUBLISHED-TTL:PT1H
BEGIN:VTIMEZONE
TZID:Europe/Stockholm
BEGIN:DAYLIGHT
TZOFFSETFROM:+0100
TZOFFSETTO:+0200
TZNAME:CEST
DTSTART:20240331T010000
END:DAYLIGHT
BEGIN:STANDARD
TZOFFSETFROM:+0200
TZOFFSETTO:+0100
TZNAME:CET
DTSTART:20241027T010000
END:STANDARD
BEGIN:DAYLIGHT
TZOFFSETFROM:+0100
TZOFFSETTO:+0200
TZNAME:CEST
DTSTART:20250330T010000
END:DAYLIGHT
BEGIN:STANDARD
TZOFFSETFROM:+0200
TZOFFSETTO:+0100
TZNAME:CET
DTSTART:20251026T010000
END:STANDARD
BEGIN:DAYLIGHT
TZOFFSETFROM:+0100
TZOFFSETTO:+0200
TZNAME:CEST
DTSTART:20260329T010000
END:DAYLIGHT
BEGIN:STANDARD
TZOFFSETFROM:+0200
TZOFFSETTO:+0100
TZNAME:CET
DTSTART:20261025T010000
END:STANDARD
END:VTIMEZONE
BEGIN:VEVENT
DTSTART;TZID=Europe/Stockholm:20250102T133000
DTEND;TZID=Europe/Stockholm:20250102T153000
DTSTAMP:20260420T002114
CREATED:20241213T084606Z
LAST-MODIFIED:20241213T084609Z
UID:5772-1735824600-1735831800@www.klrk.se
SUMMARY:Dagläger 09.00-16.00
DESCRIPTION:Ridning 13.30-15.30
URL:https://www.klrk.se/event/daglager-09-00-16-00/
LOCATION:Karlskrona Lyckå ridklubbs lilla ridhus\, Afvelsgärdevägen 27\, Karlskrona
END:VEVENT
BEGIN:VEVENT
DTSTART;TZID=Europe/Stockholm:20250102T160000
DTEND;TZID=Europe/Stockholm:20250102T190000
DTSTAMP:20260420T002114
CREATED:20241213T084425Z
LAST-MODIFIED:20241213T084810Z
UID:5768-1735833600-1735844400@www.klrk.se
SUMMARY:Kavaletti kurs
DESCRIPTION:
URL:https://www.klrk.se/event/kavaletti-kurs-3/
LOCATION:Karlskrona Lyckå Ridklubbs stora ridhus\, Afvelsgärdevägen 27\, Karlskrona
END:VEVENT
BEGIN:VEVENT
DTSTART;TZID=Europe/Stockholm:20250103T133000
DTEND;TZID=Europe/Stockholm:20250103T153000
DTSTAMP:20260420T002114
CREATED:20241213T084657Z
LAST-MODIFIED:20241213T084700Z
UID:5774-1735911000-1735918200@www.klrk.se
SUMMARY:Dagläger 09.00-16.00
DESCRIPTION:Ridning 13.30-15.30
URL:https://www.klrk.se/event/daglager-09-00-16-00-2/
LOCATION:Karlskrona Lyckå ridklubbs lilla ridhus\, Afvelsgärdevägen 27\, Karlskrona
END:VEVENT
BEGIN:VEVENT
DTSTART;TZID=Europe/Stockholm:20250103T160000
DTEND;TZID=Europe/Stockholm:20250103T190000
DTSTAMP:20260420T002114
CREATED:20241213T084458Z
LAST-MODIFIED:20241213T084742Z
UID:5770-1735920000-1735930800@www.klrk.se
SUMMARY:Kavaletti kurs
DESCRIPTION:
URL:https://www.klrk.se/event/kavaletti-kurs-4/
LOCATION:Karlskrona Lyckå Ridklubbs stora ridhus\, Afvelsgärdevägen 27\, Karlskrona
END:VEVENT
BEGIN:VEVENT
DTSTART;TZID=Europe/Stockholm:20250104T090000
DTEND;TZID=Europe/Stockholm:20250104T123000
DTSTAMP:20260420T002114
CREATED:20250103T221008Z
LAST-MODIFIED:20250103T221008Z
UID:5891-1735981200-1735993800@www.klrk.se
SUMMARY:Clear round
DESCRIPTION:Vi har hoppningen i stora ridhuset med framhoppning i lilla ridhuset. \nBangång 09.00-09.30 för de som har möjlighet. \nRidskoleryttare: du som är först på din häst hämtar den i stallet\, kommer upp till stora ridhuset enligt startlistan. Efter hoppningen rider du ner på stora banan där nästa ryttare tar över hästen. Ni blir inropade i Lilla ridhuset när det är er tur att rida fram. \nGrupp 1\, startnummer 1-7 har framhoppning i Stora ridhuset 09.30 \nFörsta start kl 10.00 \nGrupp 2\, startnummer 8-12 framhoppning Lilla ridhuset 09.40. \nGrupp 3\, startnummer 15-20. samling på stora utebanan 09.50. \nGrupp 4\, startnummer 18-23 Framridning Lilla ridhuset  10.40 \nGrupp 5\, startnummer 24-27 Framridning Lilla ridhuset 11.00 \nGrupp 6\, startnummer 30-33 Framridning Stora banan 11.00 \n  \n 
URL:https://www.klrk.se/event/clear-round-10/
LOCATION:Båda ridhusen
END:VEVENT
BEGIN:VEVENT
DTSTART;VALUE=DATE:20250106
DTEND;VALUE=DATE:20250107
DTSTAMP:20260420T002114
CREATED:20250106T100016Z
LAST-MODIFIED:20250106T100016Z
UID:5894-1736121600-1736207999@www.klrk.se
SUMMARY:Ridlektioner startar igen
DESCRIPTION:
URL:https://www.klrk.se/event/ridlektioner-startar-igen/
END:VEVENT
END:VCALENDAR